| Back to Multiple platform build/check report for BioC 3.13 |
|
This page was generated on 2021-10-15 15:06:02 -0400 (Fri, 15 Oct 2021).
|
To the developers/maintainers of the derfinder package: - Please allow up to 24 hours (and sometimes 48 hours) for your latest push to git@git.bioconductor.org:packages/derfinder.git to reflect on this report. See How and When does the builder pull? When will my changes propagate? here for more information. - Make sure to use the following settings in order to reproduce any error or warning you see on this page. |
| Package 481/2041 | Hostname | OS / Arch | INSTALL | BUILD | CHECK | BUILD BIN | ||||||||
| derfinder 1.26.0 (landing page) Leonardo Collado-Torres
| nebbiolo1 | Linux (Ubuntu 20.04.2 LTS) / x86_64 | OK | OK | OK | |||||||||
| tokay2 | Windows Server 2012 R2 Standard / x64 | OK | OK | OK | OK | |||||||||
| machv2 | macOS 10.14.6 Mojave / x86_64 | OK | OK | OK | OK | |||||||||
| Package: derfinder |
| Version: 1.26.0 |
| Command: rm -rf derfinder.buildbin-libdir && mkdir derfinder.buildbin-libdir && C:\Users\biocbuild\bbs-3.13-bioc\R\bin\R.exe CMD INSTALL --merge-multiarch --build --library=derfinder.buildbin-libdir derfinder_1.26.0.tar.gz |
| StartedAt: 2021-10-15 08:56:38 -0400 (Fri, 15 Oct 2021) |
| EndedAt: 2021-10-15 08:58:11 -0400 (Fri, 15 Oct 2021) |
| EllapsedTime: 92.7 seconds |
| RetCode: 0 |
| Status: OK |
| PackageFile: derfinder_1.26.0.zip |
| PackageFileSize: 1.364 MiB |
##############################################################################
##############################################################################
###
### Running command:
###
### rm -rf derfinder.buildbin-libdir && mkdir derfinder.buildbin-libdir && C:\Users\biocbuild\bbs-3.13-bioc\R\bin\R.exe CMD INSTALL --merge-multiarch --build --library=derfinder.buildbin-libdir derfinder_1.26.0.tar.gz
###
##############################################################################
##############################################################################
install for i386
* installing *source* package 'derfinder' ...
** using staged installation
** R
** data
*** moving datasets to lazyload DB
** inst
** byte-compile and prepare package for lazy loading
** help
*** installing help indices
converting help for package 'derfinder'
finding HTML links ... done
analyzeChr html
annotateRegions html
calculatePvalues html
calculateStats html
coerceGR html
collapseFullCoverage html
coverageToExon html
createBw html
createBwSample html
define_cluster html
derfinder-deprecated html
derfinder-package html
extendedMapSeqlevels html
filterData html
findRegions html
fullCoverage html
genomeData html
genomeDataRaw html
genomeFstats html
genomeInfo html
genomeRegions html
genomicState html
getRegionCoverage html
getTotalMapped html
loadCoverage html
makeGenomicState html
makeModels html
mergeResults html
preprocessCoverage html
railMatrix html
rawFiles html
regionMatrix html
sampleDepth html
** building package indices
** installing vignettes
** testing if installed package can be loaded from temporary location
** testing if installed package can be loaded from final location
** testing if installed package keeps a record of temporary installation path
install for x64
* installing *source* package 'derfinder' ...
** testing if installed package can be loaded
* MD5 sums
packaged installation of 'derfinder' as derfinder_1.26.0.zip
* DONE (derfinder)