| Back to Multiple platform build/check report for BioC 3.13 |
|
This page was generated on 2021-10-15 15:06:02 -0400 (Fri, 15 Oct 2021).
|
To the developers/maintainers of the deltaCaptureC package: - Please allow up to 24 hours (and sometimes 48 hours) for your latest push to git@git.bioconductor.org:packages/deltaCaptureC.git to reflect on this report. See How and When does the builder pull? When will my changes propagate? here for more information. - Make sure to use the following settings in order to reproduce any error or warning you see on this page. |
| Package 473/2041 | Hostname | OS / Arch | INSTALL | BUILD | CHECK | BUILD BIN | ||||||||
| deltaCaptureC 1.6.0 (landing page) Michael Shapiro
| nebbiolo1 | Linux (Ubuntu 20.04.2 LTS) / x86_64 | OK | OK | OK | |||||||||
| tokay2 | Windows Server 2012 R2 Standard / x64 | OK | OK | OK | OK | |||||||||
| machv2 | macOS 10.14.6 Mojave / x86_64 | OK | OK | OK | OK | |||||||||
| Package: deltaCaptureC |
| Version: 1.6.0 |
| Command: rm -rf deltaCaptureC.buildbin-libdir && mkdir deltaCaptureC.buildbin-libdir && C:\Users\biocbuild\bbs-3.13-bioc\R\bin\R.exe CMD INSTALL --merge-multiarch --build --library=deltaCaptureC.buildbin-libdir deltaCaptureC_1.6.0.tar.gz |
| StartedAt: 2021-10-15 08:55:35 -0400 (Fri, 15 Oct 2021) |
| EndedAt: 2021-10-15 08:57:02 -0400 (Fri, 15 Oct 2021) |
| EllapsedTime: 87.1 seconds |
| RetCode: 0 |
| Status: OK |
| PackageFile: deltaCaptureC_1.6.0.zip |
| PackageFileSize: 679 KiB |
##############################################################################
##############################################################################
###
### Running command:
###
### rm -rf deltaCaptureC.buildbin-libdir && mkdir deltaCaptureC.buildbin-libdir && C:\Users\biocbuild\bbs-3.13-bioc\R\bin\R.exe CMD INSTALL --merge-multiarch --build --library=deltaCaptureC.buildbin-libdir deltaCaptureC_1.6.0.tar.gz
###
##############################################################################
##############################################################################
install for i386
* installing *source* package 'deltaCaptureC' ...
** using staged installation
** R
** data
*** moving datasets to lazyload DB
** inst
** byte-compile and prepare package for lazy loading
** help
*** installing help indices
converting help for package 'deltaCaptureC'
finding HTML links ... done
bigBinSize html
binSummarizedExperiment html
binnedDeltaPlot html
binnedDeltaSE html
binnedSummarizedExperiment html
deltaSE html
dot-getRunsAndTotals html
downshiftDFtoMatrix html
generatePermutation html
getDeltaSE html
getLopsidedness html
getMeanNormalizedCountsSE html
getNormalizedCountsSE html
getOverlapWeights html
getPValueCutoff html
getRunAndLopsidednessStatistics html
getRunStatistics html
getRunStatisticsDist html
getRunTotals html
getSignificantRegions html
getSizeFactorsDF html
getSizeFactorsSE html
miniDeltaSE html
miniSE html
miniSEDF html
numPermutations html
pValue html
plotSignificantRegions html
plotTitle html
rebinToMultiple html
regionOfInterest html
significanceType html
significantRegions html
significantRegionsPlot html
smallBinSize html
smallBins html
smallSetOfSmallBins html
smallerDeltaSE html
viewpointRegion html
weightsExampleBins html
weightsExampleGr html
** building package indices
** installing vignettes
** testing if installed package can be loaded from temporary location
** testing if installed package can be loaded from final location
** testing if installed package keeps a record of temporary installation path
install for x64
* installing *source* package 'deltaCaptureC' ...
** testing if installed package can be loaded
* MD5 sums
packaged installation of 'deltaCaptureC' as deltaCaptureC_1.6.0.zip
* DONE (deltaCaptureC)