Back to Multiple platform build/check report for BioC 3.13 |
|
This page was generated on 2021-10-15 15:06:33 -0400 (Fri, 15 Oct 2021).
To the developers/maintainers of the deepSNV package: - Please allow up to 24 hours (and sometimes 48 hours) for your latest push to git@git.bioconductor.org:packages/deepSNV.git to reflect on this report. See How and When does the builder pull? When will my changes propagate? here for more information. - Make sure to use the following settings in order to reproduce any error or warning you see on this page. |
Package 463/2041 | Hostname | OS / Arch | INSTALL | BUILD | CHECK | BUILD BIN | ||||||||
deepSNV 1.38.0 (landing page) Moritz Gerstung
| nebbiolo1 | Linux (Ubuntu 20.04.2 LTS) / x86_64 | OK | OK | OK | ![]() | ||||||||
tokay2 | Windows Server 2012 R2 Standard / x64 | OK | OK | OK | OK | ![]() | ||||||||
machv2 | macOS 10.14.6 Mojave / x86_64 | OK | OK | OK | OK | ![]() | ||||||||
Package: deepSNV |
Version: 1.38.0 |
Command: rm -rf deepSNV.buildbin-libdir && mkdir deepSNV.buildbin-libdir && /Users/biocbuild/BBS/utils/build-universal.sh deepSNV_1.38.0.tar.gz /Library/Frameworks/R.framework/Versions/Current/Resources/bin/R deepSNV.buildbin-libdir |
StartedAt: 2021-10-15 02:09:22 -0400 (Fri, 15 Oct 2021) |
EndedAt: 2021-10-15 02:10:33 -0400 (Fri, 15 Oct 2021) |
EllapsedTime: 71.0 seconds |
RetCode: 0 |
Status: OK |
PackageFile: deepSNV_1.38.0.tgz |
PackageFileSize: 3.117 MiB |
############################################################################## ############################################################################## ### ### Running command: ### ### rm -rf deepSNV.buildbin-libdir && mkdir deepSNV.buildbin-libdir && /Users/biocbuild/BBS/utils/build-universal.sh deepSNV_1.38.0.tar.gz /Library/Frameworks/R.framework/Versions/Current/Resources/bin/R deepSNV.buildbin-libdir ### ############################################################################## ############################################################################## >>>>>>> >>>>>>> INSTALLATION WITH 'R CMD INSTALL --preclean --no-multiarch --library=deepSNV.buildbin-libdir deepSNV_1.38.0.tar.gz' >>>>>>> * installing *source* package ‘deepSNV’ ... ** using staged installation ** libs clang++ -mmacosx-version-min=10.13 -std=gnu++14 -I"/Library/Frameworks/R.framework/Resources/include" -DNDEBUG -D_FILE_OFFSET_BITS=64 -I'/Library/Frameworks/R.framework/Versions/4.1/Resources/library/Rhtslib/include' -I/usr/local/include -fPIC -Wall -g -O2 -c bam2R.cpp -o bam2R.o bam2R.cpp:97:13: warning: unused variable 'iter' [-Wunused-variable] hts_itr_t *iter = NULL; ^ bam2R.cpp:100:6: warning: unused variable 'c' [-Wunused-variable] int c = 0; ^ 2 warnings generated. clang -mmacosx-version-min=10.13 -I"/Library/Frameworks/R.framework/Resources/include" -DNDEBUG -D_FILE_OFFSET_BITS=64 -I'/Library/Frameworks/R.framework/Versions/4.1/Resources/library/Rhtslib/include' -I/usr/local/include -fPIC -Wall -g -O2 -c betabinom.c -o betabinom.o betabinom.c:27:9: warning: unused variable 'log' [-Wunused-variable] int i, log=0; ^ 1 warning generated. clang++ -mmacosx-version-min=10.13 -std=gnu++14 -dynamiclib -Wl,-headerpad_max_install_names -undefined dynamic_lookup -single_module -multiply_defined suppress -L/Library/Frameworks/R.framework/Resources/lib -L/usr/local/lib -o deepSNV.so bam2R.o betabinom.o /Library/Frameworks/R.framework/Versions/4.1/Resources/library/Rhtslib/usrlib/libhts.a -lcurl -F/Library/Frameworks/R.framework/.. -framework R -Wl,-framework -Wl,CoreFoundation installing to /Users/biocbuild/bbs-3.13-bioc/meat/deepSNV.buildbin-libdir/00LOCK-deepSNV/00new/deepSNV/libs ** R ** data ** inst ** byte-compile and prepare package for lazy loading ** help *** installing help indices ** building package indices ** installing vignettes ** testing if installed package can be loaded from temporary location ** checking absolute paths in shared objects and dynamic libraries ** testing if installed package can be loaded from final location ** testing if installed package keeps a record of temporary installation path * DONE (deepSNV) >>>>>>> >>>>>>> FIXING LINKS FOR deepSNV.buildbin-libdir/deepSNV/libs/deepSNV.so >>>>>>> install_name_tool -change "/usr/local/lib/libgcc_s.1.dylib" "/Library/Frameworks/R.framework/Versions/4.1/Resources/lib/libgcc_s.1.dylib" "deepSNV.buildbin-libdir/deepSNV/libs/deepSNV.so" install_name_tool -change "/usr/local/lib/libgfortran.5.dylib" "/Library/Frameworks/R.framework/Versions/4.1/Resources/lib/libgfortran.5.dylib" "deepSNV.buildbin-libdir/deepSNV/libs/deepSNV.so" install_name_tool -change "/usr/local/lib/libquadmath.0.dylib" "/Library/Frameworks/R.framework/Versions/4.1/Resources/lib/libquadmath.0.dylib" "deepSNV.buildbin-libdir/deepSNV/libs/deepSNV.so"