| Back to Multiple platform build/check report for BioC 3.13 |
|
This page was generated on 2021-10-15 15:06:02 -0400 (Fri, 15 Oct 2021).
|
To the developers/maintainers of the ddCt package: - Please allow up to 24 hours (and sometimes 48 hours) for your latest push to git@git.bioconductor.org:packages/ddCt.git to reflect on this report. See How and When does the builder pull? When will my changes propagate? here for more information. - Make sure to use the following settings in order to reproduce any error or warning you see on this page. |
| Package 449/2041 | Hostname | OS / Arch | INSTALL | BUILD | CHECK | BUILD BIN | ||||||||
| ddCt 1.48.0 (landing page) Jitao David Zhang
| nebbiolo1 | Linux (Ubuntu 20.04.2 LTS) / x86_64 | OK | OK | OK | |||||||||
| tokay2 | Windows Server 2012 R2 Standard / x64 | OK | OK | OK | OK | |||||||||
| machv2 | macOS 10.14.6 Mojave / x86_64 | OK | OK | OK | OK | |||||||||
| Package: ddCt |
| Version: 1.48.0 |
| Command: rm -rf ddCt.buildbin-libdir && mkdir ddCt.buildbin-libdir && C:\Users\biocbuild\bbs-3.13-bioc\R\bin\R.exe CMD INSTALL --merge-multiarch --build --library=ddCt.buildbin-libdir ddCt_1.48.0.tar.gz |
| StartedAt: 2021-10-15 08:52:23 -0400 (Fri, 15 Oct 2021) |
| EndedAt: 2021-10-15 08:53:29 -0400 (Fri, 15 Oct 2021) |
| EllapsedTime: 67.0 seconds |
| RetCode: 0 |
| Status: OK |
| PackageFile: ddCt_1.48.0.zip |
| PackageFileSize: 1.2 MiB |
##############################################################################
##############################################################################
###
### Running command:
###
### rm -rf ddCt.buildbin-libdir && mkdir ddCt.buildbin-libdir && C:\Users\biocbuild\bbs-3.13-bioc\R\bin\R.exe CMD INSTALL --merge-multiarch --build --library=ddCt.buildbin-libdir ddCt_1.48.0.tar.gz
###
##############################################################################
##############################################################################
install for i386
* installing *source* package 'ddCt' ...
** using staged installation
** R
** inst
** byte-compile and prepare package for lazy loading
** help
*** installing help indices
converting help for package 'ddCt'
finding HTML links ... done
InputFrame html
InputReader-class html
QuantStudioFrame html
SDMFrame-class html
SDMFrame html
barploterrbar html
ddCtAbsolute html
finding level-2 HTML links ... done
ddCtExpression-class html
ddCtExpression-methods html
elistWrite-methods html
errBarchart-methods html
errBarchartParameter-class html
getDir html
removeNTC-methods html
replaceVectorByEquality html
write.htmltable html
writeSimpleTabCsv html
** building package indices
** installing vignettes
** testing if installed package can be loaded from temporary location
** testing if installed package can be loaded from final location
** testing if installed package keeps a record of temporary installation path
install for x64
* installing *source* package 'ddCt' ...
** testing if installed package can be loaded
* MD5 sums
packaged installation of 'ddCt' as ddCt_1.48.0.zip
* DONE (ddCt)