| Back to Multiple platform build/check report for BioC 3.13 |
|
This page was generated on 2021-10-15 15:06:33 -0400 (Fri, 15 Oct 2021).
|
To the developers/maintainers of the dada2 package: - Please allow up to 24 hours (and sometimes 48 hours) for your latest push to git@git.bioconductor.org:packages/dada2.git to reflect on this report. See How and When does the builder pull? When will my changes propagate? here for more information. - Make sure to use the following settings in order to reproduce any error or warning you see on this page. |
| Package 437/2041 | Hostname | OS / Arch | INSTALL | BUILD | CHECK | BUILD BIN | ||||||||
| dada2 1.20.0 (landing page) Benjamin Callahan
| nebbiolo1 | Linux (Ubuntu 20.04.2 LTS) / x86_64 | OK | OK | OK | |||||||||
| tokay2 | Windows Server 2012 R2 Standard / x64 | OK | OK | OK | OK | |||||||||
| machv2 | macOS 10.14.6 Mojave / x86_64 | OK | OK | OK | OK | |||||||||
| Package: dada2 |
| Version: 1.20.0 |
| Command: /Library/Frameworks/R.framework/Versions/Current/Resources/bin/R CMD check --install=check:dada2.install-out.txt --library=/Library/Frameworks/R.framework/Versions/Current/Resources/library --no-vignettes --timings dada2_1.20.0.tar.gz |
| StartedAt: 2021-10-14 18:02:05 -0400 (Thu, 14 Oct 2021) |
| EndedAt: 2021-10-14 18:07:07 -0400 (Thu, 14 Oct 2021) |
| EllapsedTime: 301.9 seconds |
| RetCode: 0 |
| Status: OK |
| CheckDir: dada2.Rcheck |
| Warnings: 0 |
##############################################################################
##############################################################################
###
### Running command:
###
### /Library/Frameworks/R.framework/Versions/Current/Resources/bin/R CMD check --install=check:dada2.install-out.txt --library=/Library/Frameworks/R.framework/Versions/Current/Resources/library --no-vignettes --timings dada2_1.20.0.tar.gz
###
##############################################################################
##############################################################################
* using log directory ‘/Users/biocbuild/bbs-3.13-bioc/meat/dada2.Rcheck’
* using R version 4.1.1 (2021-08-10)
* using platform: x86_64-apple-darwin17.0 (64-bit)
* using session charset: UTF-8
* using option ‘--no-vignettes’
* checking for file ‘dada2/DESCRIPTION’ ... OK
* checking extension type ... Package
* this is package ‘dada2’ version ‘1.20.0’
* checking package namespace information ... OK
* checking package dependencies ... OK
* checking if this is a source package ... OK
* checking if there is a namespace ... OK
* checking for hidden files and directories ... NOTE
Found the following hidden files and directories:
.git_fetch_output.txt
.git_merge_output.txt
.travis.yml
These were most likely included in error. See section ‘Package
structure’ in the ‘Writing R Extensions’ manual.
* checking for portable file names ... OK
* checking for sufficient/correct file permissions ... OK
* checking whether package ‘dada2’ can be installed ... OK
* checking installed package size ... OK
* checking package directory ... OK
* checking ‘build’ directory ... OK
* checking DESCRIPTION meta-information ... OK
* checking top-level files ... NOTE
File
LICENSE
is not mentioned in the DESCRIPTION file.
* checking for left-over files ... OK
* checking index information ... OK
* checking package subdirectories ... OK
* checking R files for non-ASCII characters ... OK
* checking R files for syntax errors ... OK
* checking whether the package can be loaded ... OK
* checking whether the package can be loaded with stated dependencies ... OK
* checking whether the package can be unloaded cleanly ... OK
* checking whether the namespace can be loaded with stated dependencies ... OK
* checking whether the namespace can be unloaded cleanly ... OK
* checking dependencies in R code ... NOTE
Unexported object imported by a ':::' call: ‘ShortRead:::.set_omp_threads’
See the note in ?`:::` about the use of this operator.
There are ::: calls to the package's namespace in its code. A package
almost never needs to use ::: for its own objects:
‘C_isACGT’ ‘matchGenera’
* checking S3 generic/method consistency ... OK
* checking replacement functions ... OK
* checking foreign function calls ... NOTE
Foreign function call to a different package:
.Call(ShortRead:::.set_omp_threads, ...)
See chapter ‘System and foreign language interfaces’ in the ‘Writing R
Extensions’ manual.
* checking R code for possible problems ... NOTE
tax.check: warning in assignTaxonomy(sq.test, fn.tax, multi = TRUE):
partial argument match of 'multi' to 'multithread'
plotComplexity: no visible binding for global variable ‘complexity’
plotErrors: no visible binding for global variable ‘Qual’
plotErrors: no visible binding for global variable ‘Observed’
plotErrors: no visible binding for global variable ‘Input’
plotErrors: no visible binding for global variable ‘Estimated’
plotErrors: no visible binding for global variable ‘Nominal’
plotQualityProfile: no visible binding for global variable ‘Cycle’
plotQualityProfile: no visible binding for global variable ‘Score’
plotQualityProfile: no visible binding for global variable ‘Count’
plotQualityProfile: no visible binding for global variable ‘Mean’
plotQualityProfile: no visible binding for global variable ‘Q25’
plotQualityProfile: no visible binding for global variable ‘Q50’
plotQualityProfile: no visible binding for global variable ‘Q75’
plotQualityProfile: no visible binding for global variable ‘Cum’
tax.check: no visible binding for global variable ‘fn.spc’
Undefined global functions or variables:
Count Cum Cycle Estimated Input Mean Nominal Observed Q25 Q50 Q75
Qual Score complexity fn.spc
* checking Rd files ... OK
* checking Rd metadata ... OK
* checking Rd cross-references ... OK
* checking for missing documentation entries ... OK
* checking for code/documentation mismatches ... OK
* checking Rd \usage sections ... OK
* checking Rd contents ... OK
* checking for unstated dependencies in examples ... OK
* checking contents of ‘data’ directory ... OK
* checking data for non-ASCII characters ... OK
* checking LazyData ... OK
* checking data for ASCII and uncompressed saves ... OK
* checking line endings in C/C++/Fortran sources/headers ... OK
* checking line endings in Makefiles ... OK
* checking compilation flags in Makevars ... OK
* checking for GNU extensions in Makefiles ... NOTE
GNU make is a SystemRequirements.
* checking for portable use of $(BLAS_LIBS) and $(LAPACK_LIBS) ... OK
* checking use of PKG_*FLAGS in Makefiles ... NOTE
PKG_CFLAGS set in ‘src/Makevars.win’ without any corresponding files
* checking compiled code ... NOTE
Note: information on .o files is not available
* checking files in ‘vignettes’ ... OK
* checking examples ... OK
Examples with CPU (user + system) or elapsed time > 5s
user system elapsed
learnErrors 5.185 0.435 4.492
PacBioErrfun 5.017 0.050 5.074
* checking for unstated dependencies in vignettes ... OK
* checking package vignettes in ‘inst/doc’ ... OK
* checking running R code from vignettes ... SKIPPED
* checking re-building of vignette outputs ... SKIPPED
* checking PDF version of manual ... OK
* DONE
Status: 8 NOTEs
See
‘/Users/biocbuild/bbs-3.13-bioc/meat/dada2.Rcheck/00check.log’
for details.
dada2.Rcheck/00install.out
##############################################################################
##############################################################################
###
### Running command:
###
### /Library/Frameworks/R.framework/Versions/Current/Resources/bin/R CMD INSTALL dada2
###
##############################################################################
##############################################################################
* installing to library ‘/Library/Frameworks/R.framework/Versions/4.1/Resources/library’
* installing *source* package ‘dada2’ ...
** using staged installation
** libs
clang++ -mmacosx-version-min=10.13 -std=gnu++11 -I"/Library/Frameworks/R.framework/Resources/include" -DNDEBUG -I'/Library/Frameworks/R.framework/Versions/4.1/Resources/library/Rcpp/include' -I'/Library/Frameworks/R.framework/Versions/4.1/Resources/library/RcppParallel/include' -I/usr/local/include -fPIC -Wall -g -O2 -c RcppExports.cpp -o RcppExports.o
In file included from RcppExports.cpp:4:
In file included from ./../inst/include/dada2.h:7:
./../inst/include/dada2_RcppExports.h:14:14: warning: unused function 'validateSignature' [-Wunused-function]
void validateSignature(const char* sig) {
^
1 warning generated.
clang++ -mmacosx-version-min=10.13 -std=gnu++11 -I"/Library/Frameworks/R.framework/Resources/include" -DNDEBUG -I'/Library/Frameworks/R.framework/Versions/4.1/Resources/library/Rcpp/include' -I'/Library/Frameworks/R.framework/Versions/4.1/Resources/library/RcppParallel/include' -I/usr/local/include -fPIC -Wall -g -O2 -c Rmain.cpp -o Rmain.o
clang++ -mmacosx-version-min=10.13 -std=gnu++11 -I"/Library/Frameworks/R.framework/Resources/include" -DNDEBUG -I'/Library/Frameworks/R.framework/Versions/4.1/Resources/library/Rcpp/include' -I'/Library/Frameworks/R.framework/Versions/4.1/Resources/library/RcppParallel/include' -I/usr/local/include -fPIC -Wall -g -O2 -c chimera.cpp -o chimera.o
clang++ -mmacosx-version-min=10.13 -std=gnu++11 -I"/Library/Frameworks/R.framework/Resources/include" -DNDEBUG -I'/Library/Frameworks/R.framework/Versions/4.1/Resources/library/Rcpp/include' -I'/Library/Frameworks/R.framework/Versions/4.1/Resources/library/RcppParallel/include' -I/usr/local/include -fPIC -Wall -g -O2 -c cluster.cpp -o cluster.o
clang++ -mmacosx-version-min=10.13 -std=gnu++11 -I"/Library/Frameworks/R.framework/Resources/include" -DNDEBUG -I'/Library/Frameworks/R.framework/Versions/4.1/Resources/library/Rcpp/include' -I'/Library/Frameworks/R.framework/Versions/4.1/Resources/library/RcppParallel/include' -I/usr/local/include -fPIC -Wall -g -O2 -c containers.cpp -o containers.o
clang++ -mmacosx-version-min=10.13 -std=gnu++11 -I"/Library/Frameworks/R.framework/Resources/include" -DNDEBUG -I'/Library/Frameworks/R.framework/Versions/4.1/Resources/library/Rcpp/include' -I'/Library/Frameworks/R.framework/Versions/4.1/Resources/library/RcppParallel/include' -I/usr/local/include -fPIC -Wall -g -O2 -c error.cpp -o error.o
clang++ -mmacosx-version-min=10.13 -std=gnu++11 -I"/Library/Frameworks/R.framework/Resources/include" -DNDEBUG -I'/Library/Frameworks/R.framework/Versions/4.1/Resources/library/Rcpp/include' -I'/Library/Frameworks/R.framework/Versions/4.1/Resources/library/RcppParallel/include' -I/usr/local/include -fPIC -Wall -g -O2 -c evaluate.cpp -o evaluate.o
clang++ -mmacosx-version-min=10.13 -std=gnu++11 -I"/Library/Frameworks/R.framework/Resources/include" -DNDEBUG -I'/Library/Frameworks/R.framework/Versions/4.1/Resources/library/Rcpp/include' -I'/Library/Frameworks/R.framework/Versions/4.1/Resources/library/RcppParallel/include' -I/usr/local/include -fPIC -Wall -g -O2 -c filter.cpp -o filter.o
clang++ -mmacosx-version-min=10.13 -std=gnu++11 -I"/Library/Frameworks/R.framework/Resources/include" -DNDEBUG -I'/Library/Frameworks/R.framework/Versions/4.1/Resources/library/Rcpp/include' -I'/Library/Frameworks/R.framework/Versions/4.1/Resources/library/RcppParallel/include' -I/usr/local/include -fPIC -Wall -g -O2 -c kmers.cpp -o kmers.o
clang++ -mmacosx-version-min=10.13 -std=gnu++11 -I"/Library/Frameworks/R.framework/Resources/include" -DNDEBUG -I'/Library/Frameworks/R.framework/Versions/4.1/Resources/library/Rcpp/include' -I'/Library/Frameworks/R.framework/Versions/4.1/Resources/library/RcppParallel/include' -I/usr/local/include -fPIC -Wall -g -O2 -c misc.cpp -o misc.o
clang++ -mmacosx-version-min=10.13 -std=gnu++11 -I"/Library/Frameworks/R.framework/Resources/include" -DNDEBUG -I'/Library/Frameworks/R.framework/Versions/4.1/Resources/library/Rcpp/include' -I'/Library/Frameworks/R.framework/Versions/4.1/Resources/library/RcppParallel/include' -I/usr/local/include -fPIC -Wall -g -O2 -c nwalign_endsfree.cpp -o nwalign_endsfree.o
clang++ -mmacosx-version-min=10.13 -std=gnu++11 -I"/Library/Frameworks/R.framework/Resources/include" -DNDEBUG -I'/Library/Frameworks/R.framework/Versions/4.1/Resources/library/Rcpp/include' -I'/Library/Frameworks/R.framework/Versions/4.1/Resources/library/RcppParallel/include' -I/usr/local/include -fPIC -Wall -g -O2 -c nwalign_vectorized.cpp -o nwalign_vectorized.o
clang++ -mmacosx-version-min=10.13 -std=gnu++11 -I"/Library/Frameworks/R.framework/Resources/include" -DNDEBUG -I'/Library/Frameworks/R.framework/Versions/4.1/Resources/library/Rcpp/include' -I'/Library/Frameworks/R.framework/Versions/4.1/Resources/library/RcppParallel/include' -I/usr/local/include -fPIC -Wall -g -O2 -c pval.cpp -o pval.o
clang++ -mmacosx-version-min=10.13 -std=gnu++11 -I"/Library/Frameworks/R.framework/Resources/include" -DNDEBUG -I'/Library/Frameworks/R.framework/Versions/4.1/Resources/library/Rcpp/include' -I'/Library/Frameworks/R.framework/Versions/4.1/Resources/library/RcppParallel/include' -I/usr/local/include -fPIC -Wall -g -O2 -c taxonomy.cpp -o taxonomy.o
clang++ -mmacosx-version-min=10.13 -std=gnu++11 -dynamiclib -Wl,-headerpad_max_install_names -undefined dynamic_lookup -single_module -multiply_defined suppress -L/Library/Frameworks/R.framework/Resources/lib -L/usr/local/lib -o dada2.so RcppExports.o Rmain.o chimera.o cluster.o containers.o error.o evaluate.o filter.o kmers.o misc.o nwalign_endsfree.o nwalign_vectorized.o pval.o taxonomy.o -F/Library/Frameworks/R.framework/.. -framework R -Wl,-framework -Wl,CoreFoundation
installing to /Library/Frameworks/R.framework/Versions/4.1/Resources/library/00LOCK-dada2/00new/dada2/libs
** R
** data
*** moving datasets to lazyload DB
** inst
** byte-compile and prepare package for lazy loading
** help
*** installing help indices
** building package indices
** installing vignettes
** testing if installed package can be loaded from temporary location
** checking absolute paths in shared objects and dynamic libraries
** testing if installed package can be loaded from final location
** testing if installed package keeps a record of temporary installation path
* DONE (dada2)
dada2.Rcheck/dada2-Ex.timings
| name | user | system | elapsed | |
| PacBioErrfun | 5.017 | 0.050 | 5.074 | |
| addSpecies | 2.659 | 0.035 | 2.697 | |
| assignSpecies | 1.252 | 0.005 | 1.259 | |
| assignTaxonomy | 0.266 | 0.031 | 0.279 | |
| collapseNoMismatch | 0.703 | 0.025 | 0.730 | |
| dada | 3.143 | 0.074 | 3.220 | |
| derepFastq | 1.677 | 0.072 | 1.749 | |
| fastqFilter | 0.614 | 0.029 | 0.644 | |
| fastqPairedFilter | 0.991 | 0.048 | 1.038 | |
| filterAndTrim | 1.18 | 0.04 | 1.22 | |
| getDadaOpt | 0.000 | 0.000 | 0.002 | |
| getErrors | 1.058 | 0.029 | 1.087 | |
| getSequences | 0.356 | 0.016 | 0.372 | |
| getUniques | 0.295 | 0.014 | 0.309 | |
| inflateErr | 0.001 | 0.000 | 0.000 | |
| isBimera | 0.085 | 0.023 | 0.108 | |
| isBimeraDenovo | 2.025 | 0.032 | 2.059 | |
| isBimeraDenovoTable | 2.586 | 0.050 | 2.638 | |
| isPhiX | 0.235 | 0.011 | 0.246 | |
| isShiftDenovo | 1.107 | 0.009 | 1.117 | |
| learnErrors | 5.185 | 0.435 | 4.492 | |
| loessErrfun | 0.454 | 0.012 | 0.466 | |
| makeSequenceTable | 0.637 | 0.020 | 0.658 | |
| mergePairs | 4.317 | 0.173 | 4.493 | |
| mergeSequenceTables | 0.000 | 0.000 | 0.001 | |
| noqualErrfun | 0.703 | 0.007 | 0.710 | |
| nwalign | 0.001 | 0.000 | 0.001 | |
| nwhamming | 0.001 | 0.000 | 0.002 | |
| plotComplexity | 0.504 | 0.010 | 0.515 | |
| plotErrors | 2.328 | 0.046 | 2.376 | |
| plotQualityProfile | 1.986 | 0.042 | 2.032 | |
| rc | 0.025 | 0.001 | 0.026 | |
| removeBimeraDenovo | 2.132 | 0.016 | 2.148 | |
| removePrimers | 0.287 | 0.010 | 0.298 | |
| seqComplexity | 0.046 | 0.001 | 0.047 | |
| setDadaOpt | 0.001 | 0.000 | 0.002 | |
| uniquesToFasta | 0.082 | 0.008 | 0.091 | |