| Back to Multiple platform build/check report for BioC 3.13 |
|
This page was generated on 2021-10-15 15:06:02 -0400 (Fri, 15 Oct 2021).
|
To the developers/maintainers of the cytomapper package: - Please allow up to 24 hours (and sometimes 48 hours) for your latest push to git@git.bioconductor.org:packages/cytomapper.git to reflect on this report. See How and When does the builder pull? When will my changes propagate? here for more information. - Make sure to use the following settings in order to reproduce any error or warning you see on this page. |
| Package 434/2041 | Hostname | OS / Arch | INSTALL | BUILD | CHECK | BUILD BIN | ||||||||
| cytomapper 1.4.1 (landing page) Nils Eling
| nebbiolo1 | Linux (Ubuntu 20.04.2 LTS) / x86_64 | OK | OK | OK | |||||||||
| tokay2 | Windows Server 2012 R2 Standard / x64 | OK | OK | OK | OK | |||||||||
| machv2 | macOS 10.14.6 Mojave / x86_64 | OK | OK | OK | OK | |||||||||
| Package: cytomapper |
| Version: 1.4.1 |
| Command: C:\cygwin\bin\curl.exe -O http://155.52.207.165/BBS/3.13/bioc/src/contrib/cytomapper_1.4.1.tar.gz && rm -rf cytomapper.buildbin-libdir && mkdir cytomapper.buildbin-libdir && C:\Users\biocbuild\bbs-3.13-bioc\R\bin\R.exe CMD INSTALL --merge-multiarch --build --library=cytomapper.buildbin-libdir cytomapper_1.4.1.tar.gz && C:\Users\biocbuild\bbs-3.13-bioc\R\bin\R.exe CMD INSTALL cytomapper_1.4.1.zip && rm cytomapper_1.4.1.tar.gz cytomapper_1.4.1.zip |
| StartedAt: 2021-10-14 09:33:46 -0400 (Thu, 14 Oct 2021) |
| EndedAt: 2021-10-14 09:35:38 -0400 (Thu, 14 Oct 2021) |
| EllapsedTime: 112.1 seconds |
| RetCode: 0 |
| Status: OK |
##############################################################################
##############################################################################
###
### Running command:
###
### C:\cygwin\bin\curl.exe -O http://155.52.207.165/BBS/3.13/bioc/src/contrib/cytomapper_1.4.1.tar.gz && rm -rf cytomapper.buildbin-libdir && mkdir cytomapper.buildbin-libdir && C:\Users\biocbuild\bbs-3.13-bioc\R\bin\R.exe CMD INSTALL --merge-multiarch --build --library=cytomapper.buildbin-libdir cytomapper_1.4.1.tar.gz && C:\Users\biocbuild\bbs-3.13-bioc\R\bin\R.exe CMD INSTALL cytomapper_1.4.1.zip && rm cytomapper_1.4.1.tar.gz cytomapper_1.4.1.zip
###
##############################################################################
##############################################################################
% Total % Received % Xferd Average Speed Time Time Time Current
Dload Upload Total Spent Left Speed
0 0 0 0 0 0 0 0 --:--:-- --:--:-- --:--:-- 0
0 0 0 0 0 0 0 0 --:--:-- --:--:-- --:--:-- 0
10 17.8M 10 1911k 0 0 1804k 0 0:00:10 0:00:01 0:00:09 1805k
27 17.8M 27 5026k 0 0 2444k 0 0:00:07 0:00:02 0:00:05 2445k
48 17.8M 48 8884k 0 0 2895k 0 0:00:06 0:00:03 0:00:03 2894k
72 17.8M 72 13.0M 0 0 3281k 0 0:00:05 0:00:04 0:00:01 3281k
100 17.8M 100 17.8M 0 0 3688k 0 0:00:04 0:00:04 --:--:-- 3733k
install for i386
* installing *source* package 'cytomapper' ...
** using staged installation
** R
** data
** inst
** byte-compile and prepare package for lazy loading
** help
*** installing help indices
converting help for package 'cytomapper'
finding HTML links ... done
CytoImageList-manipulation html
finding level-2 HTML links ... done
CytoImageList-naming html
CytoImageList-subsetting html
CytoImageList html
cytomapperShiny html
loadImages html
measureObjects html
pancreasImages html
pancreasMasks html
pancreasSCE html
plotCells html
plotPixels html
plotting-param html
** building package indices
** installing vignettes
** testing if installed package can be loaded from temporary location
** testing if installed package can be loaded from final location
** testing if installed package keeps a record of temporary installation path
install for x64
* installing *source* package 'cytomapper' ...
** testing if installed package can be loaded
* MD5 sums
packaged installation of 'cytomapper' as cytomapper_1.4.1.zip
* DONE (cytomapper)
* installing to library 'C:/Users/biocbuild/bbs-3.13-bioc/R/library'
package 'cytomapper' successfully unpacked and MD5 sums checked