| Back to Multiple platform build/check report for BioC 3.13 |
|
This page was generated on 2021-10-15 15:06:01 -0400 (Fri, 15 Oct 2021).
|
To the developers/maintainers of the covRNA package: - Please allow up to 24 hours (and sometimes 48 hours) for your latest push to git@git.bioconductor.org:packages/covRNA.git to reflect on this report. See How and When does the builder pull? When will my changes propagate? here for more information. - Make sure to use the following settings in order to reproduce any error or warning you see on this page. |
| Package 405/2041 | Hostname | OS / Arch | INSTALL | BUILD | CHECK | BUILD BIN | ||||||||
| covRNA 1.18.0 (landing page) Lara Urban
| nebbiolo1 | Linux (Ubuntu 20.04.2 LTS) / x86_64 | OK | OK | OK | |||||||||
| tokay2 | Windows Server 2012 R2 Standard / x64 | OK | OK | OK | OK | |||||||||
| machv2 | macOS 10.14.6 Mojave / x86_64 | OK | OK | OK | OK | |||||||||
| Package: covRNA |
| Version: 1.18.0 |
| Command: rm -rf covRNA.buildbin-libdir && mkdir covRNA.buildbin-libdir && C:\Users\biocbuild\bbs-3.13-bioc\R\bin\R.exe CMD INSTALL --merge-multiarch --build --library=covRNA.buildbin-libdir covRNA_1.18.0.tar.gz |
| StartedAt: 2021-10-15 08:46:25 -0400 (Fri, 15 Oct 2021) |
| EndedAt: 2021-10-15 08:48:02 -0400 (Fri, 15 Oct 2021) |
| EllapsedTime: 96.5 seconds |
| RetCode: 0 |
| Status: OK |
| PackageFile: covRNA_1.18.0.zip |
| PackageFileSize: 565.2 KiB |
##############################################################################
##############################################################################
###
### Running command:
###
### rm -rf covRNA.buildbin-libdir && mkdir covRNA.buildbin-libdir && C:\Users\biocbuild\bbs-3.13-bioc\R\bin\R.exe CMD INSTALL --merge-multiarch --build --library=covRNA.buildbin-libdir covRNA_1.18.0.tar.gz
###
##############################################################################
##############################################################################
install for i386
* installing *source* package 'covRNA' ...
** using staged installation
** R
** data
*** moving datasets to lazyload DB
** inst
** byte-compile and prepare package for lazy loading
** help
*** installing help indices
converting help for package 'covRNA'
finding HTML links ... done
Baca html
covRNA html
ord html
plot.ord html
plot.stat html
stat html
vis html
** building package indices
** installing vignettes
** testing if installed package can be loaded from temporary location
** testing if installed package can be loaded from final location
** testing if installed package keeps a record of temporary installation path
install for x64
* installing *source* package 'covRNA' ...
** testing if installed package can be loaded
* MD5 sums
packaged installation of 'covRNA' as covRNA_1.18.0.zip
* DONE (covRNA)