| Back to Multiple platform build/check report for BioC 3.13 | 
 | 
This page was generated on 2021-10-15 15:06:01 -0400 (Fri, 15 Oct 2021).
| To the developers/maintainers of the countsimQC package: - Please allow up to 24 hours (and sometimes 48 hours) for your latest push to git@git.bioconductor.org:packages/countsimQC.git to reflect on this report. See How and When does the builder pull? When will my changes propagate? here for more information. - Make sure to use the following settings in order to reproduce any error or warning you see on this page. | 
| Package 402/2041 | Hostname | OS / Arch | INSTALL | BUILD | CHECK | BUILD BIN | ||||||||
| countsimQC 1.10.0  (landing page) Charlotte Soneson 
 | nebbiolo1 | Linux (Ubuntu 20.04.2 LTS) / x86_64 | OK | OK | OK |  | ||||||||
| tokay2 | Windows Server 2012 R2 Standard / x64 | OK | OK | OK | OK |  | ||||||||
| machv2 | macOS 10.14.6 Mojave / x86_64 | OK | OK | OK | OK |  | ||||||||
| Package: countsimQC | 
| Version: 1.10.0 | 
| Command: C:\cygwin\bin\curl.exe -O http://155.52.207.165/BBS/3.13/bioc/src/contrib/countsimQC_1.10.0.tar.gz && rm -rf countsimQC.buildbin-libdir && mkdir countsimQC.buildbin-libdir && C:\Users\biocbuild\bbs-3.13-bioc\R\bin\R.exe CMD INSTALL --merge-multiarch --build --library=countsimQC.buildbin-libdir countsimQC_1.10.0.tar.gz && C:\Users\biocbuild\bbs-3.13-bioc\R\bin\R.exe CMD INSTALL countsimQC_1.10.0.zip && rm countsimQC_1.10.0.tar.gz countsimQC_1.10.0.zip | 
| StartedAt: 2021-10-14 09:49:07 -0400 (Thu, 14 Oct 2021) | 
| EndedAt: 2021-10-14 09:51:03 -0400 (Thu, 14 Oct 2021) | 
| EllapsedTime: 116.2 seconds | 
| RetCode: 0 | 
| Status: OK | 
##############################################################################
##############################################################################
###
### Running command:
###
###   C:\cygwin\bin\curl.exe -O http://155.52.207.165/BBS/3.13/bioc/src/contrib/countsimQC_1.10.0.tar.gz && rm -rf countsimQC.buildbin-libdir && mkdir countsimQC.buildbin-libdir && C:\Users\biocbuild\bbs-3.13-bioc\R\bin\R.exe CMD INSTALL --merge-multiarch --build --library=countsimQC.buildbin-libdir countsimQC_1.10.0.tar.gz && C:\Users\biocbuild\bbs-3.13-bioc\R\bin\R.exe CMD INSTALL countsimQC_1.10.0.zip && rm countsimQC_1.10.0.tar.gz countsimQC_1.10.0.zip
###
##############################################################################
##############################################################################
  % Total    % Received % Xferd  Average Speed   Time    Time     Time  Current
                                 Dload  Upload   Total   Spent    Left  Speed
  0     0    0     0    0     0      0      0 --:--:-- --:--:-- --:--:--     0
100  562k  100  562k    0     0  1656k      0 --:--:-- --:--:-- --:--:-- 1663k
install for i386
* installing *source* package 'countsimQC' ...
** using staged installation
** R
** data
** inst
** byte-compile and prepare package for lazy loading
** help
*** installing help indices
  converting help for package 'countsimQC'
    finding HTML links ... done
    calculateDispersionsddsList             html  
    calculateFeatureCorrs                   html  
    calculateSampleCorrs                    html  
    calculateStats                          html  
    countsimExample                         html  
    countsimExample_dfmat                   html  
    countsimQC-pkg                          html  
    countsimQCReport                        html  
    defaultStats                            html  
    defineTableDesc                         html  
    generateIndividualPlots                 html  
    makeDF                                  html  
** building package indices
** installing vignettes
** testing if installed package can be loaded from temporary location
** testing if installed package can be loaded from final location
** testing if installed package keeps a record of temporary installation path
install for x64
* installing *source* package 'countsimQC' ...
** testing if installed package can be loaded
* MD5 sums
packaged installation of 'countsimQC' as countsimQC_1.10.0.zip
* DONE (countsimQC)
* installing to library 'C:/Users/biocbuild/bbs-3.13-bioc/R/library'
package 'countsimQC' successfully unpacked and MD5 sums checked