| Back to Multiple platform build/check report for BioC 3.13 |
|
This page was generated on 2021-10-15 15:06:01 -0400 (Fri, 15 Oct 2021).
|
To the developers/maintainers of the copynumber package: - Please allow up to 24 hours (and sometimes 48 hours) for your latest push to git@git.bioconductor.org:packages/copynumber.git to reflect on this report. See How and When does the builder pull? When will my changes propagate? here for more information. - Make sure to use the following settings in order to reproduce any error or warning you see on this page. |
| Package 387/2041 | Hostname | OS / Arch | INSTALL | BUILD | CHECK | BUILD BIN | ||||||||
| copynumber 1.32.0 (landing page) Gro Nilsen
| nebbiolo1 | Linux (Ubuntu 20.04.2 LTS) / x86_64 | OK | OK | OK | |||||||||
| tokay2 | Windows Server 2012 R2 Standard / x64 | OK | OK | OK | OK | |||||||||
| machv2 | macOS 10.14.6 Mojave / x86_64 | OK | OK | OK | OK | |||||||||
| Package: copynumber |
| Version: 1.32.0 |
| Command: rm -rf copynumber.buildbin-libdir && mkdir copynumber.buildbin-libdir && C:\Users\biocbuild\bbs-3.13-bioc\R\bin\R.exe CMD INSTALL --merge-multiarch --build --library=copynumber.buildbin-libdir copynumber_1.32.0.tar.gz |
| StartedAt: 2021-10-15 08:44:23 -0400 (Fri, 15 Oct 2021) |
| EndedAt: 2021-10-15 08:45:36 -0400 (Fri, 15 Oct 2021) |
| EllapsedTime: 73.3 seconds |
| RetCode: 0 |
| Status: OK |
| PackageFile: copynumber_1.32.0.zip |
| PackageFileSize: 1.546 MiB |
##############################################################################
##############################################################################
###
### Running command:
###
### rm -rf copynumber.buildbin-libdir && mkdir copynumber.buildbin-libdir && C:\Users\biocbuild\bbs-3.13-bioc\R\bin\R.exe CMD INSTALL --merge-multiarch --build --library=copynumber.buildbin-libdir copynumber_1.32.0.tar.gz
###
##############################################################################
##############################################################################
install for i386
* installing *source* package 'copynumber' ...
** using staged installation
** R
** data
*** moving datasets to lazyload DB
** inst
** byte-compile and prepare package for lazy loading
** help
*** installing help indices
converting help for package 'copynumber'
finding HTML links ... done
SNPdata html
aspcf html
callAberrations html
getGRangesFormat html
imputeMissing html
interpolate.pcf html
lymphoma html
micma html
multipcf html
pcf html
pcfPlain html
plotAberration html
plotAllele html
plotChrom html
plotCircle html
plotFreq html
plotGamma html
plotGenome html
plotHeatmap html
plotSample html
selectSegments html
subsetData html
subsetSegments html
winsorize html
** building package indices
** installing vignettes
** testing if installed package can be loaded from temporary location
** testing if installed package can be loaded from final location
** testing if installed package keeps a record of temporary installation path
install for x64
* installing *source* package 'copynumber' ...
** testing if installed package can be loaded
* MD5 sums
packaged installation of 'copynumber' as copynumber_1.32.0.zip
* DONE (copynumber)