Back to Multiple platform build/check report for BioC 3.13 |
|
This page was generated on 2021-10-15 15:06:01 -0400 (Fri, 15 Oct 2021).
To the developers/maintainers of the condiments package: - Please allow up to 24 hours (and sometimes 48 hours) for your latest push to git@git.bioconductor.org:packages/condiments.git to reflect on this report. See How and When does the builder pull? When will my changes propagate? here for more information. - Make sure to use the following settings in order to reproduce any error or warning you see on this page. |
Package 375/2041 | Hostname | OS / Arch | INSTALL | BUILD | CHECK | BUILD BIN | ||||||||
condiments 1.0.0 (landing page) Hector Roux de Bezieux
| nebbiolo1 | Linux (Ubuntu 20.04.2 LTS) / x86_64 | OK | OK | OK | ![]() | ||||||||
tokay2 | Windows Server 2012 R2 Standard / x64 | OK | OK | OK | OK | ![]() | ||||||||
machv2 | macOS 10.14.6 Mojave / x86_64 | OK | OK | OK | OK | ![]() | ||||||||
Package: condiments |
Version: 1.0.0 |
Command: C:\cygwin\bin\curl.exe -O http://155.52.207.165/BBS/3.13/bioc/src/contrib/condiments_1.0.0.tar.gz && rm -rf condiments.buildbin-libdir && mkdir condiments.buildbin-libdir && C:\Users\biocbuild\bbs-3.13-bioc\R\bin\R.exe CMD INSTALL --merge-multiarch --build --library=condiments.buildbin-libdir condiments_1.0.0.tar.gz && C:\Users\biocbuild\bbs-3.13-bioc\R\bin\R.exe CMD INSTALL condiments_1.0.0.zip && rm condiments_1.0.0.tar.gz condiments_1.0.0.zip |
StartedAt: 2021-10-14 11:09:28 -0400 (Thu, 14 Oct 2021) |
EndedAt: 2021-10-14 11:10:35 -0400 (Thu, 14 Oct 2021) |
EllapsedTime: 67.1 seconds |
RetCode: 0 |
Status: OK |
############################################################################## ############################################################################## ### ### Running command: ### ### C:\cygwin\bin\curl.exe -O http://155.52.207.165/BBS/3.13/bioc/src/contrib/condiments_1.0.0.tar.gz && rm -rf condiments.buildbin-libdir && mkdir condiments.buildbin-libdir && C:\Users\biocbuild\bbs-3.13-bioc\R\bin\R.exe CMD INSTALL --merge-multiarch --build --library=condiments.buildbin-libdir condiments_1.0.0.tar.gz && C:\Users\biocbuild\bbs-3.13-bioc\R\bin\R.exe CMD INSTALL condiments_1.0.0.zip && rm condiments_1.0.0.tar.gz condiments_1.0.0.zip ### ############################################################################## ############################################################################## % Total % Received % Xferd Average Speed Time Time Time Current Dload Upload Total Spent Left Speed 0 0 0 0 0 0 0 0 --:--:-- --:--:-- --:--:-- 0 100 287k 100 287k 0 0 1074k 0 --:--:-- --:--:-- --:--:-- 1079k install for i386 * installing *source* package 'condiments' ... ** using staged installation ** R ** data ** inst ** byte-compile and prepare package for lazy loading ** help *** installing help indices converting help for package 'condiments' finding HTML links ... done condiments-package html create_differential_topology html differentiationTest html finding level-2 HTML links ... done imbalance_score html merge_sds html nLineages html progressionTest html slingshot_conditions html topologyTest html toy_dataset html weights_from_pst html *** copying figures ** building package indices ** installing vignettes ** testing if installed package can be loaded from temporary location ** testing if installed package can be loaded from final location ** testing if installed package keeps a record of temporary installation path install for x64 * installing *source* package 'condiments' ... ** testing if installed package can be loaded * MD5 sums packaged installation of 'condiments' as condiments_1.0.0.zip * DONE (condiments) * installing to library 'C:/Users/biocbuild/bbs-3.13-bioc/R/library' package 'condiments' successfully unpacked and MD5 sums checked