| Back to Multiple platform build/check report for BioC 3.13 |
|
This page was generated on 2021-10-15 15:05:38 -0400 (Fri, 15 Oct 2021).
|
To the developers/maintainers of the conclus package: - Please allow up to 24 hours (and sometimes 48 hours) for your latest push to git@git.bioconductor.org:packages/conclus.git to reflect on this report. See How and When does the builder pull? When will my changes propagate? here for more information. - Make sure to use the following settings in order to reproduce any error or warning you see on this page. |
| Package 374/2041 | Hostname | OS / Arch | INSTALL | BUILD | CHECK | BUILD BIN | ||||||||
| conclus 1.0.0 (landing page) Ilyess Rachedi
| nebbiolo1 | Linux (Ubuntu 20.04.2 LTS) / x86_64 | OK | OK | OK | |||||||||
| tokay2 | Windows Server 2012 R2 Standard / x64 | OK | OK | ERROR | OK | |||||||||
| machv2 | macOS 10.14.6 Mojave / x86_64 | OK | OK | OK | OK | |||||||||
| Package: conclus |
| Version: 1.0.0 |
| Command: /home/biocbuild/bbs-3.13-bioc/R/bin/R CMD check --install=check:conclus.install-out.txt --library=/home/biocbuild/bbs-3.13-bioc/R/library --no-vignettes --timings conclus_1.0.0.tar.gz |
| StartedAt: 2021-10-14 09:21:38 -0400 (Thu, 14 Oct 2021) |
| EndedAt: 2021-10-14 09:30:33 -0400 (Thu, 14 Oct 2021) |
| EllapsedTime: 534.8 seconds |
| RetCode: 0 |
| Status: OK |
| CheckDir: conclus.Rcheck |
| Warnings: 0 |
##############################################################################
##############################################################################
###
### Running command:
###
### /home/biocbuild/bbs-3.13-bioc/R/bin/R CMD check --install=check:conclus.install-out.txt --library=/home/biocbuild/bbs-3.13-bioc/R/library --no-vignettes --timings conclus_1.0.0.tar.gz
###
##############################################################################
##############################################################################
* using log directory ‘/home/biocbuild/bbs-3.13-bioc/meat/conclus.Rcheck’
* using R version 4.1.1 (2021-08-10)
* using platform: x86_64-pc-linux-gnu (64-bit)
* using session charset: UTF-8
* using option ‘--no-vignettes’
* checking for file ‘conclus/DESCRIPTION’ ... OK
* this is package ‘conclus’ version ‘1.0.0’
* package encoding: UTF-8
* checking package namespace information ... OK
* checking package dependencies ... OK
* checking if this is a source package ... OK
* checking if there is a namespace ... OK
* checking for hidden files and directories ... OK
* checking for portable file names ... OK
* checking for sufficient/correct file permissions ... OK
* checking whether package ‘conclus’ can be installed ... OK
* checking installed package size ... OK
* checking package directory ... OK
* checking ‘build’ directory ... OK
* checking DESCRIPTION meta-information ... OK
* checking top-level files ... OK
* checking for left-over files ... OK
* checking index information ... OK
* checking package subdirectories ... OK
* checking R files for non-ASCII characters ... OK
* checking R files for syntax errors ... OK
* checking whether the package can be loaded ... OK
* checking whether the package can be loaded with stated dependencies ... OK
* checking whether the package can be unloaded cleanly ... OK
* checking whether the namespace can be loaded with stated dependencies ... OK
* checking whether the namespace can be unloaded cleanly ... OK
* checking dependencies in R code ... OK
* checking S3 generic/method consistency ... OK
* checking replacement functions ... OK
* checking foreign function calls ... OK
* checking R code for possible problems ... OK
* checking Rd files ... OK
* checking Rd metadata ... OK
* checking Rd cross-references ... OK
* checking for missing documentation entries ... OK
* checking for code/documentation mismatches ... OK
* checking Rd \usage sections ... OK
* checking Rd contents ... OK
* checking for unstated dependencies in examples ... OK
* checking files in ‘vignettes’ ... OK
* checking examples ... OK
Examples with CPU (user + system) or elapsed time > 5s
user system elapsed
retrieveFromGEO 10.745 0.752 11.503
runCONCLUS 9.583 0.261 67.109
addClustering-scRNAseq 5.232 0.155 9.544
normaliseCountMatrix-scRNAseq 3.344 0.620 11.113
retrieveGenesInfo-scRNAseq 3.397 0.104 16.693
testClustering-scRNAseq 0.755 0.008 14.554
generateTSNECoordinates-scRNAseq 0.204 0.034 17.290
runDBSCAN-scRNAseq 0.214 0.019 13.957
clusterCellsInternal-scRNAseq 0.199 0.018 15.349
* checking for unstated dependencies in ‘tests’ ... OK
* checking tests ...
Running ‘test-all.R’
OK
* checking for unstated dependencies in vignettes ... OK
* checking package vignettes in ‘inst/doc’ ... OK
* checking running R code from vignettes ... SKIPPED
* checking re-building of vignette outputs ... SKIPPED
* checking PDF version of manual ... OK
* DONE
Status: OK
conclus.Rcheck/00install.out
############################################################################## ############################################################################## ### ### Running command: ### ### /home/biocbuild/bbs-3.13-bioc/R/bin/R CMD INSTALL conclus ### ############################################################################## ############################################################################## * installing to library ‘/home/biocbuild/bbs-3.13-bioc/R/library’ * installing *source* package ‘conclus’ ... ** using staged installation ** R ** inst ** byte-compile and prepare package for lazy loading ** help *** installing help indices ** building package indices ** installing vignettes ** testing if installed package can be loaded from temporary location ** testing if installed package can be loaded from final location ** testing if installed package keeps a record of temporary installation path * DONE (conclus)
conclus.Rcheck/tests/test-all.Rout
R version 4.1.1 (2021-08-10) -- "Kick Things"
Copyright (C) 2021 The R Foundation for Statistical Computing
Platform: x86_64-pc-linux-gnu (64-bit)
R is free software and comes with ABSOLUTELY NO WARRANTY.
You are welcome to redistribute it under certain conditions.
Type 'license()' or 'licence()' for distribution details.
R is a collaborative project with many contributors.
Type 'contributors()' for more information and
'citation()' on how to cite R or R packages in publications.
Type 'demo()' for some demos, 'help()' for on-line help, or
'help.start()' for an HTML browser interface to help.
Type 'q()' to quit R.
> library("testthat")
> library("conclus")
Setting options('download.file.method.GEOquery'='auto')
Setting options('GEOquery.inmemory.gpl'=FALSE)
> test_check("conclus")
Min. 1st Qu. Median Mean 3rd Qu. Max.
1 1 1 1 1 1
[ FAIL 0 | WARN 0 | SKIP 0 | PASS 277 ]
>
> proc.time()
user system elapsed
30.823 1.542 105.989
conclus.Rcheck/conclus-Ex.timings
| name | user | system | elapsed | |
| addClustering-scRNAseq | 5.232 | 0.155 | 9.544 | |
| calculateClustersSimilarity-scRNAseq | 0.044 | 0.000 | 0.043 | |
| clusterCellsInternal-scRNAseq | 0.199 | 0.018 | 15.349 | |
| conclusCacheClear | 0 | 0 | 0 | |
| constructors | 0.018 | 0.000 | 0.019 | |
| exportResults-scRNAseq | 0.109 | 0.020 | 0.129 | |
| generateTSNECoordinates-scRNAseq | 0.204 | 0.034 | 17.290 | |
| getters | 0.012 | 0.004 | 0.016 | |
| loadDataOrMatrix | 0.013 | 0.004 | 0.016 | |
| normaliseCountMatrix-scRNAseq | 3.344 | 0.620 | 11.113 | |
| plotCellHeatmap | 0.106 | 0.000 | 0.106 | |
| plotCellSimilarity-scRNAseq | 0.086 | 0.000 | 0.086 | |
| plotClusteredTSNE-scRNAseq | 0.399 | 0.136 | 0.535 | |
| plotClustersSimilarity | 0.052 | 0.004 | 0.057 | |
| plotGeneExpression-scRNAseq | 0.165 | 0.020 | 0.185 | |
| rankGenes-scRNAseq | 0.161 | 0.012 | 0.173 | |
| retrieveFromGEO | 10.745 | 0.752 | 11.503 | |
| retrieveGenesInfo-scRNAseq | 3.397 | 0.104 | 16.693 | |
| retrieveTableClustersCells-scRNAseq | 0.017 | 0.000 | 0.018 | |
| retrieveTopClustersMarkers-scRNAseq | 0.022 | 0.004 | 0.026 | |
| runCONCLUS | 9.583 | 0.261 | 67.109 | |
| runDBSCAN-scRNAseq | 0.214 | 0.019 | 13.957 | |
| setters | 0.018 | 0.000 | 0.018 | |
| testClustering-scRNAseq | 0.755 | 0.008 | 14.554 | |