| Back to Multiple platform build/check report for BioC 3.13 |
|
This page was generated on 2021-10-15 15:06:32 -0400 (Fri, 15 Oct 2021).
|
To the developers/maintainers of the cola package: - Please allow up to 24 hours (and sometimes 48 hours) for your latest push to git@git.bioconductor.org:packages/cola.git to reflect on this report. See How and When does the builder pull? When will my changes propagate? here for more information. - Make sure to use the following settings in order to reproduce any error or warning you see on this page. |
| Package 364/2041 | Hostname | OS / Arch | INSTALL | BUILD | CHECK | BUILD BIN | ||||||||
| cola 1.8.1 (landing page) Zuguang Gu
| nebbiolo1 | Linux (Ubuntu 20.04.2 LTS) / x86_64 | OK | OK | OK | |||||||||
| tokay2 | Windows Server 2012 R2 Standard / x64 | OK | OK | OK | OK | |||||||||
| machv2 | macOS 10.14.6 Mojave / x86_64 | OK | OK | OK | OK | |||||||||
| Package: cola |
| Version: 1.8.1 |
| Command: /Library/Frameworks/R.framework/Versions/Current/Resources/bin/R CMD check --install=check:cola.install-out.txt --library=/Library/Frameworks/R.framework/Versions/Current/Resources/library --no-vignettes --timings cola_1.8.1.tar.gz |
| StartedAt: 2021-10-14 17:40:04 -0400 (Thu, 14 Oct 2021) |
| EndedAt: 2021-10-14 17:44:21 -0400 (Thu, 14 Oct 2021) |
| EllapsedTime: 257.3 seconds |
| RetCode: 0 |
| Status: OK |
| CheckDir: cola.Rcheck |
| Warnings: 0 |
##############################################################################
##############################################################################
###
### Running command:
###
### /Library/Frameworks/R.framework/Versions/Current/Resources/bin/R CMD check --install=check:cola.install-out.txt --library=/Library/Frameworks/R.framework/Versions/Current/Resources/library --no-vignettes --timings cola_1.8.1.tar.gz
###
##############################################################################
##############################################################################
* using log directory ‘/Users/biocbuild/bbs-3.13-bioc/meat/cola.Rcheck’
* using R version 4.1.1 (2021-08-10)
* using platform: x86_64-apple-darwin17.0 (64-bit)
* using session charset: UTF-8
* using option ‘--no-vignettes’
* checking for file ‘cola/DESCRIPTION’ ... OK
* checking extension type ... Package
* this is package ‘cola’ version ‘1.8.1’
* checking package namespace information ... OK
* checking package dependencies ... OK
* checking if this is a source package ... OK
* checking if there is a namespace ... OK
* checking for hidden files and directories ... NOTE
Found the following hidden files and directories:
.git_fetch_output.txt
.git_merge_output.txt
These were most likely included in error. See section ‘Package
structure’ in the ‘Writing R Extensions’ manual.
* checking for portable file names ... OK
* checking for sufficient/correct file permissions ... OK
* checking whether package ‘cola’ can be installed ... OK
* checking installed package size ... NOTE
installed size is 6.0Mb
sub-directories of 1Mb or more:
data 3.5Mb
extdata 1.0Mb
* checking package directory ... OK
* checking ‘build’ directory ... OK
* checking DESCRIPTION meta-information ... OK
* checking top-level files ... OK
* checking for left-over files ... OK
* checking index information ... OK
* checking package subdirectories ... OK
* checking R files for non-ASCII characters ... OK
* checking R files for syntax errors ... OK
* checking whether the package can be loaded ... OK
* checking whether the package can be loaded with stated dependencies ... OK
* checking whether the package can be unloaded cleanly ... OK
* checking whether the namespace can be loaded with stated dependencies ... OK
* checking whether the namespace can be unloaded cleanly ... OK
* checking dependencies in R code ... OK
* checking S3 generic/method consistency ... OK
* checking replacement functions ... OK
* checking foreign function calls ... OK
* checking R code for possible problems ... OK
* checking Rd files ... OK
* checking Rd metadata ... OK
* checking Rd cross-references ... OK
* checking for missing documentation entries ... OK
* checking for code/documentation mismatches ... OK
* checking Rd \usage sections ... OK
* checking Rd contents ... OK
* checking for unstated dependencies in examples ... OK
* checking contents of ‘data’ directory ... OK
* checking data for non-ASCII characters ... OK
* checking data for ASCII and uncompressed saves ... OK
* checking line endings in C/C++/Fortran sources/headers ... OK
* checking compiled code ... NOTE
Note: information on .o files is not available
* checking files in ‘vignettes’ ... OK
* checking examples ... OK
Examples with CPU (user + system) or elapsed time > 5s
user system elapsed
consensus_partition 32.233 0.260 32.516
get_signatures-ConsensusPartition-method 7.713 0.154 7.886
compare_signatures-HierarchicalPartition-method 6.075 0.185 6.267
* checking for unstated dependencies in ‘tests’ ... OK
* checking tests ...
Running ‘test-all.R’
OK
* checking for unstated dependencies in vignettes ... OK
* checking package vignettes in ‘inst/doc’ ... OK
* checking running R code from vignettes ... SKIPPED
* checking re-building of vignette outputs ... SKIPPED
* checking PDF version of manual ... OK
* DONE
Status: 3 NOTEs
See
‘/Users/biocbuild/bbs-3.13-bioc/meat/cola.Rcheck/00check.log’
for details.
cola.Rcheck/00install.out
############################################################################## ############################################################################## ### ### Running command: ### ### /Library/Frameworks/R.framework/Versions/Current/Resources/bin/R CMD INSTALL cola ### ############################################################################## ############################################################################## * installing to library ‘/Library/Frameworks/R.framework/Versions/4.1/Resources/library’ * installing *source* package ‘cola’ ... ** using staged installation ** libs clang++ -mmacosx-version-min=10.13 -std=gnu++14 -I"/Library/Frameworks/R.framework/Resources/include" -DNDEBUG -I'/Library/Frameworks/R.framework/Versions/4.1/Resources/library/Rcpp/include' -I/usr/local/include -fPIC -Wall -g -O2 -c RcppExports.cpp -o RcppExports.o clang++ -mmacosx-version-min=10.13 -std=gnu++14 -I"/Library/Frameworks/R.framework/Resources/include" -DNDEBUG -I'/Library/Frameworks/R.framework/Versions/4.1/Resources/library/Rcpp/include' -I/usr/local/include -fPIC -Wall -g -O2 -c atc.cpp -o atc.o clang++ -mmacosx-version-min=10.13 -std=gnu++14 -I"/Library/Frameworks/R.framework/Resources/include" -DNDEBUG -I'/Library/Frameworks/R.framework/Versions/4.1/Resources/library/Rcpp/include' -I/usr/local/include -fPIC -Wall -g -O2 -c cal_consensus_mat.cpp -o cal_consensus_mat.o clang++ -mmacosx-version-min=10.13 -std=gnu++14 -I"/Library/Frameworks/R.framework/Resources/include" -DNDEBUG -I'/Library/Frameworks/R.framework/Versions/4.1/Resources/library/Rcpp/include' -I/usr/local/include -fPIC -Wall -g -O2 -c pdist.cpp -o pdist.o clang++ -mmacosx-version-min=10.13 -std=gnu++14 -dynamiclib -Wl,-headerpad_max_install_names -undefined dynamic_lookup -single_module -multiply_defined suppress -L/Library/Frameworks/R.framework/Resources/lib -L/usr/local/lib -o cola.so RcppExports.o atc.o cal_consensus_mat.o pdist.o -F/Library/Frameworks/R.framework/.. -framework R -Wl,-framework -Wl,CoreFoundation installing to /Library/Frameworks/R.framework/Versions/4.1/Resources/library/00LOCK-cola/00new/cola/libs ** R ** data ** inst ** byte-compile and prepare package for lazy loading ** help *** installing help indices ** building package indices ** installing vignettes ** testing if installed package can be loaded from temporary location ** checking absolute paths in shared objects and dynamic libraries ** testing if installed package can be loaded from final location ** testing if installed package keeps a record of temporary installation path * DONE (cola)
cola.Rcheck/tests/test-all.Rout
R version 4.1.1 (2021-08-10) -- "Kick Things"
Copyright (C) 2021 The R Foundation for Statistical Computing
Platform: x86_64-apple-darwin17.0 (64-bit)
R is free software and comes with ABSOLUTELY NO WARRANTY.
You are welcome to redistribute it under certain conditions.
Type 'license()' or 'licence()' for distribution details.
R is a collaborative project with many contributors.
Type 'contributors()' for more information and
'citation()' on how to cite R or R packages in publications.
Type 'demo()' for some demos, 'help()' for on-line help, or
'help.start()' for an HTML browser interface to help.
Type 'q()' to quit R.
> library(testthat)
> suppressWarnings(suppressPackageStartupMessages(library(cola)))
>
> test_check("cola")
[ FAIL 0 | WARN 0 | SKIP 0 | PASS 18 ]
>
>
> proc.time()
user system elapsed
6.009 0.352 6.350
cola.Rcheck/cola-Ex.timings
| name | user | system | elapsed | |
| ATC | 0.040 | 0.004 | 0.044 | |
| ATC_approx | 0.000 | 0.001 | 0.001 | |
| ConsensusPartition-class | 0.000 | 0.001 | 0.000 | |
| ConsensusPartitionList-class | 0.000 | 0.001 | 0.000 | |
| DownSamplingConsensusPartition-class | 0 | 0 | 0 | |
| Extract.ConsensusPartitionList | 0.729 | 0.030 | 0.759 | |
| Extract.HierarchicalPartition | 0.309 | 0.007 | 0.315 | |
| ExtractExtract.ConsensusPartitionList | 0.304 | 0.009 | 0.313 | |
| ExtractExtract.HierarchicalPartition | 0.000 | 0.001 | 0.001 | |
| FCC | 0.295 | 0.011 | 0.306 | |
| HierarchicalPartition-class | 0.001 | 0.000 | 0.001 | |
| PAC | 0.267 | 0.008 | 0.275 | |
| aPAC | 0.524 | 0.006 | 0.530 | |
| adjust_matrix | 0.011 | 0.003 | 0.014 | |
| adjust_outlier | 0.001 | 0.001 | 0.002 | |
| all_leaves-HierarchicalPartition-method | 0.184 | 0.003 | 0.187 | |
| all_nodes-HierarchicalPartition-method | 0.204 | 0.004 | 0.208 | |
| all_partition_methods | 0.001 | 0.000 | 0.002 | |
| all_top_value_methods | 0.000 | 0.000 | 0.001 | |
| cola | 0.096 | 0.002 | 0.098 | |
| cola_opt | 0.037 | 0.002 | 0.039 | |
| cola_report-ConsensusPartition-method | 0.000 | 0.001 | 0.000 | |
| cola_report-ConsensusPartitionList-method | 0.001 | 0.000 | 0.000 | |
| cola_report-HierarchicalPartition-method | 0.001 | 0.000 | 0.001 | |
| cola_report-dispatch | 0 | 0 | 0 | |
| cola_rl | 0.171 | 0.007 | 0.178 | |
| collect_classes-ConsensusPartition-method | 3.327 | 0.080 | 3.410 | |
| collect_classes-ConsensusPartitionList-method | 4.746 | 0.033 | 4.782 | |
| collect_classes-HierarchicalPartition-method | 2.316 | 0.051 | 2.373 | |
| collect_classes-dispatch | 0.000 | 0.000 | 0.001 | |
| collect_plots-ConsensusPartition-method | 0.000 | 0.000 | 0.001 | |
| collect_plots-ConsensusPartitionList-method | 0.001 | 0.001 | 0.000 | |
| collect_plots-dispatch | 0.001 | 0.000 | 0.000 | |
| collect_stats-ConsensusPartition-method | 0 | 0 | 0 | |
| collect_stats-ConsensusPartitionList-method | 0.694 | 0.007 | 0.701 | |
| collect_stats-dispatch | 0 | 0 | 0 | |
| colnames-ConsensusPartition-method | 0.001 | 0.000 | 0.001 | |
| colnames-ConsensusPartitionList-method | 0 | 0 | 0 | |
| colnames-DownSamplingConsensusPartition-method | 0 | 0 | 0 | |
| colnames-HierarchicalPartition-method | 0 | 0 | 0 | |
| colnames-dispatch | 0 | 0 | 0 | |
| compare_partitions-ConsensusPartition-method | 0 | 0 | 0 | |
| compare_signatures-ConsensusPartition-method | 0 | 0 | 0 | |
| compare_signatures-HierarchicalPartition-method | 6.075 | 0.185 | 6.267 | |
| compare_signatures-dispatch | 0.000 | 0.000 | 0.001 | |
| concordance | 0.232 | 0.005 | 0.237 | |
| config_ATC | 0.001 | 0.001 | 0.002 | |
| consensus_heatmap-ConsensusPartition-method | 0.816 | 0.014 | 0.831 | |
| consensus_partition | 32.233 | 0.260 | 32.516 | |
| consensus_partition_by_down_sampling | 0.000 | 0.000 | 0.001 | |
| correspond_between_rankings | 0.080 | 0.002 | 0.082 | |
| correspond_between_two_rankings | 0.038 | 0.002 | 0.040 | |
| david_enrichment | 0 | 0 | 0 | |
| dim.ConsensusPartition | 0 | 0 | 0 | |
| dim.ConsensusPartitionList | 0.001 | 0.000 | 0.000 | |
| dim.DownSamplingConsensusPartition | 0.001 | 0.000 | 0.000 | |
| dim.HierarchicalPartition | 0.000 | 0.000 | 0.001 | |
| dimension_reduction-ConsensusPartition-method | 0.992 | 0.040 | 1.032 | |
| dimension_reduction-DownSamplingConsensusPartition-method | 1.793 | 0.071 | 1.866 | |
| dimension_reduction-HierarchicalPartition-method | 0.733 | 0.026 | 0.760 | |
| dimension_reduction-dispatch | 0 | 0 | 0 | |
| dimension_reduction-matrix-method | 0 | 0 | 0 | |
| find_best_km | 0.001 | 0.000 | 0.000 | |
| functional_enrichment-ANY-method | 0.000 | 0.000 | 0.001 | |
| functional_enrichment-ConsensusPartition-method | 0.000 | 0.001 | 0.000 | |
| functional_enrichment-ConsensusPartitionList-method | 0 | 0 | 0 | |
| functional_enrichment-HierarchicalPartition-method | 0 | 0 | 0 | |
| functional_enrichment-dispatch | 0.001 | 0.000 | 0.000 | |
| get_anno-ConsensusPartition-method | 0.001 | 0.000 | 0.000 | |
| get_anno-ConsensusPartitionList-method | 0.001 | 0.000 | 0.000 | |
| get_anno-DownSamplingConsensusPartition-method | 0.103 | 0.005 | 0.109 | |
| get_anno-HierarchicalPartition-method | 0.001 | 0.001 | 0.000 | |
| get_anno-dispatch | 0.000 | 0.001 | 0.000 | |
| get_anno_col-ConsensusPartition-method | 0.000 | 0.000 | 0.001 | |
| get_anno_col-ConsensusPartitionList-method | 0.000 | 0.000 | 0.001 | |
| get_anno_col-HierarchicalPartition-method | 0.000 | 0.001 | 0.000 | |
| get_anno_col-dispatch | 0 | 0 | 0 | |
| get_children_nodes-HierarchicalPartition-method | 0.000 | 0.000 | 0.001 | |
| get_classes-ConsensusPartition-method | 0.205 | 0.009 | 0.214 | |
| get_classes-ConsensusPartitionList-method | 0.274 | 0.007 | 0.281 | |
| get_classes-DownSamplingConsensusPartition-method | 0.132 | 0.012 | 0.145 | |
| get_classes-HierarchicalPartition-method | 0.202 | 0.005 | 0.208 | |
| get_classes-dispatch | 0.000 | 0.000 | 0.001 | |
| get_consensus-ConsensusPartition-method | 0.222 | 0.044 | 0.266 | |
| get_matrix-ConsensusPartition-method | 0.647 | 0.825 | 1.497 | |
| get_matrix-ConsensusPartitionList-method | 0.687 | 0.862 | 1.572 | |
| get_matrix-HierarchicalPartition-method | 0.001 | 0.000 | 0.000 | |
| get_matrix-dispatch | 0 | 0 | 0 | |
| get_membership-ConsensusPartition-method | 0.198 | 0.024 | 0.222 | |
| get_membership-ConsensusPartitionList-method | 0.264 | 0.005 | 0.269 | |
| get_membership-dispatch | 0 | 0 | 0 | |
| get_param-ConsensusPartition-method | 0.293 | 0.017 | 0.311 | |
| get_signatures-ConsensusPartition-method | 7.713 | 0.154 | 7.886 | |
| get_signatures-DownSamplingConsensusPartition-method | 0 | 0 | 0 | |
| get_signatures-HierarchicalPartition-method | 0.000 | 0.000 | 0.001 | |
| get_signatures-dispatch | 0 | 0 | 0 | |
| get_stats-ConsensusPartition-method | 0.268 | 0.006 | 0.274 | |
| get_stats-ConsensusPartitionList-method | 0.269 | 0.006 | 0.274 | |
| get_stats-dispatch | 0.000 | 0.000 | 0.001 | |
| golub_cola | 0.305 | 0.004 | 0.309 | |
| golub_cola_ds | 0.136 | 0.003 | 0.140 | |
| golub_cola_rh | 0.217 | 0.003 | 0.220 | |
| hierarchical_partition | 0.000 | 0.000 | 0.001 | |
| is_best_k-ConsensusPartition-method | 0.195 | 0.005 | 0.199 | |
| is_best_k-ConsensusPartitionList-method | 0.240 | 0.003 | 0.243 | |
| is_best_k-dispatch | 0 | 0 | 0 | |
| is_leaf_node-HierarchicalPartition-method | 0.188 | 0.004 | 0.192 | |
| is_stable_k-ConsensusPartition-method | 0.248 | 0.016 | 0.264 | |
| is_stable_k-ConsensusPartitionList-method | 0.234 | 0.003 | 0.237 | |
| is_stable_k-dispatch | 0 | 0 | 0 | |
| knee_finder2 | 0.031 | 0.004 | 0.034 | |
| knitr_add_tab_item | 0.000 | 0.001 | 0.000 | |
| knitr_insert_tabs | 0 | 0 | 0 | |
| map_to_entrez_id | 0.000 | 0.000 | 0.001 | |
| max_depth-HierarchicalPartition-method | 0.191 | 0.004 | 0.196 | |
| membership_heatmap-ConsensusPartition-method | 0.695 | 0.006 | 0.702 | |
| merge_node-HierarchicalPartition-method | 0.000 | 0.000 | 0.001 | |
| merge_node_param | 0.001 | 0.000 | 0.000 | |
| ncol-ConsensusPartition-method | 0.001 | 0.001 | 0.000 | |
| ncol-ConsensusPartitionList-method | 0 | 0 | 0 | |
| ncol-DownSamplingConsensusPartition-method | 0.000 | 0.000 | 0.001 | |
| ncol-HierarchicalPartition-method | 0.000 | 0.000 | 0.001 | |
| ncol-dispatch | 0.000 | 0.000 | 0.001 | |
| node_info-HierarchicalPartition-method | 0.000 | 0.001 | 0.000 | |
| node_level-HierarchicalPartition-method | 0.001 | 0.000 | 0.000 | |
| nrow-ConsensusPartition-method | 0.000 | 0.001 | 0.001 | |
| nrow-ConsensusPartitionList-method | 0.000 | 0.000 | 0.001 | |
| nrow-HierarchicalPartition-method | 0.000 | 0.001 | 0.000 | |
| nrow-dispatch | 0.000 | 0.001 | 0.000 | |
| plot_ecdf-ConsensusPartition-method | 0.275 | 0.005 | 0.281 | |
| predict_classes-ConsensusPartition-method | 0.000 | 0.001 | 0.000 | |
| predict_classes-dispatch | 0 | 0 | 0 | |
| predict_classes-matrix-method | 0 | 0 | 0 | |
| print.hc_table_suggest_best_k | 0 | 0 | 0 | |
| recalc_stats | 0.000 | 0.000 | 0.001 | |
| register_NMF | 0.000 | 0.001 | 0.001 | |
| register_SOM | 0 | 0 | 0 | |
| register_partition_methods | 0.540 | 0.013 | 0.554 | |
| register_top_value_methods | 0.002 | 0.000 | 0.002 | |
| relabel_class | 0.015 | 0.003 | 0.018 | |
| remove_partition_methods | 0.000 | 0.001 | 0.000 | |
| remove_top_value_methods | 0.000 | 0.000 | 0.001 | |
| rownames-ConsensusPartition-method | 0 | 0 | 0 | |
| rownames-ConsensusPartitionList-method | 0.000 | 0.000 | 0.001 | |
| rownames-HierarchicalPartition-method | 0.001 | 0.000 | 0.000 | |
| rownames-dispatch | 0.000 | 0.001 | 0.000 | |
| run_all_consensus_partition_methods | 0 | 0 | 0 | |
| select_partition_number-ConsensusPartition-method | 0.248 | 0.004 | 0.253 | |
| show-ConsensusPartition-method | 0.001 | 0.000 | 0.001 | |
| show-ConsensusPartitionList-method | 0.001 | 0.000 | 0.001 | |
| show-DownSamplingConsensusPartition-method | 0.170 | 0.003 | 0.174 | |
| show-HierarchicalPartition-method | 0.259 | 0.005 | 0.265 | |
| show-dispatch | 0.001 | 0.001 | 0.001 | |
| split_node-HierarchicalPartition-method | 0.000 | 0.000 | 0.001 | |
| suggest_best_k-ConsensusPartition-method | 0.225 | 0.003 | 0.228 | |
| suggest_best_k-ConsensusPartitionList-method | 0.281 | 0.006 | 0.287 | |
| suggest_best_k-HierarchicalPartition-method | 0.201 | 0.005 | 0.206 | |
| suggest_best_k-dispatch | 0 | 0 | 0 | |
| test_between_factors | 0.016 | 0.000 | 0.017 | |
| test_to_known_factors-ConsensusPartition-method | 0.242 | 0.004 | 0.246 | |
| test_to_known_factors-ConsensusPartitionList-method | 0.490 | 0.006 | 0.497 | |
| test_to_known_factors-DownSamplingConsensusPartition-method | 0.170 | 0.003 | 0.173 | |
| test_to_known_factors-HierarchicalPartition-method | 0.204 | 0.004 | 0.207 | |
| test_to_known_factors-dispatch | 0.000 | 0.001 | 0.000 | |
| top_elements_overlap | 0.293 | 0.010 | 0.304 | |
| top_rows_heatmap-ConsensusPartition-method | 0.001 | 0.000 | 0.000 | |
| top_rows_heatmap-ConsensusPartitionList-method | 0 | 0 | 0 | |
| top_rows_heatmap-HierarchicalPartition-method | 0.000 | 0.000 | 0.001 | |
| top_rows_heatmap-dispatch | 0.000 | 0.001 | 0.000 | |
| top_rows_heatmap-matrix-method | 4.468 | 0.263 | 4.740 | |
| top_rows_overlap-ConsensusPartitionList-method | 1.012 | 0.036 | 1.049 | |
| top_rows_overlap-HierarchicalPartition-method | 0.796 | 0.012 | 0.812 | |
| top_rows_overlap-dispatch | 0.000 | 0.000 | 0.001 | |
| top_rows_overlap-matrix-method | 0.234 | 0.004 | 0.238 | |