| Back to Multiple platform build/check report for BioC 3.13 | 
 | 
This page was generated on 2021-10-15 15:06:01 -0400 (Fri, 15 Oct 2021).
| To the developers/maintainers of the cogena package: - Please allow up to 24 hours (and sometimes 48 hours) for your latest push to git@git.bioconductor.org:packages/cogena.git to reflect on this report. See How and When does the builder pull? When will my changes propagate? here for more information. - Make sure to use the following settings in order to reproduce any error or warning you see on this page. | 
| Package 361/2041 | Hostname | OS / Arch | INSTALL | BUILD | CHECK | BUILD BIN | ||||||||
| cogena 1.26.0  (landing page) Zhilong Jia 
 | nebbiolo1 | Linux (Ubuntu 20.04.2 LTS) / x86_64 | OK | OK | WARNINGS |  | ||||||||
| tokay2 | Windows Server 2012 R2 Standard / x64 | OK | OK | WARNINGS | OK |  | ||||||||
| machv2 | macOS 10.14.6 Mojave / x86_64 | OK | OK | WARNINGS | OK |  | ||||||||
| Package: cogena | 
| Version: 1.26.0 | 
| Command: C:\cygwin\bin\curl.exe -O http://155.52.207.165/BBS/3.13/bioc/src/contrib/cogena_1.26.0.tar.gz && rm -rf cogena.buildbin-libdir && mkdir cogena.buildbin-libdir && C:\Users\biocbuild\bbs-3.13-bioc\R\bin\R.exe CMD INSTALL --merge-multiarch --build --library=cogena.buildbin-libdir cogena_1.26.0.tar.gz && C:\Users\biocbuild\bbs-3.13-bioc\R\bin\R.exe CMD INSTALL cogena_1.26.0.zip && rm cogena_1.26.0.tar.gz cogena_1.26.0.zip | 
| StartedAt: 2021-10-14 10:02:05 -0400 (Thu, 14 Oct 2021) | 
| EndedAt: 2021-10-14 10:05:43 -0400 (Thu, 14 Oct 2021) | 
| EllapsedTime: 218.1 seconds | 
| RetCode: 0 | 
| Status: OK | 
##############################################################################
##############################################################################
###
### Running command:
###
###   C:\cygwin\bin\curl.exe -O http://155.52.207.165/BBS/3.13/bioc/src/contrib/cogena_1.26.0.tar.gz && rm -rf cogena.buildbin-libdir && mkdir cogena.buildbin-libdir && C:\Users\biocbuild\bbs-3.13-bioc\R\bin\R.exe CMD INSTALL --merge-multiarch --build --library=cogena.buildbin-libdir cogena_1.26.0.tar.gz && C:\Users\biocbuild\bbs-3.13-bioc\R\bin\R.exe CMD INSTALL cogena_1.26.0.zip && rm cogena_1.26.0.tar.gz cogena_1.26.0.zip
###
##############################################################################
##############################################################################
  % Total    % Received % Xferd  Average Speed   Time    Time     Time  Current
                                 Dload  Upload   Total   Spent    Left  Speed
  0     0    0     0    0     0      0      0 --:--:-- --:--:-- --:--:--     0
  0 4586k    0  1135    0     0  13821      0  0:05:39 --:--:--  0:05:39 13841
 40 4586k   40 1849k    0     0  1709k      0  0:00:02  0:00:01  0:00:01 1709k
100 4586k  100 4586k    0     0  2238k      0  0:00:02  0:00:02 --:--:-- 2239k
install for i386
* installing *source* package 'cogena' ...
** using staged installation
** R
** data
*** moving datasets to lazyload DB
** inst
** byte-compile and prepare package for lazy loading
Warning: replacing previous import 'class::somgrid' by 'kohonen::somgrid' when loading 'cogena'
** help
*** installing help indices
  converting help for package 'cogena'
    finding HTML links ... done
    AllGeneSymbols                          html  
    DEexprs                                 html  
    PEI                                     html  
    Psoriasis                               html  
    clEnrich                                html  
    clEnrich_one                            html  
    clusterMethods                          html  
    coExp                                   html  
    cogena_class                            html  
    cogena_package                          html  
    corInCluster                            html  
    enrichment                              html  
    gene2set                                html  
    geneExpInCluster                        html  
    geneInCluster                           html  
    genecl_class                            html  
    geneclusters                            html  
    gmt2list                                html  
    gmtlist2file                            html  
    heatmap.3                               html  
    heatmapCluster                          html  
    heatmapCmap                             html  
    heatmapPEI                              html  
    mat                                     html  
    nClusters                               html  
    pClusters                               html  
    sampleLabel                             html  
    show                                    html  
    sota                                    html  
    summary                                 html  
    upDownGene                              html  
** building package indices
** installing vignettes
** testing if installed package can be loaded from temporary location
Warning: replacing previous import 'class::somgrid' by 'kohonen::somgrid' when loading 'cogena'
** testing if installed package can be loaded from final location
Warning: replacing previous import 'class::somgrid' by 'kohonen::somgrid' when loading 'cogena'
** testing if installed package keeps a record of temporary installation path
install for x64
* installing *source* package 'cogena' ...
** testing if installed package can be loaded
Warning: replacing previous import 'class::somgrid' by 'kohonen::somgrid' when loading 'cogena'
* MD5 sums
packaged installation of 'cogena' as cogena_1.26.0.zip
* DONE (cogena)
* installing to library 'C:/Users/biocbuild/bbs-3.13-bioc/R/library'
package 'cogena' successfully unpacked and MD5 sums checked