| Back to Multiple platform build/check report for BioC 3.13 |
|
This page was generated on 2021-10-15 15:06:31 -0400 (Fri, 15 Oct 2021).
|
To the developers/maintainers of the cn.mops package: - Please allow up to 24 hours (and sometimes 48 hours) for your latest push to git@git.bioconductor.org:packages/cn.mops.git to reflect on this report. See How and When does the builder pull? When will my changes propagate? here for more information. - Make sure to use the following settings in order to reproduce any error or warning you see on this page. |
| Package 340/2041 | Hostname | OS / Arch | INSTALL | BUILD | CHECK | BUILD BIN | ||||||||
| cn.mops 1.38.0 (landing page) Gundula Povysil
| nebbiolo1 | Linux (Ubuntu 20.04.2 LTS) / x86_64 | OK | OK | OK | |||||||||
| tokay2 | Windows Server 2012 R2 Standard / x64 | OK | OK | OK | OK | |||||||||
| machv2 | macOS 10.14.6 Mojave / x86_64 | OK | OK | OK | OK | |||||||||
| Package: cn.mops |
| Version: 1.38.0 |
| Command: /Library/Frameworks/R.framework/Versions/Current/Resources/bin/R CMD check --install=check:cn.mops.install-out.txt --library=/Library/Frameworks/R.framework/Versions/Current/Resources/library --no-vignettes --timings cn.mops_1.38.0.tar.gz |
| StartedAt: 2021-10-14 17:33:36 -0400 (Thu, 14 Oct 2021) |
| EndedAt: 2021-10-14 17:38:21 -0400 (Thu, 14 Oct 2021) |
| EllapsedTime: 284.7 seconds |
| RetCode: 0 |
| Status: OK |
| CheckDir: cn.mops.Rcheck |
| Warnings: 0 |
##############################################################################
##############################################################################
###
### Running command:
###
### /Library/Frameworks/R.framework/Versions/Current/Resources/bin/R CMD check --install=check:cn.mops.install-out.txt --library=/Library/Frameworks/R.framework/Versions/Current/Resources/library --no-vignettes --timings cn.mops_1.38.0.tar.gz
###
##############################################################################
##############################################################################
* using log directory ‘/Users/biocbuild/bbs-3.13-bioc/meat/cn.mops.Rcheck’
* using R version 4.1.1 (2021-08-10)
* using platform: x86_64-apple-darwin17.0 (64-bit)
* using session charset: UTF-8
* using option ‘--no-vignettes’
* checking for file ‘cn.mops/DESCRIPTION’ ... OK
* checking extension type ... Package
* this is package ‘cn.mops’ version ‘1.38.0’
* checking package namespace information ... OK
* checking package dependencies ... OK
* checking if this is a source package ... OK
* checking if there is a namespace ... OK
* checking for hidden files and directories ... NOTE
Found the following hidden files and directories:
.git_fetch_output.txt
.git_merge_output.txt
These were most likely included in error. See section ‘Package
structure’ in the ‘Writing R Extensions’ manual.
* checking for portable file names ... OK
* checking for sufficient/correct file permissions ... OK
* checking whether package ‘cn.mops’ can be installed ... OK
* checking installed package size ... OK
* checking package directory ... OK
* checking ‘build’ directory ... OK
* checking DESCRIPTION meta-information ... OK
* checking top-level files ... OK
* checking for left-over files ... OK
* checking index information ... OK
* checking package subdirectories ... OK
* checking R files for non-ASCII characters ... OK
* checking R files for syntax errors ... OK
* checking whether the package can be loaded ... OK
* checking whether the package can be loaded with stated dependencies ... OK
* checking whether the package can be unloaded cleanly ... OK
* checking whether the namespace can be loaded with stated dependencies ... OK
* checking whether the namespace can be unloaded cleanly ... OK
* checking dependencies in R code ... OK
* checking S3 generic/method consistency ... OK
* checking replacement functions ... OK
* checking foreign function calls ... OK
* checking R code for possible problems ... OK
* checking Rd files ... OK
* checking Rd metadata ... OK
* checking Rd cross-references ... OK
* checking for missing documentation entries ... OK
* checking for code/documentation mismatches ... OK
* checking Rd \usage sections ... OK
* checking Rd contents ... OK
* checking for unstated dependencies in examples ... OK
* checking contents of ‘data’ directory ... OK
* checking data for non-ASCII characters ... OK
* checking data for ASCII and uncompressed saves ... OK
* checking line endings in C/C++/Fortran sources/headers ... OK
* checking compiled code ... NOTE
Note: information on .o files is not available
* checking sizes of PDF files under ‘inst/doc’ ... OK
* checking files in ‘vignettes’ ... OK
* checking examples ... OK
Examples with CPU (user + system) or elapsed time > 5s
user system elapsed
referencecn.mops 12.602 0.047 27.526
calcFractionalCopyNumbers-CNVDetectionResult-method 10.601 0.081 10.694
cn.mops 9.992 0.186 28.984
calcFractionalCopyNumbers 9.915 0.025 9.952
haplocn.mops 1.963 0.032 16.688
getReadCountsFromBAM 0.874 0.015 8.217
getSegmentReadCountsFromBAM 0.588 0.013 7.665
* checking for unstated dependencies in vignettes ... OK
* checking package vignettes in ‘inst/doc’ ... OK
* checking running R code from vignettes ... SKIPPED
* checking re-building of vignette outputs ... SKIPPED
* checking PDF version of manual ... OK
* DONE
Status: 2 NOTEs
See
‘/Users/biocbuild/bbs-3.13-bioc/meat/cn.mops.Rcheck/00check.log’
for details.
cn.mops.Rcheck/00install.out
##############################################################################
##############################################################################
###
### Running command:
###
### /Library/Frameworks/R.framework/Versions/Current/Resources/bin/R CMD INSTALL cn.mops
###
##############################################################################
##############################################################################
* installing to library ‘/Library/Frameworks/R.framework/Versions/4.1/Resources/library’
* installing *source* package ‘cn.mops’ ...
** using staged installation
** libs
clang -mmacosx-version-min=10.13 -I"/Library/Frameworks/R.framework/Resources/include" -DNDEBUG -I/usr/local/include -fPIC -Wall -g -O2 -c R_init_cnmops.c -o R_init_cnmops.o
clang++ -mmacosx-version-min=10.13 -std=gnu++14 -I"/Library/Frameworks/R.framework/Resources/include" -DNDEBUG -I/usr/local/include -fPIC -Wall -g -O2 -c cnmops.cpp -o cnmops.o
clang++ -mmacosx-version-min=10.13 -std=gnu++14 -I"/Library/Frameworks/R.framework/Resources/include" -DNDEBUG -I/usr/local/include -fPIC -Wall -g -O2 -c segment.cpp -o segment.o
segment.cpp:64:9: warning: unused variable 'Rf_beta' [-Wunused-variable]
double beta,nn;
^
/Library/Frameworks/R.framework/Resources/include/Rmath.h:212:15: note: expanded from macro 'beta'
#define beta Rf_beta
^
1 warning generated.
clang++ -mmacosx-version-min=10.13 -std=gnu++14 -dynamiclib -Wl,-headerpad_max_install_names -undefined dynamic_lookup -single_module -multiply_defined suppress -L/Library/Frameworks/R.framework/Resources/lib -L/usr/local/lib -o cn.mops.so R_init_cnmops.o cnmops.o segment.o -F/Library/Frameworks/R.framework/.. -framework R -Wl,-framework -Wl,CoreFoundation
installing to /Library/Frameworks/R.framework/Versions/4.1/Resources/library/00LOCK-cn.mops/00new/cn.mops/libs
** R
** data
** inst
** byte-compile and prepare package for lazy loading
** help
*** installing help indices
** building package indices
** installing vignettes
** testing if installed package can be loaded from temporary location
** checking absolute paths in shared objects and dynamic libraries
** testing if installed package can be loaded from final location
** testing if installed package keeps a record of temporary installation path
* DONE (cn.mops)
cn.mops.Rcheck/cn.mops-Ex.timings
| name | user | system | elapsed | |
| CNVDetectionResult | 0.002 | 0.002 | 0.005 | |
| calcFractionalCopyNumbers-CNVDetectionResult-method | 10.601 | 0.081 | 10.694 | |
| calcFractionalCopyNumbers | 9.915 | 0.025 | 9.952 | |
| calcIntegerCopyNumbers-CNVDetectionResult-method | 0.927 | 0.007 | 0.934 | |
| calcIntegerCopyNumbers | 0.899 | 0.011 | 0.911 | |
| cn.mops | 9.992 | 0.186 | 28.984 | |
| cnvr-CNVDetectionResult-method | 0.363 | 0.006 | 0.369 | |
| cnvr | 0.419 | 0.006 | 0.424 | |
| cnvs-CNVDetectionResult-method | 0.456 | 0.005 | 0.462 | |
| cnvs | 0.422 | 0.005 | 0.427 | |
| exomecn.mops | 4.482 | 0.022 | 4.508 | |
| getReadCountsFromBAM | 0.874 | 0.015 | 8.217 | |
| getSegmentReadCountsFromBAM | 0.588 | 0.013 | 7.665 | |
| gr-CNVDetectionResult-method | 0.408 | 0.006 | 0.415 | |
| gr | 0.449 | 0.008 | 0.458 | |
| haplocn.mops | 1.963 | 0.032 | 16.688 | |
| individualCall-CNVDetectionResult-method | 0.412 | 0.003 | 0.417 | |
| individualCall | 0.408 | 0.009 | 0.436 | |
| iniCall-CNVDetectionResult-method | 0.741 | 0.010 | 0.752 | |
| iniCall | 0.380 | 0.010 | 0.391 | |
| integerCopyNumber-CNVDetectionResult-method | 0.351 | 0.004 | 0.356 | |
| integerCopyNumber | 0.381 | 0.003 | 0.384 | |
| localAssessments-CNVDetectionResult-method | 0.411 | 0.005 | 0.417 | |
| localAssessments | 0.435 | 0.004 | 0.440 | |
| makeRobustCNVR | 0.749 | 0.005 | 0.753 | |
| normalizeChromosomes | 0.275 | 0.011 | 0.286 | |
| normalizeGenome | 0.306 | 0.018 | 0.324 | |
| normalizedData-CNVDetectionResult-method | 0.470 | 0.005 | 0.476 | |
| normalizedData | 0.471 | 0.007 | 0.479 | |
| params-CNVDetectionResult-method | 0.373 | 0.018 | 0.392 | |
| params | 0.317 | 0.013 | 0.331 | |
| posteriorProbs-CNVDetectionResult-method | 0.320 | 0.003 | 0.324 | |
| posteriorProbs | 0.398 | 0.004 | 0.403 | |
| referencecn.mops | 12.602 | 0.047 | 27.526 | |
| sampleNames-CNVDetectionResult-method | 0.449 | 0.005 | 0.454 | |
| sampleNames | 0.406 | 0.004 | 0.411 | |
| segment | 0.036 | 0.001 | 0.037 | |
| segmentation-CNVDetectionResult-method | 0.290 | 0.004 | 0.293 | |
| segmentation | 0.393 | 0.003 | 0.397 | |
| segplot-CNVDetectionResult-method | 1.820 | 0.006 | 1.827 | |
| segplot | 1.840 | 0.006 | 1.848 | |
| singlecn.mops | 1.497 | 0.006 | 1.505 | |