| Back to Multiple platform build/check report for BioC 3.13 |
|
This page was generated on 2021-10-15 15:06:00 -0400 (Fri, 15 Oct 2021).
|
To the developers/maintainers of the clusterExperiment package: - Please allow up to 24 hours (and sometimes 48 hours) for your latest push to git@git.bioconductor.org:packages/clusterExperiment.git to reflect on this report. See How and When does the builder pull? When will my changes propagate? here for more information. - Make sure to use the following settings in order to reproduce any error or warning you see on this page. |
| Package 330/2041 | Hostname | OS / Arch | INSTALL | BUILD | CHECK | BUILD BIN | ||||||||
| clusterExperiment 2.12.0 (landing page) Elizabeth Purdom
| nebbiolo1 | Linux (Ubuntu 20.04.2 LTS) / x86_64 | OK | OK | WARNINGS | |||||||||
| tokay2 | Windows Server 2012 R2 Standard / x64 | OK | OK | TIMEOUT | OK | |||||||||
| machv2 | macOS 10.14.6 Mojave / x86_64 | OK | OK | TIMEOUT | OK | |||||||||
| Package: clusterExperiment |
| Version: 2.12.0 |
| Command: C:\cygwin\bin\curl.exe -O http://155.52.207.165/BBS/3.13/bioc/src/contrib/clusterExperiment_2.12.0.tar.gz && rm -rf clusterExperiment.buildbin-libdir && mkdir clusterExperiment.buildbin-libdir && C:\Users\biocbuild\bbs-3.13-bioc\R\bin\R.exe CMD INSTALL --merge-multiarch --build --library=clusterExperiment.buildbin-libdir clusterExperiment_2.12.0.tar.gz && C:\Users\biocbuild\bbs-3.13-bioc\R\bin\R.exe CMD INSTALL clusterExperiment_2.12.0.zip && rm clusterExperiment_2.12.0.tar.gz clusterExperiment_2.12.0.zip |
| StartedAt: 2021-10-14 11:16:08 -0400 (Thu, 14 Oct 2021) |
| EndedAt: 2021-10-14 11:18:50 -0400 (Thu, 14 Oct 2021) |
| EllapsedTime: 161.7 seconds |
| RetCode: 0 |
| Status: OK |
##############################################################################
##############################################################################
###
### Running command:
###
### C:\cygwin\bin\curl.exe -O http://155.52.207.165/BBS/3.13/bioc/src/contrib/clusterExperiment_2.12.0.tar.gz && rm -rf clusterExperiment.buildbin-libdir && mkdir clusterExperiment.buildbin-libdir && C:\Users\biocbuild\bbs-3.13-bioc\R\bin\R.exe CMD INSTALL --merge-multiarch --build --library=clusterExperiment.buildbin-libdir clusterExperiment_2.12.0.tar.gz && C:\Users\biocbuild\bbs-3.13-bioc\R\bin\R.exe CMD INSTALL clusterExperiment_2.12.0.zip && rm clusterExperiment_2.12.0.tar.gz clusterExperiment_2.12.0.zip
###
##############################################################################
##############################################################################
% Total % Received % Xferd Average Speed Time Time Time Current
Dload Upload Total Spent Left Speed
0 0 0 0 0 0 0 0 --:--:-- --:--:-- --:--:-- 0
44 4097k 44 1804k 0 0 1794k 0 0:00:02 0:00:01 0:00:01 1795k
100 4097k 100 4097k 0 0 2208k 0 0:00:01 0:00:01 --:--:-- 2208k
install for i386
* installing *source* package 'clusterExperiment' ...
** using staged installation
** libs
"C:/rtools40/mingw32/bin/"g++ -std=gnu++11 -I"C:/Users/BIOCBU~1/BBS-3~1.13-/R/include" -DNDEBUG -I'C:/Users/biocbuild/bbs-3.13-bioc/R/library/Rcpp/include' -I"c:/extsoft/include" -O2 -Wall -mfpmath=sse -msse2 -mstackrealign -c RcppExports.cpp -o RcppExports.o
"C:/rtools40/mingw32/bin/"g++ -std=gnu++11 -I"C:/Users/BIOCBU~1/BBS-3~1.13-/R/include" -DNDEBUG -I'C:/Users/biocbuild/bbs-3.13-bioc/R/library/Rcpp/include' -I"c:/extsoft/include" -O2 -Wall -mfpmath=sse -msse2 -mstackrealign -c search_pairs.cpp -o search_pairs.o
"C:/rtools40/mingw32/bin/"g++ -std=gnu++11 -I"C:/Users/BIOCBU~1/BBS-3~1.13-/R/include" -DNDEBUG -I'C:/Users/biocbuild/bbs-3.13-bioc/R/library/Rcpp/include' -I"c:/extsoft/include" -O2 -Wall -mfpmath=sse -msse2 -mstackrealign -c subsampleLoop.cpp -o subsampleLoop.o
C:/rtools40/mingw32/bin/g++ -shared -s -static-libgcc -o clusterExperiment.dll tmp.def RcppExports.o search_pairs.o subsampleLoop.o -LC:/Users/BIOCBU~1/BBS-3~1.13-/R/bin/i386 -lRlapack -LC:/Users/BIOCBU~1/BBS-3~1.13-/R/bin/i386 -lRblas -lgfortran -lm -lquadmath -Lc:/extsoft/lib/i386 -Lc:/extsoft/lib -LC:/Users/BIOCBU~1/BBS-3~1.13-/R/bin/i386 -lR
installing to C:/Users/biocbuild/bbs-3.13-bioc/meat/clusterExperiment.buildbin-libdir/00LOCK-clusterExperiment/00new/clusterExperiment/libs/i386
** R
** data
** byte-compile and prepare package for lazy loading
Found more than one class "Annotated" in cache; using the first, from namespace 'S4Vectors'
Also defined by 'RNeXML'
Found more than one class "Annotated" in cache; using the first, from namespace 'S4Vectors'
Also defined by 'RNeXML'
Found more than one class "Annotated" in cache; using the first, from namespace 'S4Vectors'
Also defined by 'RNeXML'
Found more than one class "Annotated" in cache; using the first, from namespace 'S4Vectors'
Also defined by 'RNeXML'
Found more than one class "Annotated" in cache; using the first, from namespace 'S4Vectors'
Also defined by 'RNeXML'
** help
*** installing help indices
converting help for package 'clusterExperiment'
finding HTML links ... done
ClusterExperiment-class html
ClusterExperiment-methods html
ClusterFunction-class html
ClusterFunction-methods html
RSEC html
addClusterings html
assignUnassigned html
builtInClusteringFunctions html
clusterContrasts html
finding level-2 HTML links ... done
clusterDendrogram html
clusterExperiment-deprecated html
clusterMany html
clusterSingle html
fluidigmData html
getBestFeatures html
getClusterIndex html
getClusterManyParams html
mainClustering html
makeConsensus html
makeDendrogram html
mergeClusters html
numericalAsCharacter html
plotBarplot html
plotClusters html
plotClustersTable html
plotClustersWorkflow html
plotContrastHeatmap html
plotDendrogram html
plotFeatureBoxplot html
plotFeatureScatter html
plotHeatmap html
plotReducedDims html
plottingFunctions html
reduceFunctions html
renameClusters html
rsecFluidigm html
search_pairs html
seqCluster html
simData html
subsampleClustering html
subset html
transformData html
updateObject html
workflowClusters html
** building package indices
** installing vignettes
** testing if installed package can be loaded from temporary location
** testing if installed package can be loaded from final location
** testing if installed package keeps a record of temporary installation path
install for x64
* installing *source* package 'clusterExperiment' ...
** libs
"C:/rtools40/mingw64/bin/"g++ -std=gnu++11 -I"C:/Users/BIOCBU~1/BBS-3~1.13-/R/include" -DNDEBUG -I'C:/Users/biocbuild/bbs-3.13-bioc/R/library/Rcpp/include' -I"C:/extsoft/include" -O2 -Wall -mfpmath=sse -msse2 -mstackrealign -c RcppExports.cpp -o RcppExports.o
"C:/rtools40/mingw64/bin/"g++ -std=gnu++11 -I"C:/Users/BIOCBU~1/BBS-3~1.13-/R/include" -DNDEBUG -I'C:/Users/biocbuild/bbs-3.13-bioc/R/library/Rcpp/include' -I"C:/extsoft/include" -O2 -Wall -mfpmath=sse -msse2 -mstackrealign -c search_pairs.cpp -o search_pairs.o
"C:/rtools40/mingw64/bin/"g++ -std=gnu++11 -I"C:/Users/BIOCBU~1/BBS-3~1.13-/R/include" -DNDEBUG -I'C:/Users/biocbuild/bbs-3.13-bioc/R/library/Rcpp/include' -I"C:/extsoft/include" -O2 -Wall -mfpmath=sse -msse2 -mstackrealign -c subsampleLoop.cpp -o subsampleLoop.o
C:/rtools40/mingw64/bin/g++ -shared -s -static-libgcc -o clusterExperiment.dll tmp.def RcppExports.o search_pairs.o subsampleLoop.o -LC:/Users/BIOCBU~1/BBS-3~1.13-/R/bin/x64 -lRlapack -LC:/Users/BIOCBU~1/BBS-3~1.13-/R/bin/x64 -lRblas -lgfortran -lm -lquadmath -LC:/extsoft/lib/x64 -LC:/extsoft/lib -LC:/Users/BIOCBU~1/BBS-3~1.13-/R/bin/x64 -lR
installing to C:/Users/biocbuild/bbs-3.13-bioc/meat/clusterExperiment.buildbin-libdir/clusterExperiment/libs/x64
** testing if installed package can be loaded
* MD5 sums
packaged installation of 'clusterExperiment' as clusterExperiment_2.12.0.zip
* DONE (clusterExperiment)
* installing to library 'C:/Users/biocbuild/bbs-3.13-bioc/R/library'
package 'clusterExperiment' successfully unpacked and MD5 sums checked