| Back to Multiple platform build/check report for BioC 3.13 |
|
This page was generated on 2021-10-15 15:06:00 -0400 (Fri, 15 Oct 2021).
|
To the developers/maintainers of the clipper package: - Please allow up to 24 hours (and sometimes 48 hours) for your latest push to git@git.bioconductor.org:packages/clipper.git to reflect on this report. See How and When does the builder pull? When will my changes propagate? here for more information. - Make sure to use the following settings in order to reproduce any error or warning you see on this page. |
| Package 321/2041 | Hostname | OS / Arch | INSTALL | BUILD | CHECK | BUILD BIN | ||||||||
| clipper 1.32.0 (landing page) Paolo Martini
| nebbiolo1 | Linux (Ubuntu 20.04.2 LTS) / x86_64 | OK | OK | OK | |||||||||
| tokay2 | Windows Server 2012 R2 Standard / x64 | OK | OK | OK | OK | |||||||||
| machv2 | macOS 10.14.6 Mojave / x86_64 | OK | OK | OK | OK | |||||||||
| Package: clipper |
| Version: 1.32.0 |
| Command: rm -rf clipper.buildbin-libdir && mkdir clipper.buildbin-libdir && C:\Users\biocbuild\bbs-3.13-bioc\R\bin\R.exe CMD INSTALL --merge-multiarch --build --library=clipper.buildbin-libdir clipper_1.32.0.tar.gz |
| StartedAt: 2021-10-15 08:35:25 -0400 (Fri, 15 Oct 2021) |
| EndedAt: 2021-10-15 08:37:06 -0400 (Fri, 15 Oct 2021) |
| EllapsedTime: 101.1 seconds |
| RetCode: 0 |
| Status: OK |
| PackageFile: clipper_1.32.0.zip |
| PackageFileSize: 711.1 KiB |
##############################################################################
##############################################################################
###
### Running command:
###
### rm -rf clipper.buildbin-libdir && mkdir clipper.buildbin-libdir && C:\Users\biocbuild\bbs-3.13-bioc\R\bin\R.exe CMD INSTALL --merge-multiarch --build --library=clipper.buildbin-libdir clipper_1.32.0.tar.gz
###
##############################################################################
##############################################################################
install for i386
* installing *source* package 'clipper' ...
** using staged installation
** R
** inst
** byte-compile and prepare package for lazy loading
No methods found in package 'GenomicRanges' for request: 'c' when loading 'qpgraph'
** help
*** installing help indices
converting help for package 'clipper'
finding HTML links ... done
clipper html
clipperAllRoots html
cliqueMeanTest html
cliqueMixedTest html
cliquePairedTest html
cliqueVarianceTest html
deleteEdge html
easyClip html
easyLook html
getGraphEntryGenes html
getJunctionTreePaths html
nameCliques html
pathwayTest html
plotInCytoscape html
prunePaths html
** building package indices
** installing vignettes
** testing if installed package can be loaded from temporary location
No methods found in package 'GenomicRanges' for request: 'c' when loading 'qpgraph'
** testing if installed package can be loaded from final location
No methods found in package 'GenomicRanges' for request: 'c' when loading 'qpgraph'
** testing if installed package keeps a record of temporary installation path
install for x64
* installing *source* package 'clipper' ...
** testing if installed package can be loaded
No methods found in package 'GenomicRanges' for request: 'c' when loading 'qpgraph'
* MD5 sums
packaged installation of 'clipper' as clipper_1.32.0.zip
* DONE (clipper)