| Back to Multiple platform build/check report for BioC 3.13 |
|
This page was generated on 2021-10-15 15:06:00 -0400 (Fri, 15 Oct 2021).
|
To the developers/maintainers of the cleanUpdTSeq package: - Please allow up to 24 hours (and sometimes 48 hours) for your latest push to git@git.bioconductor.org:packages/cleanUpdTSeq.git to reflect on this report. See How and When does the builder pull? When will my changes propagate? here for more information. - Make sure to use the following settings in order to reproduce any error or warning you see on this page. |
| Package 318/2041 | Hostname | OS / Arch | INSTALL | BUILD | CHECK | BUILD BIN | ||||||||
| cleanUpdTSeq 1.30.0 (landing page) Jianhong Ou
| nebbiolo1 | Linux (Ubuntu 20.04.2 LTS) / x86_64 | OK | OK | OK | |||||||||
| tokay2 | Windows Server 2012 R2 Standard / x64 | OK | OK | OK | OK | |||||||||
| machv2 | macOS 10.14.6 Mojave / x86_64 | OK | OK | OK | OK | |||||||||
| Package: cleanUpdTSeq |
| Version: 1.30.0 |
| Command: C:\Users\biocbuild\bbs-3.13-bioc\R\bin\R.exe CMD check --force-multiarch --install=check:cleanUpdTSeq.install-out.txt --library=C:\Users\biocbuild\bbs-3.13-bioc\R\library --no-vignettes --timings cleanUpdTSeq_1.30.0.tar.gz |
| StartedAt: 2021-10-14 21:07:05 -0400 (Thu, 14 Oct 2021) |
| EndedAt: 2021-10-14 21:13:08 -0400 (Thu, 14 Oct 2021) |
| EllapsedTime: 362.3 seconds |
| RetCode: 0 |
| Status: OK |
| CheckDir: cleanUpdTSeq.Rcheck |
| Warnings: 0 |
##############################################################################
##############################################################################
###
### Running command:
###
### C:\Users\biocbuild\bbs-3.13-bioc\R\bin\R.exe CMD check --force-multiarch --install=check:cleanUpdTSeq.install-out.txt --library=C:\Users\biocbuild\bbs-3.13-bioc\R\library --no-vignettes --timings cleanUpdTSeq_1.30.0.tar.gz
###
##############################################################################
##############################################################################
* using log directory 'C:/Users/biocbuild/bbs-3.13-bioc/meat/cleanUpdTSeq.Rcheck'
* using R version 4.1.1 (2021-08-10)
* using platform: x86_64-w64-mingw32 (64-bit)
* using session charset: ISO8859-1
* using option '--no-vignettes'
* checking for file 'cleanUpdTSeq/DESCRIPTION' ... OK
* checking extension type ... Package
* this is package 'cleanUpdTSeq' version '1.30.0'
* package encoding: UTF-8
* checking package namespace information ... OK
* checking package dependencies ... OK
* checking if this is a source package ... OK
* checking if there is a namespace ... OK
* checking for hidden files and directories ... OK
* checking for portable file names ... OK
* checking whether package 'cleanUpdTSeq' can be installed ... OK
* checking installed package size ... NOTE
installed size is 6.0Mb
sub-directories of 1Mb or more:
data 4.4Mb
extdata 1.2Mb
* checking package directory ... OK
* checking 'build' directory ... OK
* checking DESCRIPTION meta-information ... OK
* checking top-level files ... OK
* checking for left-over files ... OK
* checking index information ... OK
* checking package subdirectories ... OK
* checking R files for non-ASCII characters ... OK
* checking R files for syntax errors ... OK
* loading checks for arch 'i386'
** checking whether the package can be loaded ... OK
** checking whether the package can be loaded with stated dependencies ... OK
** checking whether the package can be unloaded cleanly ... OK
** checking whether the namespace can be loaded with stated dependencies ... OK
** checking whether the namespace can be unloaded cleanly ... OK
* loading checks for arch 'x64'
** checking whether the package can be loaded ... OK
** checking whether the package can be loaded with stated dependencies ... OK
** checking whether the package can be unloaded cleanly ... OK
** checking whether the namespace can be loaded with stated dependencies ... OK
** checking whether the namespace can be unloaded cleanly ... OK
* checking dependencies in R code ... OK
* checking S3 generic/method consistency ... OK
* checking replacement functions ... OK
* checking foreign function calls ... OK
* checking R code for possible problems ... OK
* checking Rd files ... OK
* checking Rd metadata ... OK
* checking Rd cross-references ... OK
* checking for missing documentation entries ... OK
* checking for code/documentation mismatches ... OK
* checking Rd \usage sections ... OK
* checking Rd contents ... OK
* checking for unstated dependencies in examples ... OK
* checking contents of 'data' directory ... OK
* checking data for non-ASCII characters ... NOTE
Error loading dataset 'classifier':
Error in h(simpleError(msg, call)) :
error in evaluating the argument 'x' in selecting a method for function 'seqlevels': UCSC library operation failed
* checking LazyData ... OK
* checking data for ASCII and uncompressed saves ... OK
* checking files in 'vignettes' ... OK
* checking examples ...
** running examples for arch 'i386' ... OK
Examples with CPU (user + system) or elapsed time > 5s
user system elapsed
predictTestSet 7.00 2.20 9.20
data.NaiveBayes 4.22 1.84 6.06
** running examples for arch 'x64' ... OK
Examples with CPU (user + system) or elapsed time > 5s
user system elapsed
predictTestSet 5.06 0.52 5.57
* checking for unstated dependencies in 'tests' ... OK
* checking tests ...
** running tests for arch 'i386' ...
Running 'runTests.R'
OK
** running tests for arch 'x64' ...
Running 'runTests.R'
OK
* checking for unstated dependencies in vignettes ... OK
* checking package vignettes in 'inst/doc' ... OK
* checking running R code from vignettes ... SKIPPED
* checking re-building of vignette outputs ... SKIPPED
* checking PDF version of manual ... OK
* DONE
Status: 2 NOTEs
See
'C:/Users/biocbuild/bbs-3.13-bioc/meat/cleanUpdTSeq.Rcheck/00check.log'
for details.
cleanUpdTSeq.Rcheck/00install.out
##############################################################################
##############################################################################
###
### Running command:
###
### C:\cygwin\bin\curl.exe -O http://155.52.207.165/BBS/3.13/bioc/src/contrib/cleanUpdTSeq_1.30.0.tar.gz && rm -rf cleanUpdTSeq.buildbin-libdir && mkdir cleanUpdTSeq.buildbin-libdir && C:\Users\biocbuild\bbs-3.13-bioc\R\bin\R.exe CMD INSTALL --merge-multiarch --build --library=cleanUpdTSeq.buildbin-libdir cleanUpdTSeq_1.30.0.tar.gz && C:\Users\biocbuild\bbs-3.13-bioc\R\bin\R.exe CMD INSTALL cleanUpdTSeq_1.30.0.zip && rm cleanUpdTSeq_1.30.0.tar.gz cleanUpdTSeq_1.30.0.zip
###
##############################################################################
##############################################################################
% Total % Received % Xferd Average Speed Time Time Time Current
Dload Upload Total Spent Left Speed
0 0 0 0 0 0 0 0 --:--:-- --:--:-- --:--:-- 0
23 3841k 23 918k 0 0 1235k 0 0:00:03 --:--:-- 0:00:03 1235k
81 3841k 81 3144k 0 0 1811k 0 0:00:02 0:00:01 0:00:01 1812k
100 3841k 100 3841k 0 0 1954k 0 0:00:01 0:00:01 --:--:-- 1955k
install for i386
* installing *source* package 'cleanUpdTSeq' ...
** using staged installation
** R
** data
*** moving datasets to lazyload DB
** inst
** byte-compile and prepare package for lazy loading
** help
*** installing help indices
converting help for package 'cleanUpdTSeq'
finding HTML links ... done
BED6WithSeq2GRangesSeq html
PASclassifier-class html
buildClassifier html
buildFeatureVector html
classifier html
cleanUpdTSeq html
data.NaiveBayes html
featureVector-class html
getContextSequences html
modelInfo-class html
naiveBayes-class html
predictTestSet html
** building package indices
** installing vignettes
** testing if installed package can be loaded from temporary location
** testing if installed package can be loaded from final location
** testing if installed package keeps a record of temporary installation path
install for x64
* installing *source* package 'cleanUpdTSeq' ...
** testing if installed package can be loaded
* MD5 sums
packaged installation of 'cleanUpdTSeq' as cleanUpdTSeq_1.30.0.zip
* DONE (cleanUpdTSeq)
* installing to library 'C:/Users/biocbuild/bbs-3.13-bioc/R/library'
package 'cleanUpdTSeq' successfully unpacked and MD5 sums checked
|
cleanUpdTSeq.Rcheck/tests_i386/runTests.Rout
R version 4.1.1 (2021-08-10) -- "Kick Things"
Copyright (C) 2021 The R Foundation for Statistical Computing
Platform: i386-w64-mingw32/i386 (32-bit)
R is free software and comes with ABSOLUTELY NO WARRANTY.
You are welcome to redistribute it under certain conditions.
Type 'license()' or 'licence()' for distribution details.
R is a collaborative project with many contributors.
Type 'contributors()' for more information and
'citation()' on how to cite R or R packages in publications.
Type 'demo()' for some demos, 'help()' for on-line help, or
'help.start()' for an HTML browser interface to help.
Type 'q()' to quit R.
> require("cleanUpdTSeq") || stop("unable to load Package:cleanUpdTSeq")
Loading required package: cleanUpdTSeq
Loading required package: BSgenome.Drerio.UCSC.danRer7
Loading required package: BSgenome
Loading required package: BiocGenerics
Loading required package: parallel
Attaching package: 'BiocGenerics'
The following objects are masked from 'package:parallel':
clusterApply, clusterApplyLB, clusterCall, clusterEvalQ,
clusterExport, clusterMap, parApply, parCapply, parLapply,
parLapplyLB, parRapply, parSapply, parSapplyLB
The following objects are masked from 'package:stats':
IQR, mad, sd, var, xtabs
The following objects are masked from 'package:base':
Filter, Find, Map, Position, Reduce, anyDuplicated, append,
as.data.frame, basename, cbind, colnames, dirname, do.call,
duplicated, eval, evalq, get, grep, grepl, intersect, is.unsorted,
lapply, mapply, match, mget, order, paste, pmax, pmax.int, pmin,
pmin.int, rank, rbind, rownames, sapply, setdiff, sort, table,
tapply, union, unique, unsplit, which.max, which.min
Loading required package: S4Vectors
Loading required package: stats4
Attaching package: 'S4Vectors'
The following objects are masked from 'package:base':
I, expand.grid, unname
Loading required package: IRanges
Attaching package: 'IRanges'
The following object is masked from 'package:grDevices':
windows
Loading required package: GenomeInfoDb
Loading required package: GenomicRanges
Loading required package: Biostrings
Loading required package: XVector
Attaching package: 'Biostrings'
The following object is masked from 'package:base':
strsplit
Loading required package: rtracklayer
[1] TRUE
> BiocGenerics:::testPackage("cleanUpdTSeq")
genome of classifier is different from testSet.NaiveBayes.
RUNIT TEST PROTOCOL -- Thu Oct 14 21:12:47 2021
***********************************************
Number of test functions: 1
Number of errors: 0
Number of failures: 0
1 Test Suite :
cleanUpdTSeq RUnit Tests - 1 test function, 0 errors, 0 failures
Number of test functions: 1
Number of errors: 0
Number of failures: 0
>
> proc.time()
user system elapsed
11.35 0.76 12.40
|
cleanUpdTSeq.Rcheck/tests_x64/runTests.Rout
R version 4.1.1 (2021-08-10) -- "Kick Things"
Copyright (C) 2021 The R Foundation for Statistical Computing
Platform: x86_64-w64-mingw32/x64 (64-bit)
R is free software and comes with ABSOLUTELY NO WARRANTY.
You are welcome to redistribute it under certain conditions.
Type 'license()' or 'licence()' for distribution details.
R is a collaborative project with many contributors.
Type 'contributors()' for more information and
'citation()' on how to cite R or R packages in publications.
Type 'demo()' for some demos, 'help()' for on-line help, or
'help.start()' for an HTML browser interface to help.
Type 'q()' to quit R.
> require("cleanUpdTSeq") || stop("unable to load Package:cleanUpdTSeq")
Loading required package: cleanUpdTSeq
Loading required package: BSgenome.Drerio.UCSC.danRer7
Loading required package: BSgenome
Loading required package: BiocGenerics
Loading required package: parallel
Attaching package: 'BiocGenerics'
The following objects are masked from 'package:parallel':
clusterApply, clusterApplyLB, clusterCall, clusterEvalQ,
clusterExport, clusterMap, parApply, parCapply, parLapply,
parLapplyLB, parRapply, parSapply, parSapplyLB
The following objects are masked from 'package:stats':
IQR, mad, sd, var, xtabs
The following objects are masked from 'package:base':
Filter, Find, Map, Position, Reduce, anyDuplicated, append,
as.data.frame, basename, cbind, colnames, dirname, do.call,
duplicated, eval, evalq, get, grep, grepl, intersect, is.unsorted,
lapply, mapply, match, mget, order, paste, pmax, pmax.int, pmin,
pmin.int, rank, rbind, rownames, sapply, setdiff, sort, table,
tapply, union, unique, unsplit, which.max, which.min
Loading required package: S4Vectors
Loading required package: stats4
Attaching package: 'S4Vectors'
The following objects are masked from 'package:base':
I, expand.grid, unname
Loading required package: IRanges
Attaching package: 'IRanges'
The following object is masked from 'package:grDevices':
windows
Loading required package: GenomeInfoDb
Loading required package: GenomicRanges
Loading required package: Biostrings
Loading required package: XVector
Attaching package: 'Biostrings'
The following object is masked from 'package:base':
strsplit
Loading required package: rtracklayer
[1] TRUE
> BiocGenerics:::testPackage("cleanUpdTSeq")
genome of classifier is different from testSet.NaiveBayes.
RUNIT TEST PROTOCOL -- Thu Oct 14 21:12:59 2021
***********************************************
Number of test functions: 1
Number of errors: 0
Number of failures: 0
1 Test Suite :
cleanUpdTSeq RUnit Tests - 1 test function, 0 errors, 0 failures
Number of test functions: 1
Number of errors: 0
Number of failures: 0
>
> proc.time()
user system elapsed
11.56 0.45 12.00
|
|
cleanUpdTSeq.Rcheck/examples_i386/cleanUpdTSeq-Ex.timings
|
cleanUpdTSeq.Rcheck/examples_x64/cleanUpdTSeq-Ex.timings
|