| Back to Multiple platform build/check report for BioC 3.13 |
|
This page was generated on 2021-10-15 15:06:00 -0400 (Fri, 15 Oct 2021).
|
To the developers/maintainers of the cicero package: - Please allow up to 24 hours (and sometimes 48 hours) for your latest push to git@git.bioconductor.org:packages/cicero.git to reflect on this report. See How and When does the builder pull? When will my changes propagate? here for more information. - Make sure to use the following settings in order to reproduce any error or warning you see on this page. |
| Package 311/2041 | Hostname | OS / Arch | INSTALL | BUILD | CHECK | BUILD BIN | ||||||||
| cicero 1.10.1 (landing page) Hannah Pliner
| nebbiolo1 | Linux (Ubuntu 20.04.2 LTS) / x86_64 | OK | OK | OK | |||||||||
| tokay2 | Windows Server 2012 R2 Standard / x64 | OK | OK | OK | OK | |||||||||
| machv2 | macOS 10.14.6 Mojave / x86_64 | OK | OK | OK | OK | |||||||||
| Package: cicero |
| Version: 1.10.1 |
| Command: rm -rf cicero.buildbin-libdir && mkdir cicero.buildbin-libdir && C:\Users\biocbuild\bbs-3.13-bioc\R\bin\R.exe CMD INSTALL --merge-multiarch --build --library=cicero.buildbin-libdir cicero_1.10.1.tar.gz |
| StartedAt: 2021-10-15 08:34:03 -0400 (Fri, 15 Oct 2021) |
| EndedAt: 2021-10-15 08:35:17 -0400 (Fri, 15 Oct 2021) |
| EllapsedTime: 73.6 seconds |
| RetCode: 0 |
| Status: OK |
| PackageFile: cicero_1.10.1.zip |
| PackageFileSize: 1.315 MiB |
##############################################################################
##############################################################################
###
### Running command:
###
### rm -rf cicero.buildbin-libdir && mkdir cicero.buildbin-libdir && C:\Users\biocbuild\bbs-3.13-bioc\R\bin\R.exe CMD INSTALL --merge-multiarch --build --library=cicero.buildbin-libdir cicero_1.10.1.tar.gz
###
##############################################################################
##############################################################################
install for i386
* installing *source* package 'cicero' ...
** using staged installation
** R
** data
*** moving datasets to lazyload DB
** inst
** byte-compile and prepare package for lazy loading
** help
*** installing help indices
converting help for package 'cicero'
finding HTML links ... done
aggregate_by_cell_bin html
aggregate_nearby_peaks html
annotate_cds_by_site html
assemble_connections html
build_gene_activity_matrix html
cell_data html
cicero-package html
cicero_data html
compare_connections html
df_for_coords html
estimate_distance_parameter html
find_overlapping_ccans html
find_overlapping_coordinates html
gene_annotation_sample html
generate_ccans html
generate_cicero_models html
human.hg19.genome html
make_atac_cds html
make_cicero_cds html
make_sparse_matrix html
normalize_gene_activities html
plot_accessibility_in_pseudotime html
plot_connections html
ranges_for_coords html
run_cicero html
** building package indices
** installing vignettes
** testing if installed package can be loaded from temporary location
** testing if installed package can be loaded from final location
** testing if installed package keeps a record of temporary installation path
install for x64
* installing *source* package 'cicero' ...
** testing if installed package can be loaded
* MD5 sums
packaged installation of 'cicero' as cicero_1.10.1.zip
* DONE (cicero)