| Back to Multiple platform build/check report for BioC 3.13 |
|
This page was generated on 2021-10-15 15:06:00 -0400 (Fri, 15 Oct 2021).
|
To the developers/maintainers of the chromswitch package: - Please allow up to 24 hours (and sometimes 48 hours) for your latest push to git@git.bioconductor.org:packages/chromswitch.git to reflect on this report. See How and When does the builder pull? When will my changes propagate? here for more information. - Make sure to use the following settings in order to reproduce any error or warning you see on this page. |
| Package 308/2041 | Hostname | OS / Arch | INSTALL | BUILD | CHECK | BUILD BIN | ||||||||
| chromswitch 1.14.0 (landing page) Selin Jessa
| nebbiolo1 | Linux (Ubuntu 20.04.2 LTS) / x86_64 | OK | OK | OK | |||||||||
| tokay2 | Windows Server 2012 R2 Standard / x64 | OK | OK | OK | OK | |||||||||
| machv2 | macOS 10.14.6 Mojave / x86_64 | OK | OK | OK | OK | |||||||||
| Package: chromswitch |
| Version: 1.14.0 |
| Command: C:\cygwin\bin\curl.exe -O http://155.52.207.165/BBS/3.13/bioc/src/contrib/chromswitch_1.14.0.tar.gz && rm -rf chromswitch.buildbin-libdir && mkdir chromswitch.buildbin-libdir && C:\Users\biocbuild\bbs-3.13-bioc\R\bin\R.exe CMD INSTALL --merge-multiarch --build --library=chromswitch.buildbin-libdir chromswitch_1.14.0.tar.gz && C:\Users\biocbuild\bbs-3.13-bioc\R\bin\R.exe CMD INSTALL chromswitch_1.14.0.zip && rm chromswitch_1.14.0.tar.gz chromswitch_1.14.0.zip |
| StartedAt: 2021-10-14 10:12:21 -0400 (Thu, 14 Oct 2021) |
| EndedAt: 2021-10-14 10:13:29 -0400 (Thu, 14 Oct 2021) |
| EllapsedTime: 67.6 seconds |
| RetCode: 0 |
| Status: OK |
##############################################################################
##############################################################################
###
### Running command:
###
### C:\cygwin\bin\curl.exe -O http://155.52.207.165/BBS/3.13/bioc/src/contrib/chromswitch_1.14.0.tar.gz && rm -rf chromswitch.buildbin-libdir && mkdir chromswitch.buildbin-libdir && C:\Users\biocbuild\bbs-3.13-bioc\R\bin\R.exe CMD INSTALL --merge-multiarch --build --library=chromswitch.buildbin-libdir chromswitch_1.14.0.tar.gz && C:\Users\biocbuild\bbs-3.13-bioc\R\bin\R.exe CMD INSTALL chromswitch_1.14.0.zip && rm chromswitch_1.14.0.tar.gz chromswitch_1.14.0.zip
###
##############################################################################
##############################################################################
% Total % Received % Xferd Average Speed Time Time Time Current
Dload Upload Total Spent Left Speed
0 0 0 0 0 0 0 0 --:--:-- --:--:-- --:--:-- 0
51 1570k 51 812k 0 0 1550k 0 0:00:01 --:--:-- 0:00:01 1549k
100 1570k 100 1570k 0 0 1917k 0 --:--:-- --:--:-- --:--:-- 1918k
install for i386
* installing *source* package 'chromswitch' ...
** using staged installation
** R
** data
*** moving datasets to lazyload DB
** inst
** byte-compile and prepare package for lazy loading
** help
*** installing help indices
converting help for package 'chromswitch'
finding HTML links ... done
GRangesToCoord html
H3K4me3 html
LocalPeaks-class html
NMI html
binarizePeaks html
callBinary html
callSummary html
chromswitch html
classEntropy html
cluster html
clusterEntropy html
completeness html
conditionalClassEntropy html
conditionalClusterEntropy html
coordToGRanges html
filterPeaks html
homogeneity html
makeBrowserCoord html
normalizePeaks html
pReciprocalOverlap html
purity html
readNarrowPeak html
reducePeaks html
retrievePeaks html
summarizePeaks html
vMeasure html
winsorNorm html
** building package indices
** installing vignettes
** testing if installed package can be loaded from temporary location
** testing if installed package can be loaded from final location
** testing if installed package keeps a record of temporary installation path
install for x64
* installing *source* package 'chromswitch' ...
** testing if installed package can be loaded
* MD5 sums
packaged installation of 'chromswitch' as chromswitch_1.14.0.zip
* DONE (chromswitch)
* installing to library 'C:/Users/biocbuild/bbs-3.13-bioc/R/library'
package 'chromswitch' successfully unpacked and MD5 sums checked