| Back to Multiple platform build/check report for BioC 3.13 |
|
This page was generated on 2021-10-15 15:05:59 -0400 (Fri, 15 Oct 2021).
|
To the developers/maintainers of the cellity package: - Please allow up to 24 hours (and sometimes 48 hours) for your latest push to git@git.bioconductor.org:packages/cellity.git to reflect on this report. See How and When does the builder pull? When will my changes propagate? here for more information. - Make sure to use the following settings in order to reproduce any error or warning you see on this page. |
| Package 262/2041 | Hostname | OS / Arch | INSTALL | BUILD | CHECK | BUILD BIN | ||||||||
| cellity 1.20.0 (landing page) Tomislav Ilicic
| nebbiolo1 | Linux (Ubuntu 20.04.2 LTS) / x86_64 | OK | OK | OK | |||||||||
| tokay2 | Windows Server 2012 R2 Standard / x64 | OK | OK | OK | OK | |||||||||
| machv2 | macOS 10.14.6 Mojave / x86_64 | OK | OK | OK | OK | |||||||||
| Package: cellity |
| Version: 1.20.0 |
| Command: C:\cygwin\bin\curl.exe -O http://155.52.207.165/BBS/3.13/bioc/src/contrib/cellity_1.20.0.tar.gz && rm -rf cellity.buildbin-libdir && mkdir cellity.buildbin-libdir && C:\Users\biocbuild\bbs-3.13-bioc\R\bin\R.exe CMD INSTALL --merge-multiarch --build --library=cellity.buildbin-libdir cellity_1.20.0.tar.gz && C:\Users\biocbuild\bbs-3.13-bioc\R\bin\R.exe CMD INSTALL cellity_1.20.0.zip && rm cellity_1.20.0.tar.gz cellity_1.20.0.zip |
| StartedAt: 2021-10-14 08:21:57 -0400 (Thu, 14 Oct 2021) |
| EndedAt: 2021-10-14 08:22:52 -0400 (Thu, 14 Oct 2021) |
| EllapsedTime: 54.7 seconds |
| RetCode: 0 |
| Status: OK |
##############################################################################
##############################################################################
###
### Running command:
###
### C:\cygwin\bin\curl.exe -O http://155.52.207.165/BBS/3.13/bioc/src/contrib/cellity_1.20.0.tar.gz && rm -rf cellity.buildbin-libdir && mkdir cellity.buildbin-libdir && C:\Users\biocbuild\bbs-3.13-bioc\R\bin\R.exe CMD INSTALL --merge-multiarch --build --library=cellity.buildbin-libdir cellity_1.20.0.tar.gz && C:\Users\biocbuild\bbs-3.13-bioc\R\bin\R.exe CMD INSTALL cellity_1.20.0.zip && rm cellity_1.20.0.tar.gz cellity_1.20.0.zip
###
##############################################################################
##############################################################################
% Total % Received % Xferd Average Speed Time Time Time Current
Dload Upload Total Spent Left Speed
0 0 0 0 0 0 0 0 --:--:-- --:--:-- --:--:-- 0
5 826k 5 49739 0 0 259k 0 0:00:03 --:--:-- 0:00:03 259k
100 826k 100 826k 0 0 1168k 0 --:--:-- --:--:-- --:--:-- 1168k
install for i386
* installing *source* package 'cellity' ...
** using staged installation
** R
** data
*** moving datasets to lazyload DB
** inst
** byte-compile and prepare package for lazy loading
** help
*** installing help indices
converting help for package 'cellity'
finding HTML links ... done
assess_cell_quality_PCA html
assess_cell_quality_SVM html
cellity-package html
extra_human_genes html
extra_mouse_genes html
extract_features html
feature_generation html
feature_info html
mES1_features html
mES1_labels html
multiplot html
normalise_by_factor html
param_mES_all html
param_mES_common html
plot_pca html
sample_counts html
sample_stats html
simple_cap html
sum_prop html
training_mES_features html
training_mES_labels html
uni.plot html
** building package indices
** installing vignettes
** testing if installed package can be loaded from temporary location
** testing if installed package can be loaded from final location
** testing if installed package keeps a record of temporary installation path
install for x64
* installing *source* package 'cellity' ...
** testing if installed package can be loaded
* MD5 sums
packaged installation of 'cellity' as cellity_1.20.0.zip
* DONE (cellity)
* installing to library 'C:/Users/biocbuild/bbs-3.13-bioc/R/library'
package 'cellity' successfully unpacked and MD5 sums checked