| Back to Multiple platform build/check report for BioC 3.13 | 
 | 
This page was generated on 2021-10-15 15:05:59 -0400 (Fri, 15 Oct 2021).
| To the developers/maintainers of the cbpManager package: - Please allow up to 24 hours (and sometimes 48 hours) for your latest push to git@git.bioconductor.org:packages/cbpManager.git to reflect on this report. See How and When does the builder pull? When will my changes propagate? here for more information. - Make sure to use the following settings in order to reproduce any error or warning you see on this page. | 
| Package 250/2041 | Hostname | OS / Arch | INSTALL | BUILD | CHECK | BUILD BIN | ||||||||
| cbpManager 1.0.2  (landing page) Arsenij Ustjanzew 
 | nebbiolo1 | Linux (Ubuntu 20.04.2 LTS) / x86_64 | OK | OK | OK |  | ||||||||
| tokay2 | Windows Server 2012 R2 Standard / x64 | OK | OK | OK | OK |  | ||||||||
| machv2 | macOS 10.14.6 Mojave / x86_64 | OK | OK | OK | OK |  | ||||||||
| Package: cbpManager | 
| Version: 1.0.2 | 
| Command: rm -rf cbpManager.buildbin-libdir && mkdir cbpManager.buildbin-libdir && C:\Users\biocbuild\bbs-3.13-bioc\R\bin\R.exe --arch x64 CMD INSTALL --no-multiarch --build --library=cbpManager.buildbin-libdir cbpManager_1.0.2.tar.gz | 
| StartedAt: 2021-10-15 08:25:56 -0400 (Fri, 15 Oct 2021) | 
| EndedAt: 2021-10-15 08:27:21 -0400 (Fri, 15 Oct 2021) | 
| EllapsedTime: 84.7 seconds | 
| RetCode: 0 | 
| Status: OK | 
| PackageFile: cbpManager_1.0.2.zip | 
| PackageFileSize: 3.238 MiB | 
##############################################################################
##############################################################################
###
### Running command:
###
###   rm -rf cbpManager.buildbin-libdir && mkdir cbpManager.buildbin-libdir && C:\Users\biocbuild\bbs-3.13-bioc\R\bin\R.exe --arch x64 CMD INSTALL --no-multiarch --build --library=cbpManager.buildbin-libdir cbpManager_1.0.2.tar.gz
###
##############################################################################
##############################################################################
* installing *source* package 'cbpManager' ...
** using non-staged installation via StagedInstall field
** R
** inst
** byte-compile and prepare package for lazy loading
** help
*** installing help indices
  converting help for package 'cbpManager'
    finding HTML links ... done
    IsDate                                  html  
    ValidationDependencies                  html  
    addColumn_Server                        html  
    addColumn_UI                            html  
    addRowRc_Server                         html  
    addRowRc_UI                             html  
    addRow_Server                           html  
    addRow_UI                               html  
    cBioPortalToDataFrame                   html  
    cbpManager-pkg                          html  
    cbpManager                              html  
    check_input_dates                       html  
    convertDataFrame                        html  
    create_name                             html  
    deleteColumn_Server                     html  
    deleteColumn_UI                         html  
    deleteRowRc_Server                      html  
    deleteRowRc_UI                          html  
    deleteRow_Server                        html  
    deleteRow_UI                            html  
    editRowRc_Server                        html  
    editRowRc_UI                            html  
    editRow_Server                          html  
    editRow_UI                              html  
    fncols                                  html  
    generateOncotreeUIwidgets               html  
    generateUIwidgets                       html  
    getSampleIDs                            html  
    importPatientData                       html  
    saveResource_Server                     html  
    saveResource_UI                         html  
    saveTimeline_Server                     html  
    saveTimeline_UI                         html  
    setupConda_cbpManager                   html  
    shinyAppServer                          html  
    shinyAppUI                              html  
    updateOncotreeUIwidgets                 html  
    validateResourceDefinition              html  
    validateResourcePatient                 html  
    validateResourceSample                  html  
    validateResourceStudy                   html  
    writeLogfile                            html  
** building package indices
** installing vignettes
** testing if installed package can be loaded
* MD5 sums
packaged installation of 'cbpManager' as cbpManager_1.0.2.zip
* DONE (cbpManager)