Back to Multiple platform build/check report for BioC 3.13 |
|
This page was generated on 2021-10-15 15:05:59 -0400 (Fri, 15 Oct 2021).
To the developers/maintainers of the cancerclass package: - Please allow up to 24 hours (and sometimes 48 hours) for your latest push to git@git.bioconductor.org:packages/cancerclass.git to reflect on this report. See How and When does the builder pull? When will my changes propagate? here for more information. - Make sure to use the following settings in order to reproduce any error or warning you see on this page. |
Package 235/2041 | Hostname | OS / Arch | INSTALL | BUILD | CHECK | BUILD BIN | ||||||||
cancerclass 1.36.0 (landing page) Daniel Kosztyla
| nebbiolo1 | Linux (Ubuntu 20.04.2 LTS) / x86_64 | OK | OK | OK | ![]() | ||||||||
tokay2 | Windows Server 2012 R2 Standard / x64 | OK | OK | OK | OK | ![]() | ||||||||
machv2 | macOS 10.14.6 Mojave / x86_64 | OK | OK | WARNINGS | OK | ![]() | ||||||||
Package: cancerclass |
Version: 1.36.0 |
Command: C:\Users\biocbuild\bbs-3.13-bioc\R\bin\R.exe CMD check --force-multiarch --install=check:cancerclass.install-out.txt --library=C:\Users\biocbuild\bbs-3.13-bioc\R\library --no-vignettes --timings cancerclass_1.36.0.tar.gz |
StartedAt: 2021-10-14 20:35:19 -0400 (Thu, 14 Oct 2021) |
EndedAt: 2021-10-14 20:36:54 -0400 (Thu, 14 Oct 2021) |
EllapsedTime: 94.8 seconds |
RetCode: 0 |
Status: OK |
CheckDir: cancerclass.Rcheck |
Warnings: 0 |
############################################################################## ############################################################################## ### ### Running command: ### ### C:\Users\biocbuild\bbs-3.13-bioc\R\bin\R.exe CMD check --force-multiarch --install=check:cancerclass.install-out.txt --library=C:\Users\biocbuild\bbs-3.13-bioc\R\library --no-vignettes --timings cancerclass_1.36.0.tar.gz ### ############################################################################## ############################################################################## * using log directory 'C:/Users/biocbuild/bbs-3.13-bioc/meat/cancerclass.Rcheck' * using R version 4.1.1 (2021-08-10) * using platform: x86_64-w64-mingw32 (64-bit) * using session charset: ISO8859-1 * using option '--no-vignettes' * checking for file 'cancerclass/DESCRIPTION' ... OK * checking extension type ... Package * this is package 'cancerclass' version '1.36.0' * checking package namespace information ... OK * checking package dependencies ... OK * checking if this is a source package ... OK * checking if there is a namespace ... OK * checking for hidden files and directories ... OK * checking for portable file names ... OK * checking whether package 'cancerclass' can be installed ... OK * checking installed package size ... OK * checking package directory ... OK * checking 'build' directory ... OK * checking DESCRIPTION meta-information ... NOTE Non-standard license specification: GPL 3 Standardizable: TRUE Standardized license specification: GPL-3 * checking top-level files ... OK * checking for left-over files ... OK * checking index information ... OK * checking package subdirectories ... OK * checking R files for non-ASCII characters ... OK * checking R files for syntax errors ... OK * loading checks for arch 'i386' ** checking whether the package can be loaded ... OK ** checking whether the package can be loaded with stated dependencies ... OK ** checking whether the package can be unloaded cleanly ... OK ** checking whether the namespace can be loaded with stated dependencies ... OK ** checking whether the namespace can be unloaded cleanly ... OK * loading checks for arch 'x64' ** checking whether the package can be loaded ... OK ** checking whether the package can be loaded with stated dependencies ... OK ** checking whether the package can be unloaded cleanly ... OK ** checking whether the namespace can be loaded with stated dependencies ... OK ** checking whether the namespace can be unloaded cleanly ... OK * checking dependencies in R code ... NOTE 'library' or 'require' call to 'methods' which was already attached by Depends. Please remove these calls from your code. Packages in Depends field not imported from: 'Biobase' 'binom' These packages need to be imported from (in the NAMESPACE file) for when this namespace is loaded but not attached. * checking S3 generic/method consistency ... OK * checking replacement functions ... OK * checking foreign function calls ... OK * checking R code for possible problems ... NOTE File 'cancerclass/R/cancerclass-internal.R': .onLoad calls: require(methods) Package startup functions should not change the search path. See section 'Good practice' in '?.onAttach'. calc.auc: no visible global function definition for 'integrate' calc.auc : <anonymous>: no visible global function definition for 'approx' calc.roc: no visible global function definition for 'binom.confint' fit: no visible global function definition for 'pData' fit: no visible global function definition for 'featureData' fit: no visible global function definition for 'exprs' fit: no visible binding for global variable 'methods' get.prop: no visible global function definition for 'binom.confint' loo: no visible global function definition for 'pData' nvalidate: no visible global function definition for 'pData' nvalidate: no visible global function definition for 'featureData' nvalidate: no visible global function definition for 'exprs' nvalidate: no visible binding for global variable 'methods' prepare: no visible global function definition for 'pData' prepare: no visible global function definition for 'exprs' prepare: no visible global function definition for 'exprs<-' validate: no visible global function definition for 'pData' validate: no visible global function definition for 'featureData' validate: no visible global function definition for 'exprs' validate: no visible binding for global variable 'methods' plot3d,nvalidation: no visible global function definition for 'persp' plot3d,validation: no visible global function definition for 'persp' plot,nvalidation: no visible global function definition for 'grey' plot,nvalidation: no visible global function definition for 'par' plot,nvalidation: no visible global function definition for 'barplot' plot,nvalidation: no visible global function definition for 'legend' plot,nvalidation : <anonymous>: no visible global function definition for 'quantile' plot,nvalidation: no visible global function definition for 'abline' plot,nvalidation: no visible global function definition for 'lines' plot,prediction: no visible global function definition for 't.test' plot,prediction: no visible global function definition for 'par' plot,prediction: no visible global function definition for 'hist' plot,prediction: no visible global function definition for 'legend' plot,prediction: no visible global function definition for 'barplot' plot,prediction: no visible global function definition for 'lines' plot,prediction: no visible global function definition for 'abline' plot,prediction: no visible global function definition for 'glm' plot,prediction: no visible binding for global variable 'binomial' plot,prediction: no visible global function definition for 'pchisq' plot,prediction: no visible global function definition for 'qnorm' plot,prediction: no visible global function definition for 'points' plot,predictor: no visible global function definition for 'barplot' plot,validation: no visible global function definition for 'grey' plot,validation: no visible global function definition for 'par' plot,validation: no visible global function definition for 'barplot' plot,validation: no visible global function definition for 'legend' plot,validation : <anonymous>: no visible global function definition for 'quantile' plot,validation: no visible global function definition for 'abline' plot,validation: no visible global function definition for 'lines' predict,predictor: no visible global function definition for 'pData' predict,predictor: no visible global function definition for 'exprs' summary,prediction: no visible global function definition for 'fisher.test' Undefined global functions or variables: abline approx barplot binom.confint binomial exprs exprs<- featureData fisher.test glm grey hist integrate legend lines methods pData par pchisq persp points qnorm quantile t.test Consider adding importFrom("grDevices", "grey") importFrom("graphics", "abline", "barplot", "hist", "legend", "lines", "par", "persp", "points") importFrom("stats", "approx", "binomial", "fisher.test", "glm", "integrate", "pchisq", "qnorm", "quantile", "t.test") importFrom("utils", "methods") to your NAMESPACE file. * checking Rd files ... OK * checking Rd metadata ... OK * checking Rd cross-references ... OK * checking for missing documentation entries ... OK * checking for code/documentation mismatches ... OK * checking Rd \usage sections ... OK * checking Rd contents ... OK * checking for unstated dependencies in examples ... OK * checking contents of 'data' directory ... OK * checking data for non-ASCII characters ... OK * checking data for ASCII and uncompressed saves ... OK * checking line endings in C/C++/Fortran sources/headers ... OK * checking compiled code ... NOTE Note: information on .o files for i386 is not available Note: information on .o files for x64 is not available File 'C:/Users/biocbuild/bbs-3.13-bioc/R/library/cancerclass/libs/i386/cancerclass.dll': Found 'abort', possibly from 'abort' (C), 'runtime' (Fortran) File 'C:/Users/biocbuild/bbs-3.13-bioc/R/library/cancerclass/libs/x64/cancerclass.dll': Found 'abort', possibly from 'abort' (C), 'runtime' (Fortran) Compiled code should not call entry points which might terminate R nor write to stdout/stderr instead of to the console, nor use Fortran I/O nor system RNGs. The detected symbols are linked into the code but might come from libraries and not actually be called. See 'Writing portable packages' in the 'Writing R Extensions' manual. * checking files in 'vignettes' ... OK * checking examples ... ** running examples for arch 'i386' ... OK Examples with CPU (user + system) or elapsed time > 5s user system elapsed GOLUB 19.45 0.19 19.64 ** running examples for arch 'x64' ... OK Examples with CPU (user + system) or elapsed time > 5s user system elapsed GOLUB 18.22 0.19 18.41 * checking for unstated dependencies in vignettes ... OK * checking package vignettes in 'inst/doc' ... OK * checking running R code from vignettes ... SKIPPED * checking re-building of vignette outputs ... SKIPPED * checking PDF version of manual ... OK * DONE Status: 4 NOTEs See 'C:/Users/biocbuild/bbs-3.13-bioc/meat/cancerclass.Rcheck/00check.log' for details.
cancerclass.Rcheck/00install.out
############################################################################## ############################################################################## ### ### Running command: ### ### C:\cygwin\bin\curl.exe -O http://155.52.207.165/BBS/3.13/bioc/src/contrib/cancerclass_1.36.0.tar.gz && rm -rf cancerclass.buildbin-libdir && mkdir cancerclass.buildbin-libdir && C:\Users\biocbuild\bbs-3.13-bioc\R\bin\R.exe CMD INSTALL --merge-multiarch --build --library=cancerclass.buildbin-libdir cancerclass_1.36.0.tar.gz && C:\Users\biocbuild\bbs-3.13-bioc\R\bin\R.exe CMD INSTALL cancerclass_1.36.0.zip && rm cancerclass_1.36.0.tar.gz cancerclass_1.36.0.zip ### ############################################################################## ############################################################################## % Total % Received % Xferd Average Speed Time Time Time Current Dload Upload Total Spent Left Speed 0 0 0 0 0 0 0 0 --:--:-- --:--:-- --:--:-- 0 51 1355k 51 696k 0 0 1436k 0 --:--:-- --:--:-- --:--:-- 1435k 100 1355k 100 1355k 0 0 1820k 0 --:--:-- --:--:-- --:--:-- 1819k install for i386 * installing *source* package 'cancerclass' ... ** using staged installation ** libs "C:/rtools40/mingw32/bin/"gcc -I"C:/Users/BIOCBU~1/BBS-3~1.13-/R/include" -DNDEBUG -I"c:/extsoft/include" -O2 -Wall -std=gnu99 -mfpmath=sse -msse2 -mstackrealign -c copa.c -o copa.o "C:/rtools40/mingw32/bin/"gcc -I"C:/Users/BIOCBU~1/BBS-3~1.13-/R/include" -DNDEBUG -I"c:/extsoft/include" -O2 -Wall -std=gnu99 -mfpmath=sse -msse2 -mstackrealign -c cor.c -o cor.o "C:/rtools40/mingw32/bin/"gcc -I"C:/Users/BIOCBU~1/BBS-3~1.13-/R/include" -DNDEBUG -I"c:/extsoft/include" -O2 -Wall -std=gnu99 -mfpmath=sse -msse2 -mstackrealign -c fc.c -o fc.o "C:/rtools40/mingw32/bin/"gcc -I"C:/Users/BIOCBU~1/BBS-3~1.13-/R/include" -DNDEBUG -I"c:/extsoft/include" -O2 -Wall -std=gnu99 -mfpmath=sse -msse2 -mstackrealign -c help.c -o help.o help.c: In function 'welch_df': help.c:263:19: warning: variable 'mean2' set but not used [-Wunused-but-set-variable] double mean1, mean2, var1, var2 = 0.0; ^~~~~ help.c:263:12: warning: variable 'mean1' set but not used [-Wunused-but-set-variable] double mean1, mean2, var1, var2 = 0.0; ^~~~~ help.c: In function 'bsortdesc': help.c:344:13: warning: variable 'anzahl' set but not used [-Wunused-but-set-variable] int i,k,anzahl=0; ^~~~~~ help.c: In function 'bsort': help.c:368:13: warning: variable 'anzahl' set but not used [-Wunused-but-set-variable] int i,k,anzahl=0; ^~~~~~ "C:/rtools40/mingw32/bin/"gcc -I"C:/Users/BIOCBU~1/BBS-3~1.13-/R/include" -DNDEBUG -I"c:/extsoft/include" -O2 -Wall -std=gnu99 -mfpmath=sse -msse2 -mstackrealign -c ort.c -o ort.o "C:/rtools40/mingw32/bin/"gcc -I"C:/Users/BIOCBU~1/BBS-3~1.13-/R/include" -DNDEBUG -I"c:/extsoft/include" -O2 -Wall -std=gnu99 -mfpmath=sse -msse2 -mstackrealign -c os.c -o os.o "C:/rtools40/mingw32/bin/"gcc -I"C:/Users/BIOCBU~1/BBS-3~1.13-/R/include" -DNDEBUG -I"c:/extsoft/include" -O2 -Wall -std=gnu99 -mfpmath=sse -msse2 -mstackrealign -c shift.c -o shift.o "C:/rtools40/mingw32/bin/"gcc -I"C:/Users/BIOCBU~1/BBS-3~1.13-/R/include" -DNDEBUG -I"c:/extsoft/include" -O2 -Wall -std=gnu99 -mfpmath=sse -msse2 -mstackrealign -c statistics.c -o statistics.o "C:/rtools40/mingw32/bin/"gcc -I"C:/Users/BIOCBU~1/BBS-3~1.13-/R/include" -DNDEBUG -I"c:/extsoft/include" -O2 -Wall -std=gnu99 -mfpmath=sse -msse2 -mstackrealign -c student.c -o student.o "C:/rtools40/mingw32/bin/"gcc -I"C:/Users/BIOCBU~1/BBS-3~1.13-/R/include" -DNDEBUG -I"c:/extsoft/include" -O2 -Wall -std=gnu99 -mfpmath=sse -msse2 -mstackrealign -c throw.c -o throw.o "C:/rtools40/mingw32/bin/"gcc -I"C:/Users/BIOCBU~1/BBS-3~1.13-/R/include" -DNDEBUG -I"c:/extsoft/include" -O2 -Wall -std=gnu99 -mfpmath=sse -msse2 -mstackrealign -c welch.c -o welch.o "C:/rtools40/mingw32/bin/"gcc -I"C:/Users/BIOCBU~1/BBS-3~1.13-/R/include" -DNDEBUG -I"c:/extsoft/include" -O2 -Wall -std=gnu99 -mfpmath=sse -msse2 -mstackrealign -c wilcox.c -o wilcox.o wilcox.c: In function 'wilcoxon': wilcox.c:37:8: warning: variable 'overall' set but not used [-Wunused-but-set-variable] int overall = 0; ^~~~~~~ wilcox.c: In function 'pwilcoxon': wilcox.c:75:8: warning: variable 'overall' set but not used [-Wunused-but-set-variable] int overall = 0; ^~~~~~~ C:/rtools40/mingw32/bin/gcc -shared -s -static-libgcc -o cancerclass.dll tmp.def copa.o cor.o fc.o help.o ort.o os.o shift.o statistics.o student.o throw.o welch.o wilcox.o -Lc:/extsoft/lib/i386 -Lc:/extsoft/lib -LC:/Users/BIOCBU~1/BBS-3~1.13-/R/bin/i386 -lR installing to C:/Users/biocbuild/bbs-3.13-bioc/meat/cancerclass.buildbin-libdir/00LOCK-cancerclass/00new/cancerclass/libs/i386 ** R ** data ** byte-compile and prepare package for lazy loading ** help *** installing help indices converting help for package 'cancerclass' finding HTML links ... done GOLUB html cancerclass-internal html cancerclass-package html fit html loo html nvalidate html nvalidation-class html plot html plot3d html predict,predictor-method html prediction-class html predictor-class html summary,prediction-method html validate html validation-class html ** building package indices ** installing vignettes ** testing if installed package can be loaded from temporary location ** testing if installed package can be loaded from final location ** testing if installed package keeps a record of temporary installation path install for x64 * installing *source* package 'cancerclass' ... ** libs "C:/rtools40/mingw64/bin/"gcc -I"C:/Users/BIOCBU~1/BBS-3~1.13-/R/include" -DNDEBUG -I"C:/extsoft/include" -O2 -Wall -std=gnu99 -mfpmath=sse -msse2 -mstackrealign -c copa.c -o copa.o "C:/rtools40/mingw64/bin/"gcc -I"C:/Users/BIOCBU~1/BBS-3~1.13-/R/include" -DNDEBUG -I"C:/extsoft/include" -O2 -Wall -std=gnu99 -mfpmath=sse -msse2 -mstackrealign -c cor.c -o cor.o "C:/rtools40/mingw64/bin/"gcc -I"C:/Users/BIOCBU~1/BBS-3~1.13-/R/include" -DNDEBUG -I"C:/extsoft/include" -O2 -Wall -std=gnu99 -mfpmath=sse -msse2 -mstackrealign -c fc.c -o fc.o "C:/rtools40/mingw64/bin/"gcc -I"C:/Users/BIOCBU~1/BBS-3~1.13-/R/include" -DNDEBUG -I"C:/extsoft/include" -O2 -Wall -std=gnu99 -mfpmath=sse -msse2 -mstackrealign -c help.c -o help.o help.c: In function 'welch_df': help.c:263:19: warning: variable 'mean2' set but not used [-Wunused-but-set-variable] double mean1, mean2, var1, var2 = 0.0; ^~~~~ help.c:263:12: warning: variable 'mean1' set but not used [-Wunused-but-set-variable] double mean1, mean2, var1, var2 = 0.0; ^~~~~ help.c: In function 'bsortdesc': help.c:344:13: warning: variable 'anzahl' set but not used [-Wunused-but-set-variable] int i,k,anzahl=0; ^~~~~~ help.c: In function 'bsort': help.c:368:13: warning: variable 'anzahl' set but not used [-Wunused-but-set-variable] int i,k,anzahl=0; ^~~~~~ "C:/rtools40/mingw64/bin/"gcc -I"C:/Users/BIOCBU~1/BBS-3~1.13-/R/include" -DNDEBUG -I"C:/extsoft/include" -O2 -Wall -std=gnu99 -mfpmath=sse -msse2 -mstackrealign -c ort.c -o ort.o "C:/rtools40/mingw64/bin/"gcc -I"C:/Users/BIOCBU~1/BBS-3~1.13-/R/include" -DNDEBUG -I"C:/extsoft/include" -O2 -Wall -std=gnu99 -mfpmath=sse -msse2 -mstackrealign -c os.c -o os.o "C:/rtools40/mingw64/bin/"gcc -I"C:/Users/BIOCBU~1/BBS-3~1.13-/R/include" -DNDEBUG -I"C:/extsoft/include" -O2 -Wall -std=gnu99 -mfpmath=sse -msse2 -mstackrealign -c shift.c -o shift.o "C:/rtools40/mingw64/bin/"gcc -I"C:/Users/BIOCBU~1/BBS-3~1.13-/R/include" -DNDEBUG -I"C:/extsoft/include" -O2 -Wall -std=gnu99 -mfpmath=sse -msse2 -mstackrealign -c statistics.c -o statistics.o "C:/rtools40/mingw64/bin/"gcc -I"C:/Users/BIOCBU~1/BBS-3~1.13-/R/include" -DNDEBUG -I"C:/extsoft/include" -O2 -Wall -std=gnu99 -mfpmath=sse -msse2 -mstackrealign -c student.c -o student.o "C:/rtools40/mingw64/bin/"gcc -I"C:/Users/BIOCBU~1/BBS-3~1.13-/R/include" -DNDEBUG -I"C:/extsoft/include" -O2 -Wall -std=gnu99 -mfpmath=sse -msse2 -mstackrealign -c throw.c -o throw.o "C:/rtools40/mingw64/bin/"gcc -I"C:/Users/BIOCBU~1/BBS-3~1.13-/R/include" -DNDEBUG -I"C:/extsoft/include" -O2 -Wall -std=gnu99 -mfpmath=sse -msse2 -mstackrealign -c welch.c -o welch.o "C:/rtools40/mingw64/bin/"gcc -I"C:/Users/BIOCBU~1/BBS-3~1.13-/R/include" -DNDEBUG -I"C:/extsoft/include" -O2 -Wall -std=gnu99 -mfpmath=sse -msse2 -mstackrealign -c wilcox.c -o wilcox.o wilcox.c: In function 'wilcoxon': wilcox.c:37:8: warning: variable 'overall' set but not used [-Wunused-but-set-variable] int overall = 0; ^~~~~~~ wilcox.c: In function 'pwilcoxon': wilcox.c:75:8: warning: variable 'overall' set but not used [-Wunused-but-set-variable] int overall = 0; ^~~~~~~ C:/rtools40/mingw64/bin/gcc -shared -s -static-libgcc -o cancerclass.dll tmp.def copa.o cor.o fc.o help.o ort.o os.o shift.o statistics.o student.o throw.o welch.o wilcox.o -LC:/extsoft/lib/x64 -LC:/extsoft/lib -LC:/Users/BIOCBU~1/BBS-3~1.13-/R/bin/x64 -lR installing to C:/Users/biocbuild/bbs-3.13-bioc/meat/cancerclass.buildbin-libdir/cancerclass/libs/x64 ** testing if installed package can be loaded * MD5 sums packaged installation of 'cancerclass' as cancerclass_1.36.0.zip * DONE (cancerclass) * installing to library 'C:/Users/biocbuild/bbs-3.13-bioc/R/library' package 'cancerclass' successfully unpacked and MD5 sums checked
cancerclass.Rcheck/examples_i386/cancerclass-Ex.timings
|
cancerclass.Rcheck/examples_x64/cancerclass-Ex.timings
|