| Back to Multiple platform build/check report for BioC 3.13 |
|
This page was generated on 2021-10-15 15:05:59 -0400 (Fri, 15 Oct 2021).
|
To the developers/maintainers of the brainflowprobes package: - Please allow up to 24 hours (and sometimes 48 hours) for your latest push to git@git.bioconductor.org:packages/brainflowprobes.git to reflect on this report. See How and When does the builder pull? When will my changes propagate? here for more information. - Make sure to use the following settings in order to reproduce any error or warning you see on this page. |
| Package 207/2041 | Hostname | OS / Arch | INSTALL | BUILD | CHECK | BUILD BIN | ||||||||
| brainflowprobes 1.6.0 (landing page) Amanda Price
| nebbiolo1 | Linux (Ubuntu 20.04.2 LTS) / x86_64 | OK | OK | OK | |||||||||
| tokay2 | Windows Server 2012 R2 Standard / x64 | OK | OK | OK | OK | |||||||||
| machv2 | macOS 10.14.6 Mojave / x86_64 | OK | OK | OK | OK | |||||||||
| Package: brainflowprobes |
| Version: 1.6.0 |
| Command: rm -rf brainflowprobes.buildbin-libdir && mkdir brainflowprobes.buildbin-libdir && C:\Users\biocbuild\bbs-3.13-bioc\R\bin\R.exe CMD INSTALL --merge-multiarch --build --library=brainflowprobes.buildbin-libdir brainflowprobes_1.6.0.tar.gz |
| StartedAt: 2021-10-15 08:20:07 -0400 (Fri, 15 Oct 2021) |
| EndedAt: 2021-10-15 08:21:33 -0400 (Fri, 15 Oct 2021) |
| EllapsedTime: 85.2 seconds |
| RetCode: 0 |
| Status: OK |
| PackageFile: brainflowprobes_1.6.0.zip |
| PackageFileSize: 1.781 MiB |
##############################################################################
##############################################################################
###
### Running command:
###
### rm -rf brainflowprobes.buildbin-libdir && mkdir brainflowprobes.buildbin-libdir && C:\Users\biocbuild\bbs-3.13-bioc\R\bin\R.exe CMD INSTALL --merge-multiarch --build --library=brainflowprobes.buildbin-libdir brainflowprobes_1.6.0.tar.gz
###
##############################################################################
##############################################################################
install for i386
* installing *source* package 'brainflowprobes' ...
** using staged installation
** R
** data
*** moving datasets to lazyload DB
** inst
** byte-compile and prepare package for lazy loading
** help
*** installing help indices
converting help for package 'brainflowprobes'
finding HTML links ... done
brainflowprobes-package html
brainflowprobes_cov html
check_pdf html
four_panels html
four_panels_example_cov html
get_nearest_annotation html
get_region_cov html
pd html
plot_coverage html
region_info html
** building package indices
** installing vignettes
** testing if installed package can be loaded from temporary location
** testing if installed package can be loaded from final location
** testing if installed package keeps a record of temporary installation path
install for x64
* installing *source* package 'brainflowprobes' ...
** testing if installed package can be loaded
* MD5 sums
packaged installation of 'brainflowprobes' as brainflowprobes_1.6.0.zip
* DONE (brainflowprobes)