| Back to Multiple platform build/check report for BioC 3.13 |
|
This page was generated on 2021-10-15 15:06:30 -0400 (Fri, 15 Oct 2021).
|
To the developers/maintainers of the bnem package: - Please allow up to 24 hours (and sometimes 48 hours) for your latest push to git@git.bioconductor.org:packages/bnem.git to reflect on this report. See How and When does the builder pull? When will my changes propagate? here for more information. - Make sure to use the following settings in order to reproduce any error or warning you see on this page. |
| Package 204/2041 | Hostname | OS / Arch | INSTALL | BUILD | CHECK | BUILD BIN | ||||||||
| bnem 1.0.0 (landing page) Martin Pirkl
| nebbiolo1 | Linux (Ubuntu 20.04.2 LTS) / x86_64 | OK | OK | OK | |||||||||
| tokay2 | Windows Server 2012 R2 Standard / x64 | OK | OK | OK | OK | |||||||||
| machv2 | macOS 10.14.6 Mojave / x86_64 | OK | OK | OK | OK | |||||||||
| Package: bnem |
| Version: 1.0.0 |
| Command: /Library/Frameworks/R.framework/Versions/Current/Resources/bin/R CMD check --install=check:bnem.install-out.txt --library=/Library/Frameworks/R.framework/Versions/Current/Resources/library --no-vignettes --timings bnem_1.0.0.tar.gz |
| StartedAt: 2021-10-14 16:54:08 -0400 (Thu, 14 Oct 2021) |
| EndedAt: 2021-10-14 16:58:53 -0400 (Thu, 14 Oct 2021) |
| EllapsedTime: 284.9 seconds |
| RetCode: 0 |
| Status: OK |
| CheckDir: bnem.Rcheck |
| Warnings: 0 |
############################################################################## ############################################################################## ### ### Running command: ### ### /Library/Frameworks/R.framework/Versions/Current/Resources/bin/R CMD check --install=check:bnem.install-out.txt --library=/Library/Frameworks/R.framework/Versions/Current/Resources/library --no-vignettes --timings bnem_1.0.0.tar.gz ### ############################################################################## ############################################################################## * using log directory ‘/Users/biocbuild/bbs-3.13-bioc/meat/bnem.Rcheck’ * using R version 4.1.1 (2021-08-10) * using platform: x86_64-apple-darwin17.0 (64-bit) * using session charset: UTF-8 * using option ‘--no-vignettes’ * checking for file ‘bnem/DESCRIPTION’ ... OK * checking extension type ... Package * this is package ‘bnem’ version ‘1.0.0’ * package encoding: UTF-8 * checking package namespace information ... OK * checking package dependencies ... OK * checking if this is a source package ... OK * checking if there is a namespace ... OK * checking for hidden files and directories ... OK * checking for portable file names ... OK * checking for sufficient/correct file permissions ... OK * checking whether package ‘bnem’ can be installed ... OK * checking installed package size ... OK * checking package directory ... OK * checking ‘build’ directory ... OK * checking DESCRIPTION meta-information ... OK * checking top-level files ... OK * checking for left-over files ... OK * checking index information ... OK * checking package subdirectories ... OK * checking R files for non-ASCII characters ... OK * checking R files for syntax errors ... OK * checking whether the package can be loaded ... OK * checking whether the package can be loaded with stated dependencies ... OK * checking whether the package can be unloaded cleanly ... OK * checking whether the namespace can be loaded with stated dependencies ... OK * checking whether the namespace can be unloaded cleanly ... OK * checking dependencies in R code ... NOTE Namespace in Imports field not imported from: ‘rmarkdown’ All declared Imports should be used. * checking S3 generic/method consistency ... OK * checking replacement functions ... OK * checking foreign function calls ... OK * checking R code for possible problems ... OK * checking Rd files ... OK * checking Rd metadata ... OK * checking Rd cross-references ... OK * checking for missing documentation entries ... OK * checking for code/documentation mismatches ... OK * checking Rd \usage sections ... OK * checking Rd contents ... OK * checking for unstated dependencies in examples ... OK * checking contents of ‘data’ directory ... OK * checking data for non-ASCII characters ... OK * checking data for ASCII and uncompressed saves ... OK * checking files in ‘vignettes’ ... OK * checking examples ... OK * checking for unstated dependencies in ‘tests’ ... OK * checking tests ... Running ‘runTests.R’ OK * checking for unstated dependencies in vignettes ... OK * checking package vignettes in ‘inst/doc’ ... OK * checking running R code from vignettes ... SKIPPED * checking re-building of vignette outputs ... SKIPPED * checking PDF version of manual ... OK * DONE Status: 1 NOTE See ‘/Users/biocbuild/bbs-3.13-bioc/meat/bnem.Rcheck/00check.log’ for details.
bnem.Rcheck/00install.out
############################################################################## ############################################################################## ### ### Running command: ### ### /Library/Frameworks/R.framework/Versions/Current/Resources/bin/R CMD INSTALL bnem ### ############################################################################## ############################################################################## * installing to library ‘/Library/Frameworks/R.framework/Versions/4.1/Resources/library’ * installing *source* package ‘bnem’ ... ** using staged installation ** R ** data ** inst ** byte-compile and prepare package for lazy loading ** help *** installing help indices ** building package indices ** installing vignettes ** testing if installed package can be loaded from temporary location ** testing if installed package can be loaded from final location ** testing if installed package keeps a record of temporary installation path * DONE (bnem)
bnem.Rcheck/tests/runTests.Rout
R version 4.1.1 (2021-08-10) -- "Kick Things"
Copyright (C) 2021 The R Foundation for Statistical Computing
Platform: x86_64-apple-darwin17.0 (64-bit)
R is free software and comes with ABSOLUTELY NO WARRANTY.
You are welcome to redistribute it under certain conditions.
Type 'license()' or 'licence()' for distribution details.
R is a collaborative project with many contributors.
Type 'contributors()' for more information and
'citation()' on how to cite R or R packages in publications.
Type 'demo()' for some demos, 'help()' for on-line help, or
'help.start()' for an HTML browser interface to help.
Type 'q()' to quit R.
> BiocGenerics:::testPackage("bnem")
RUNIT TEST PROTOCOL -- Thu Oct 14 16:58:46 2021
***********************************************
Number of test functions: 0
Number of errors: 0
Number of failures: 0
1 Test Suite :
bnem RUnit Tests - 0 test functions, 0 errors, 0 failures
Number of test functions: 0
Number of errors: 0
Number of failures: 0
>
> proc.time()
user system elapsed
12.188 0.572 12.748
bnem.Rcheck/bnem-Ex.timings
| name | user | system | elapsed | |
| absorption | 0.001 | 0.001 | 0.001 | |
| absorptionII | 0.001 | 0.000 | 0.002 | |
| addNoise | 1.851 | 0.035 | 1.887 | |
| bcr | 0.011 | 0.001 | 0.013 | |
| bnem | 0.091 | 0.002 | 0.093 | |
| bnemBs | 0.745 | 0.059 | 0.806 | |
| computeFc | 0.018 | 0.003 | 0.022 | |
| convertGraph | 0.003 | 0.000 | 0.004 | |
| dummyCNOlist | 0.009 | 0.002 | 0.010 | |
| epiNEM2Bg | 0.090 | 0.011 | 0.142 | |
| findResiduals | 0.343 | 0.025 | 0.368 | |
| plot.bnem | 0.682 | 0.009 | 0.717 | |
| plot.bnembs | 0.724 | 0.011 | 0.741 | |
| plot.bnemsim | 0.215 | 0.002 | 0.217 | |
| processDataBCR | 0.009 | 0.001 | 0.011 | |
| randomDnf | 0.004 | 0.000 | 0.004 | |
| reduceGraph | 0.018 | 0.001 | 0.020 | |
| scoreDnf | 0.058 | 0.002 | 0.059 | |
| simBoolGtn | 0.143 | 0.002 | 0.145 | |
| simulateStatesRecursive | 0.014 | 0.001 | 0.015 | |
| transClose | 0.024 | 0.001 | 0.024 | |
| transRed | 0.062 | 0.002 | 0.063 | |
| validateGraph | 0.191 | 0.003 | 0.194 | |