| Back to Multiple platform build/check report for BioC 3.13 |
|
This page was generated on 2021-10-15 15:05:59 -0400 (Fri, 15 Oct 2021).
|
To the developers/maintainers of the bluster package: - Please allow up to 24 hours (and sometimes 48 hours) for your latest push to git@git.bioconductor.org:packages/bluster.git to reflect on this report. See How and When does the builder pull? When will my changes propagate? here for more information. - Make sure to use the following settings in order to reproduce any error or warning you see on this page. |
| Package 202/2041 | Hostname | OS / Arch | INSTALL | BUILD | CHECK | BUILD BIN | ||||||||
| bluster 1.2.1 (landing page) Aaron Lun
| nebbiolo1 | Linux (Ubuntu 20.04.2 LTS) / x86_64 | OK | OK | OK | |||||||||
| tokay2 | Windows Server 2012 R2 Standard / x64 | OK | OK | OK | OK | |||||||||
| machv2 | macOS 10.14.6 Mojave / x86_64 | OK | OK | OK | OK | |||||||||
| Package: bluster |
| Version: 1.2.1 |
| Command: rm -rf bluster.buildbin-libdir && mkdir bluster.buildbin-libdir && C:\Users\biocbuild\bbs-3.13-bioc\R\bin\R.exe CMD INSTALL --merge-multiarch --build --library=bluster.buildbin-libdir bluster_1.2.1.tar.gz |
| StartedAt: 2021-10-15 08:19:26 -0400 (Fri, 15 Oct 2021) |
| EndedAt: 2021-10-15 08:20:41 -0400 (Fri, 15 Oct 2021) |
| EllapsedTime: 75.0 seconds |
| RetCode: 0 |
| Status: OK |
| PackageFile: bluster_1.2.1.zip |
| PackageFileSize: 2.672 MiB |
##############################################################################
##############################################################################
###
### Running command:
###
### rm -rf bluster.buildbin-libdir && mkdir bluster.buildbin-libdir && C:\Users\biocbuild\bbs-3.13-bioc\R\bin\R.exe CMD INSTALL --merge-multiarch --build --library=bluster.buildbin-libdir bluster_1.2.1.tar.gz
###
##############################################################################
##############################################################################
install for i386
* installing *source* package 'bluster' ...
** using staged installation
** libs
"C:/rtools40/mingw32/bin/"g++ -std=gnu++11 -I"C:/Users/BIOCBU~1/BBS-3~1.13-/R/include" -DNDEBUG -I'C:/Users/biocbuild/bbs-3.13-bioc/R/library/Rcpp/include' -I"c:/extsoft/include" -O2 -Wall -mfpmath=sse -msse2 -mstackrealign -c RcppExports.cpp -o RcppExports.o
"C:/rtools40/mingw32/bin/"g++ -std=gnu++11 -I"C:/Users/BIOCBU~1/BBS-3~1.13-/R/include" -DNDEBUG -I'C:/Users/biocbuild/bbs-3.13-bioc/R/library/Rcpp/include' -I"c:/extsoft/include" -O2 -Wall -mfpmath=sse -msse2 -mstackrealign -c build_snn.cpp -o build_snn.o
"C:/rtools40/mingw32/bin/"g++ -std=gnu++11 -I"C:/Users/BIOCBU~1/BBS-3~1.13-/R/include" -DNDEBUG -I'C:/Users/biocbuild/bbs-3.13-bioc/R/library/Rcpp/include' -I"c:/extsoft/include" -O2 -Wall -mfpmath=sse -msse2 -mstackrealign -c sum_neighbor_weights.cpp -o sum_neighbor_weights.o
C:/rtools40/mingw32/bin/g++ -shared -s -static-libgcc -o bluster.dll tmp.def RcppExports.o build_snn.o sum_neighbor_weights.o -Lc:/extsoft/lib/i386 -Lc:/extsoft/lib -LC:/Users/BIOCBU~1/BBS-3~1.13-/R/bin/i386 -lR
installing to C:/Users/biocbuild/bbs-3.13-bioc/meat/bluster.buildbin-libdir/00LOCK-bluster/00new/bluster/libs/i386
** R
** inst
** byte-compile and prepare package for lazy loading
** help
*** installing help indices
converting help for package 'bluster'
finding HTML links ... done
AffinityParam-class html
AgnesParam-class html
BlusterParam-class html
ClaraParam-class html
DbscanParam-class html
finding level-2 HTML links ... done
DianaParam-class html
FixedNumberParam-class html
HclustParam-class html
HierarchicalParam-class html
KmeansParam-class html
MbkmeansParam-class html
NNGraphParam-class html
PamParam-class html
SomParam-class html
TwoStepParam-class html
approxSilhouette html
bluster-package html
bootstrapStability html
clusterRMSD html
clusterRows html
clusterSweep html
compareClusterings html
defaultArguments html
linkClusters html
makeSNNGraph html
mergeCommunities html
neighborPurity html
nestedClusters html
pairwiseModularity html
pairwiseRand html
** building package indices
** installing vignettes
** testing if installed package can be loaded from temporary location
** testing if installed package can be loaded from final location
** testing if installed package keeps a record of temporary installation path
install for x64
* installing *source* package 'bluster' ...
** libs
"C:/rtools40/mingw64/bin/"g++ -std=gnu++11 -I"C:/Users/BIOCBU~1/BBS-3~1.13-/R/include" -DNDEBUG -I'C:/Users/biocbuild/bbs-3.13-bioc/R/library/Rcpp/include' -I"C:/extsoft/include" -O2 -Wall -mfpmath=sse -msse2 -mstackrealign -c RcppExports.cpp -o RcppExports.o
"C:/rtools40/mingw64/bin/"g++ -std=gnu++11 -I"C:/Users/BIOCBU~1/BBS-3~1.13-/R/include" -DNDEBUG -I'C:/Users/biocbuild/bbs-3.13-bioc/R/library/Rcpp/include' -I"C:/extsoft/include" -O2 -Wall -mfpmath=sse -msse2 -mstackrealign -c build_snn.cpp -o build_snn.o
"C:/rtools40/mingw64/bin/"g++ -std=gnu++11 -I"C:/Users/BIOCBU~1/BBS-3~1.13-/R/include" -DNDEBUG -I'C:/Users/biocbuild/bbs-3.13-bioc/R/library/Rcpp/include' -I"C:/extsoft/include" -O2 -Wall -mfpmath=sse -msse2 -mstackrealign -c sum_neighbor_weights.cpp -o sum_neighbor_weights.o
C:/rtools40/mingw64/bin/g++ -shared -s -static-libgcc -o bluster.dll tmp.def RcppExports.o build_snn.o sum_neighbor_weights.o -LC:/extsoft/lib/x64 -LC:/extsoft/lib -LC:/Users/BIOCBU~1/BBS-3~1.13-/R/bin/x64 -lR
installing to C:/Users/biocbuild/bbs-3.13-bioc/meat/bluster.buildbin-libdir/bluster/libs/x64
** testing if installed package can be loaded
* MD5 sums
packaged installation of 'bluster' as bluster_1.2.1.zip
* DONE (bluster)