| Back to Multiple platform build/check report for BioC 3.13 |
|
This page was generated on 2021-10-15 15:05:59 -0400 (Fri, 15 Oct 2021).
|
To the developers/maintainers of the blacksheepr package: - Please allow up to 24 hours (and sometimes 48 hours) for your latest push to git@git.bioconductor.org:packages/blacksheepr.git to reflect on this report. See How and When does the builder pull? When will my changes propagate? here for more information. - Make sure to use the following settings in order to reproduce any error or warning you see on this page. |
| Package 198/2041 | Hostname | OS / Arch | INSTALL | BUILD | CHECK | BUILD BIN | ||||||||
| blacksheepr 1.6.0 (landing page) RugglesLab
| nebbiolo1 | Linux (Ubuntu 20.04.2 LTS) / x86_64 | OK | OK | OK | |||||||||
| tokay2 | Windows Server 2012 R2 Standard / x64 | OK | OK | OK | OK | |||||||||
| machv2 | macOS 10.14.6 Mojave / x86_64 | OK | OK | OK | OK | |||||||||
| Package: blacksheepr |
| Version: 1.6.0 |
| Command: C:\cygwin\bin\curl.exe -O http://155.52.207.165/BBS/3.13/bioc/src/contrib/blacksheepr_1.6.0.tar.gz && rm -rf blacksheepr.buildbin-libdir && mkdir blacksheepr.buildbin-libdir && C:\Users\biocbuild\bbs-3.13-bioc\R\bin\R.exe CMD INSTALL --merge-multiarch --build --library=blacksheepr.buildbin-libdir blacksheepr_1.6.0.tar.gz && C:\Users\biocbuild\bbs-3.13-bioc\R\bin\R.exe CMD INSTALL blacksheepr_1.6.0.zip && rm blacksheepr_1.6.0.tar.gz blacksheepr_1.6.0.zip |
| StartedAt: 2021-10-14 08:44:48 -0400 (Thu, 14 Oct 2021) |
| EndedAt: 2021-10-14 08:45:39 -0400 (Thu, 14 Oct 2021) |
| EllapsedTime: 50.8 seconds |
| RetCode: 0 |
| Status: OK |
##############################################################################
##############################################################################
###
### Running command:
###
### C:\cygwin\bin\curl.exe -O http://155.52.207.165/BBS/3.13/bioc/src/contrib/blacksheepr_1.6.0.tar.gz && rm -rf blacksheepr.buildbin-libdir && mkdir blacksheepr.buildbin-libdir && C:\Users\biocbuild\bbs-3.13-bioc\R\bin\R.exe CMD INSTALL --merge-multiarch --build --library=blacksheepr.buildbin-libdir blacksheepr_1.6.0.tar.gz && C:\Users\biocbuild\bbs-3.13-bioc\R\bin\R.exe CMD INSTALL blacksheepr_1.6.0.zip && rm blacksheepr_1.6.0.tar.gz blacksheepr_1.6.0.zip
###
##############################################################################
##############################################################################
% Total % Received % Xferd Average Speed Time Time Time Current
Dload Upload Total Spent Left Speed
0 0 0 0 0 0 0 0 --:--:-- --:--:-- --:--:-- 0
9 3772k 9 354k 0 0 984k 0 0:00:03 --:--:-- 0:00:03 985k
71 3772k 71 2707k 0 0 1994k 0 0:00:01 0:00:01 --:--:-- 1994k
100 3772k 100 3772k 0 0 2221k 0 0:00:01 0:00:01 --:--:-- 2221k
install for i386
* installing *source* package 'blacksheepr' ...
** using staged installation
** R
** data
** byte-compile and prepare package for lazy loading
** help
*** installing help indices
converting help for package 'blacksheepr'
finding HTML links ... done
annotationlist_builder html
comparison_groupings html
count_outliers html
create_heatmap html
deva html
deva_normalization html
deva_results html
make_comparison_columns html
make_outlier_table html
outlier_analysis html
outlier_heatmap html
sample_annotationdata html
sample_phosphodata html
sample_rnadata html
** building package indices
** installing vignettes
** testing if installed package can be loaded from temporary location
** testing if installed package can be loaded from final location
** testing if installed package keeps a record of temporary installation path
install for x64
* installing *source* package 'blacksheepr' ...
** testing if installed package can be loaded
* MD5 sums
packaged installation of 'blacksheepr' as blacksheepr_1.6.0.zip
* DONE (blacksheepr)
* installing to library 'C:/Users/biocbuild/bbs-3.13-bioc/R/library'
package 'blacksheepr' successfully unpacked and MD5 sums checked