| Back to Multiple platform build/check report for BioC 3.13 |
|
This page was generated on 2021-10-15 15:05:58 -0400 (Fri, 15 Oct 2021).
|
To the developers/maintainers of the biocViews package: - Please allow up to 24 hours (and sometimes 48 hours) for your latest push to git@git.bioconductor.org:packages/biocViews.git to reflect on this report. See How and When does the builder pull? When will my changes propagate? here for more information. - Make sure to use the following settings in order to reproduce any error or warning you see on this page. |
| Package 176/2041 | Hostname | OS / Arch | INSTALL | BUILD | CHECK | BUILD BIN | ||||||||
| biocViews 1.60.0 (landing page) Bioconductor Package Maintainer
| nebbiolo1 | Linux (Ubuntu 20.04.2 LTS) / x86_64 | OK | OK | OK | |||||||||
| tokay2 | Windows Server 2012 R2 Standard / x64 | OK | OK | OK | OK | |||||||||
| machv2 | macOS 10.14.6 Mojave / x86_64 | OK | OK | OK | OK | |||||||||
| Package: biocViews |
| Version: 1.60.0 |
| Command: C:\cygwin\bin\curl.exe -O http://155.52.207.165/BBS/3.13/bioc/src/contrib/biocViews_1.60.0.tar.gz && rm -rf biocViews.buildbin-libdir && mkdir biocViews.buildbin-libdir && C:\Users\biocbuild\bbs-3.13-bioc\R\bin\R.exe CMD INSTALL --merge-multiarch --build --library=biocViews.buildbin-libdir biocViews_1.60.0.tar.gz && C:\Users\biocbuild\bbs-3.13-bioc\R\bin\R.exe CMD INSTALL biocViews_1.60.0.zip && rm biocViews_1.60.0.tar.gz biocViews_1.60.0.zip |
| StartedAt: 2021-10-14 08:00:59 -0400 (Thu, 14 Oct 2021) |
| EndedAt: 2021-10-14 08:02:05 -0400 (Thu, 14 Oct 2021) |
| EllapsedTime: 65.7 seconds |
| RetCode: 0 |
| Status: OK |
##############################################################################
##############################################################################
###
### Running command:
###
### C:\cygwin\bin\curl.exe -O http://155.52.207.165/BBS/3.13/bioc/src/contrib/biocViews_1.60.0.tar.gz && rm -rf biocViews.buildbin-libdir && mkdir biocViews.buildbin-libdir && C:\Users\biocbuild\bbs-3.13-bioc\R\bin\R.exe CMD INSTALL --merge-multiarch --build --library=biocViews.buildbin-libdir biocViews_1.60.0.tar.gz && C:\Users\biocbuild\bbs-3.13-bioc\R\bin\R.exe CMD INSTALL biocViews_1.60.0.zip && rm biocViews_1.60.0.tar.gz biocViews_1.60.0.zip
###
##############################################################################
##############################################################################
% Total % Received % Xferd Average Speed Time Time Time Current
Dload Upload Total Spent Left Speed
0 0 0 0 0 0 0 0 --:--:-- --:--:-- --:--:-- 0
100 75196 100 75196 0 0 437k 0 --:--:-- --:--:-- --:--:-- 439k
install for i386
* installing *source* package 'biocViews' ...
** using staged installation
** R
** data
** inst
** byte-compile and prepare package for lazy loading
** help
*** installing help indices
converting help for package 'biocViews'
finding HTML links ... done
BiocView-class html
Htmlized-class html
PackageDetail-class html
RepositoryDetail-class html
biocViews-package html
biocViewsVocab html
extractManuals html
extractNEWS html
extractTopLevelFiles html
extractVignettes html
genReposControlFiles html
getBiocSubViews html
getBiocViews html
getCurrentbiocViews html
getPackageNEWS html
getPackageTitles html
getPacksAndViews html
getSubTerms html
guessPackageType html
htmlDoc html
htmlFilename html
htmlValue html
recommendBiocViews html
recommendPackages html
validation_tests html
writeBiocViews html
writeHtmlDoc html
writePackageDetailHtml html
writeRFilesFromVignettes html
writeRepositoryHtml html
writeTopLevelView html
write_REPOSITORY html
write_SYMBOLS html
write_VIEWS html
** building package indices
** installing vignettes
'HOWTO-BCV.Rnw'
'createReposHtml.Rnw'
** testing if installed package can be loaded from temporary location
** testing if installed package can be loaded from final location
** testing if installed package keeps a record of temporary installation path
install for x64
* installing *source* package 'biocViews' ...
** testing if installed package can be loaded
* MD5 sums
packaged installation of 'biocViews' as biocViews_1.60.0.zip
* DONE (biocViews)
* installing to library 'C:/Users/biocbuild/bbs-3.13-bioc/R/library'
package 'biocViews' successfully unpacked and MD5 sums checked