| Back to Multiple platform build/check report for BioC 3.13 |
|
This page was generated on 2021-10-15 15:05:58 -0400 (Fri, 15 Oct 2021).
|
To the developers/maintainers of the bigmelon package: - Please allow up to 24 hours (and sometimes 48 hours) for your latest push to git@git.bioconductor.org:packages/bigmelon.git to reflect on this report. See How and When does the builder pull? When will my changes propagate? here for more information. - Make sure to use the following settings in order to reproduce any error or warning you see on this page. |
| Package 150/2041 | Hostname | OS / Arch | INSTALL | BUILD | CHECK | BUILD BIN | ||||||||
| bigmelon 1.18.0 (landing page) Tyler J. Gorrie-Stone
| nebbiolo1 | Linux (Ubuntu 20.04.2 LTS) / x86_64 | OK | OK | OK | |||||||||
| tokay2 | Windows Server 2012 R2 Standard / x64 | OK | OK | OK | OK | |||||||||
| machv2 | macOS 10.14.6 Mojave / x86_64 | OK | OK | OK | OK | |||||||||
| Package: bigmelon |
| Version: 1.18.0 |
| Command: rm -rf bigmelon.buildbin-libdir && mkdir bigmelon.buildbin-libdir && C:\Users\biocbuild\bbs-3.13-bioc\R\bin\R.exe CMD INSTALL --merge-multiarch --build --library=bigmelon.buildbin-libdir bigmelon_1.18.0.tar.gz |
| StartedAt: 2021-10-15 08:11:59 -0400 (Fri, 15 Oct 2021) |
| EndedAt: 2021-10-15 08:13:31 -0400 (Fri, 15 Oct 2021) |
| EllapsedTime: 92.7 seconds |
| RetCode: 0 |
| Status: OK |
| PackageFile: bigmelon_1.18.0.zip |
| PackageFileSize: 1.234 MiB |
##############################################################################
##############################################################################
###
### Running command:
###
### rm -rf bigmelon.buildbin-libdir && mkdir bigmelon.buildbin-libdir && C:\Users\biocbuild\bbs-3.13-bioc\R\bin\R.exe CMD INSTALL --merge-multiarch --build --library=bigmelon.buildbin-libdir bigmelon_1.18.0.tar.gz
###
##############################################################################
##############################################################################
install for i386
* installing *source* package 'bigmelon' ...
** using staged installation
** R
** data
** inst
** byte-compile and prepare package for lazy loading
No methods found in package 'RSQLite' for request: 'dbListFields' when loading 'lumi'
Creating a new generic function for 'fot' in package 'bigmelon'
Creating a new generic function for 'predictSex' in package 'bigmelon'
** help
*** installing help indices
converting help for package 'bigmelon'
finding HTML links ... done
GEOtoGDS html
app2gds html
backupGdsn html
bigmelon-accessors html
bigmelon-internal html
bigmelon-normalization html
finding level-2 HTML links ... done
bigmelon-package html
bumphunterGdsn html
cantaloupe html
combogds html
ecc html
es2gds html
finalreport2gds html
gds2mlumi html
getquantilesandranks html
iadd html
pfiltergds html
prcompgdsn html
pwodgdsn html
rankednorm html
redirect html
wm-port html
** building package indices
** installing vignettes
** testing if installed package can be loaded from temporary location
No methods found in package 'RSQLite' for request: 'dbListFields' when loading 'lumi'
** testing if installed package can be loaded from final location
No methods found in package 'RSQLite' for request: 'dbListFields' when loading 'lumi'
** testing if installed package keeps a record of temporary installation path
install for x64
* installing *source* package 'bigmelon' ...
** testing if installed package can be loaded
No methods found in package 'RSQLite' for request: 'dbListFields' when loading 'lumi'
* MD5 sums
packaged installation of 'bigmelon' as bigmelon_1.18.0.zip
* DONE (bigmelon)