| Back to Multiple platform build/check report for BioC 3.13 |
|
This page was generated on 2021-10-15 15:05:58 -0400 (Fri, 15 Oct 2021).
|
To the developers/maintainers of the baySeq package: - Please allow up to 24 hours (and sometimes 48 hours) for your latest push to git@git.bioconductor.org:packages/baySeq.git to reflect on this report. See How and When does the builder pull? When will my changes propagate? here for more information. - Make sure to use the following settings in order to reproduce any error or warning you see on this page. |
| Package 130/2041 | Hostname | OS / Arch | INSTALL | BUILD | CHECK | BUILD BIN | ||||||||
| baySeq 2.26.0 (landing page) Thomas J. Hardcastle
| nebbiolo1 | Linux (Ubuntu 20.04.2 LTS) / x86_64 | OK | OK | OK | |||||||||
| tokay2 | Windows Server 2012 R2 Standard / x64 | OK | OK | OK | OK | |||||||||
| machv2 | macOS 10.14.6 Mojave / x86_64 | OK | OK | OK | OK | |||||||||
| Package: baySeq |
| Version: 2.26.0 |
| Command: C:\cygwin\bin\curl.exe -O http://155.52.207.165/BBS/3.13/bioc/src/contrib/baySeq_2.26.0.tar.gz && rm -rf baySeq.buildbin-libdir && mkdir baySeq.buildbin-libdir && C:\Users\biocbuild\bbs-3.13-bioc\R\bin\R.exe CMD INSTALL --merge-multiarch --build --library=baySeq.buildbin-libdir baySeq_2.26.0.tar.gz && C:\Users\biocbuild\bbs-3.13-bioc\R\bin\R.exe CMD INSTALL baySeq_2.26.0.zip && rm baySeq_2.26.0.tar.gz baySeq_2.26.0.zip |
| StartedAt: 2021-10-14 09:08:08 -0400 (Thu, 14 Oct 2021) |
| EndedAt: 2021-10-14 09:09:12 -0400 (Thu, 14 Oct 2021) |
| EllapsedTime: 64.5 seconds |
| RetCode: 0 |
| Status: OK |
##############################################################################
##############################################################################
###
### Running command:
###
### C:\cygwin\bin\curl.exe -O http://155.52.207.165/BBS/3.13/bioc/src/contrib/baySeq_2.26.0.tar.gz && rm -rf baySeq.buildbin-libdir && mkdir baySeq.buildbin-libdir && C:\Users\biocbuild\bbs-3.13-bioc\R\bin\R.exe CMD INSTALL --merge-multiarch --build --library=baySeq.buildbin-libdir baySeq_2.26.0.tar.gz && C:\Users\biocbuild\bbs-3.13-bioc\R\bin\R.exe CMD INSTALL baySeq_2.26.0.zip && rm baySeq_2.26.0.tar.gz baySeq_2.26.0.zip
###
##############################################################################
##############################################################################
% Total % Received % Xferd Average Speed Time Time Time Current
Dload Upload Total Spent Left Speed
0 0 0 0 0 0 0 0 --:--:-- --:--:-- --:--:-- 0
100 277k 100 277k 0 0 1040k 0 --:--:-- --:--:-- --:--:-- 1044k
install for i386
* installing *source* package 'baySeq' ...
** using staged installation
** R
** data
** byte-compile and prepare package for lazy loading
** help
*** installing help indices
converting help for package 'baySeq'
finding HTML links ... done
CDPost html
CDPriors html
allModels html
baySeq-classes html
baySeq-package html
bimodalSep html
densityFunction html
densityFunctions html
getLibsizes html
getLikelihoods html
getPosteriors html
getPriors html
getTPs html
makeOrderings html
marginaliseEqual html
marginalisePairwise html
methObservables html
mobAnnotation html
mobData html
pairData html
plotMA.CD html
plotNullPrior html
plotPosteriors html
plotPriors html
selectTop html
simData html
summarisePosteriors html
topCounts html
zimData html
** building package indices
** installing vignettes
** testing if installed package can be loaded from temporary location
** testing if installed package can be loaded from final location
** testing if installed package keeps a record of temporary installation path
install for x64
* installing *source* package 'baySeq' ...
** testing if installed package can be loaded
* MD5 sums
packaged installation of 'baySeq' as baySeq_2.26.0.zip
* DONE (baySeq)
* installing to library 'C:/Users/biocbuild/bbs-3.13-bioc/R/library'
package 'baySeq' successfully unpacked and MD5 sums checked