Back to Multiple platform build/check report for BioC 3.13 |
|
This page was generated on 2021-10-15 15:05:58 -0400 (Fri, 15 Oct 2021).
To the developers/maintainers of the ballgown package: - Please allow up to 24 hours (and sometimes 48 hours) for your latest push to git@git.bioconductor.org:packages/ballgown.git to reflect on this report. See How and When does the builder pull? When will my changes propagate? here for more information. - Make sure to use the following settings in order to reproduce any error or warning you see on this page. |
Package 112/2041 | Hostname | OS / Arch | INSTALL | BUILD | CHECK | BUILD BIN | ||||||||
ballgown 2.24.0 (landing page) Jack Fu
| nebbiolo1 | Linux (Ubuntu 20.04.2 LTS) / x86_64 | OK | OK | OK | ![]() | ||||||||
tokay2 | Windows Server 2012 R2 Standard / x64 | OK | OK | OK | OK | ![]() | ||||||||
machv2 | macOS 10.14.6 Mojave / x86_64 | OK | OK | OK | OK | ![]() | ||||||||
Package: ballgown |
Version: 2.24.0 |
Command: rm -rf ballgown.buildbin-libdir && mkdir ballgown.buildbin-libdir && C:\Users\biocbuild\bbs-3.13-bioc\R\bin\R.exe CMD INSTALL --merge-multiarch --build --library=ballgown.buildbin-libdir ballgown_2.24.0.tar.gz |
StartedAt: 2021-10-15 08:06:37 -0400 (Fri, 15 Oct 2021) |
EndedAt: 2021-10-15 08:08:00 -0400 (Fri, 15 Oct 2021) |
EllapsedTime: 83.5 seconds |
RetCode: 0 |
Status: OK |
PackageFile: ballgown_2.24.0.zip |
PackageFileSize: 3.308 MiB |
############################################################################## ############################################################################## ### ### Running command: ### ### rm -rf ballgown.buildbin-libdir && mkdir ballgown.buildbin-libdir && C:\Users\biocbuild\bbs-3.13-bioc\R\bin\R.exe CMD INSTALL --merge-multiarch --build --library=ballgown.buildbin-libdir ballgown_2.24.0.tar.gz ### ############################################################################## ############################################################################## install for i386 * installing *source* package 'ballgown' ... ** using staged installation ** R ** data ** inst ** byte-compile and prepare package for lazy loading Creating a new generic function for 'structure' in package 'ballgown' ** help *** installing help indices converting help for package 'ballgown' finding HTML links ... done annotate_assembly html ballgown-class html ballgown-constructor html REDIRECT:topic Previous alias or file overwritten by alias: C:/Users/biocbuild/bbs-3.13-bioc/meat/ballgown.buildbin-libdir/00LOCK-ballgown/00new/ballgown/help/ballgown.html ballgown-package html ballgownrsem html bg html checkAssembledTx html clusterTranscripts html collapseTranscripts html contains html dirs html eexpr html expr-replace html expr html exprfilter html geneIDs html geneNames html getAttributeField html getGenes html gexpr html gffRead html gffReadGR html iexpr html indexes-replace html indexes html last html mergedDate html pData-replace html pData html pctOverlap html plotLatentTranscripts html plotMeans html plotTranscripts html sampleNames html seqnames html stattest html structure html subset html tGene html texpr html transcriptIDs html transcriptNames html writeFiles html ** building package indices ** installing vignettes ** testing if installed package can be loaded from temporary location ** testing if installed package can be loaded from final location ** testing if installed package keeps a record of temporary installation path install for x64 * installing *source* package 'ballgown' ... ** testing if installed package can be loaded * MD5 sums packaged installation of 'ballgown' as ballgown_2.24.0.zip * DONE (ballgown)