Back to Multiple platform build/check report for BioC 3.13 |
|
This page was generated on 2021-10-15 15:06:28 -0400 (Fri, 15 Oct 2021).
To the developers/maintainers of the annaffy package: - Please allow up to 24 hours (and sometimes 48 hours) for your latest push to git@git.bioconductor.org:packages/annaffy.git to reflect on this report. See How and When does the builder pull? When will my changes propagate? here for more information. - Make sure to use the following settings in order to reproduce any error or warning you see on this page. |
Package 59/2041 | Hostname | OS / Arch | INSTALL | BUILD | CHECK | BUILD BIN | ||||||||
annaffy 1.64.2 (landing page) Colin A. Smith
| nebbiolo1 | Linux (Ubuntu 20.04.2 LTS) / x86_64 | OK | OK | WARNINGS | ![]() | ||||||||
tokay2 | Windows Server 2012 R2 Standard / x64 | OK | OK | WARNINGS | OK | ![]() | ||||||||
machv2 | macOS 10.14.6 Mojave / x86_64 | OK | OK | WARNINGS | OK | ![]() | ||||||||
Package: annaffy |
Version: 1.64.2 |
Command: rm -rf annaffy.buildbin-libdir && mkdir annaffy.buildbin-libdir && /Users/biocbuild/BBS/utils/build-universal.sh annaffy_1.64.2.tar.gz /Library/Frameworks/R.framework/Versions/Current/Resources/bin/R annaffy.buildbin-libdir |
StartedAt: 2021-10-15 01:34:25 -0400 (Fri, 15 Oct 2021) |
EndedAt: 2021-10-15 01:35:34 -0400 (Fri, 15 Oct 2021) |
EllapsedTime: 69.2 seconds |
RetCode: 0 |
Status: OK |
PackageFile: annaffy_1.64.2.tgz |
PackageFileSize: 613.3 KiB |
############################################################################## ############################################################################## ### ### Running command: ### ### rm -rf annaffy.buildbin-libdir && mkdir annaffy.buildbin-libdir && /Users/biocbuild/BBS/utils/build-universal.sh annaffy_1.64.2.tar.gz /Library/Frameworks/R.framework/Versions/Current/Resources/bin/R annaffy.buildbin-libdir ### ############################################################################## ############################################################################## >>>>>>> >>>>>>> INSTALLATION WITH 'R CMD INSTALL --preclean --no-multiarch --library=annaffy.buildbin-libdir annaffy_1.64.2.tar.gz' >>>>>>> * installing *source* package ‘annaffy’ ... ** using staged installation ** R ** data ** inst ** byte-compile and prepare package for lazy loading ** help *** installing help indices ** building package indices ** installing vignettes ** testing if installed package can be loaded from temporary location ** testing if installed package can be loaded from final location ** testing if installed package keeps a record of temporary installation path * DONE (annaffy)