| Back to Multiple platform build/check report for BioC 3.13 |
|
This page was generated on 2021-10-15 15:05:57 -0400 (Fri, 15 Oct 2021).
|
To the developers/maintainers of the altcdfenvs package: - Please allow up to 24 hours (and sometimes 48 hours) for your latest push to git@git.bioconductor.org:packages/altcdfenvs.git to reflect on this report. See How and When does the builder pull? When will my changes propagate? here for more information. - Make sure to use the following settings in order to reproduce any error or warning you see on this page. |
| Package 50/2041 | Hostname | OS / Arch | INSTALL | BUILD | CHECK | BUILD BIN | ||||||||
| altcdfenvs 2.54.0 (landing page) Laurent Gautier
| nebbiolo1 | Linux (Ubuntu 20.04.2 LTS) / x86_64 | OK | OK | OK | |||||||||
| tokay2 | Windows Server 2012 R2 Standard / x64 | OK | OK | OK | OK | |||||||||
| machv2 | macOS 10.14.6 Mojave / x86_64 | OK | OK | OK | OK | |||||||||
| Package: altcdfenvs |
| Version: 2.54.0 |
| Command: rm -rf altcdfenvs.buildbin-libdir && mkdir altcdfenvs.buildbin-libdir && C:\Users\biocbuild\bbs-3.13-bioc\R\bin\R.exe CMD INSTALL --merge-multiarch --build --library=altcdfenvs.buildbin-libdir altcdfenvs_2.54.0.tar.gz |
| StartedAt: 2021-10-15 07:58:31 -0400 (Fri, 15 Oct 2021) |
| EndedAt: 2021-10-15 07:59:46 -0400 (Fri, 15 Oct 2021) |
| EllapsedTime: 74.5 seconds |
| RetCode: 0 |
| Status: OK |
| PackageFile: altcdfenvs_2.54.0.zip |
| PackageFileSize: 866.2 KiB |
##############################################################################
##############################################################################
###
### Running command:
###
### rm -rf altcdfenvs.buildbin-libdir && mkdir altcdfenvs.buildbin-libdir && C:\Users\biocbuild\bbs-3.13-bioc\R\bin\R.exe CMD INSTALL --merge-multiarch --build --library=altcdfenvs.buildbin-libdir altcdfenvs_2.54.0.tar.gz
###
##############################################################################
##############################################################################
install for i386
* installing *source* package 'altcdfenvs' ...
** using staged installation
** R
** data
** inst
** byte-compile and prepare package for lazy loading
NOTE: arguments in definition for validity method for class 'AffyProbesMatch' changed from (obj) to (object)
in method for 'toHypergraph' with signature '"CdfEnvAffy"': no definition for class "CdfEnvAffy"
** help
*** installing help indices
converting help for package 'altcdfenvs'
finding HTML links ... done
AffyProbesMatch-class html
CdfEnvAffy-class html
appendCdfEnvAffy html
buildCdfEnv.biostrings html
cdfenv html
cdfenvEx html
copyCdfEnvAffy html
countduplicated html
geneNames html
getxy.probeseq html
index2xy html
indexProbes.CdfEnvAffy html
matchAffyProbes html
plot.CdfEnvAffy html
removeIndex html
toHypergraph html
unique.CdfEnvAffy html
utils.FASTA html
validAffyBatch html
** building package indices
** installing vignettes
** testing if installed package can be loaded from temporary location
** testing if installed package can be loaded from final location
** testing if installed package keeps a record of temporary installation path
install for x64
* installing *source* package 'altcdfenvs' ...
** testing if installed package can be loaded
* MD5 sums
packaged installation of 'altcdfenvs' as altcdfenvs_2.54.0.zip
* DONE (altcdfenvs)