| Back to Multiple platform build/check report for BioC 3.13 |
|
This page was generated on 2021-10-15 15:05:57 -0400 (Fri, 15 Oct 2021).
|
To the developers/maintainers of the alevinQC package: - Please allow up to 24 hours (and sometimes 48 hours) for your latest push to git@git.bioconductor.org:packages/alevinQC.git to reflect on this report. See How and When does the builder pull? When will my changes propagate? here for more information. - Make sure to use the following settings in order to reproduce any error or warning you see on this page. |
| Package 43/2041 | Hostname | OS / Arch | INSTALL | BUILD | CHECK | BUILD BIN | ||||||||
| alevinQC 1.8.0 (landing page) Charlotte Soneson
| nebbiolo1 | Linux (Ubuntu 20.04.2 LTS) / x86_64 | OK | OK | OK | |||||||||
| tokay2 | Windows Server 2012 R2 Standard / x64 | OK | OK | OK | OK | |||||||||
| machv2 | macOS 10.14.6 Mojave / x86_64 | OK | OK | OK | OK | |||||||||
| Package: alevinQC |
| Version: 1.8.0 |
| Command: rm -rf alevinQC.buildbin-libdir && mkdir alevinQC.buildbin-libdir && C:\Users\biocbuild\bbs-3.13-bioc\R\bin\R.exe CMD INSTALL --merge-multiarch --build --library=alevinQC.buildbin-libdir alevinQC_1.8.0.tar.gz |
| StartedAt: 2021-10-15 07:57:43 -0400 (Fri, 15 Oct 2021) |
| EndedAt: 2021-10-15 07:58:47 -0400 (Fri, 15 Oct 2021) |
| EllapsedTime: 64.4 seconds |
| RetCode: 0 |
| Status: OK |
| PackageFile: alevinQC_1.8.0.zip |
| PackageFileSize: 4.825 MiB |
##############################################################################
##############################################################################
###
### Running command:
###
### rm -rf alevinQC.buildbin-libdir && mkdir alevinQC.buildbin-libdir && C:\Users\biocbuild\bbs-3.13-bioc\R\bin\R.exe CMD INSTALL --merge-multiarch --build --library=alevinQC.buildbin-libdir alevinQC_1.8.0.tar.gz
###
##############################################################################
##############################################################################
install for i386
* installing *source* package 'alevinQC' ...
** using staged installation
** R
** inst
** byte-compile and prepare package for lazy loading
** help
*** installing help indices
converting help for package 'alevinQC'
finding HTML links ... done
alevinQC-pkg html
alevinQCReport html
alevinQCShiny html
checkAlevinInputFiles html
plotAlevinBarcodeCollapse html
plotAlevinHistogram html
plotAlevinKneeNbrGenes html
plotAlevinKneeRaw html
plotAlevinQuant html
plotAlevinQuantPairs html
readAlevinQC html
** building package indices
** installing vignettes
** testing if installed package can be loaded from temporary location
** testing if installed package can be loaded from final location
** testing if installed package keeps a record of temporary installation path
install for x64
* installing *source* package 'alevinQC' ...
** testing if installed package can be loaded
* MD5 sums
packaged installation of 'alevinQC' as alevinQC_1.8.0.zip
* DONE (alevinQC)