| Back to Multiple platform build/check report for BioC 3.13 |
|
This page was generated on 2021-10-15 15:05:57 -0400 (Fri, 15 Oct 2021).
|
To the developers/maintainers of the aggregateBioVar package: - Please allow up to 24 hours (and sometimes 48 hours) for your latest push to git@git.bioconductor.org:packages/aggregateBioVar.git to reflect on this report. See How and When does the builder pull? When will my changes propagate? here for more information. - Make sure to use the following settings in order to reproduce any error or warning you see on this page. |
| Package 37/2041 | Hostname | OS / Arch | INSTALL | BUILD | CHECK | BUILD BIN | ||||||||
| aggregateBioVar 1.2.0 (landing page) Jason Ratcliff
| nebbiolo1 | Linux (Ubuntu 20.04.2 LTS) / x86_64 | OK | OK | OK | |||||||||
| tokay2 | Windows Server 2012 R2 Standard / x64 | OK | OK | OK | OK | |||||||||
| machv2 | macOS 10.14.6 Mojave / x86_64 | OK | OK | OK | OK | |||||||||
| Package: aggregateBioVar |
| Version: 1.2.0 |
| Command: C:\cygwin\bin\curl.exe -O http://155.52.207.165/BBS/3.13/bioc/src/contrib/aggregateBioVar_1.2.0.tar.gz && rm -rf aggregateBioVar.buildbin-libdir && mkdir aggregateBioVar.buildbin-libdir && C:\Users\biocbuild\bbs-3.13-bioc\R\bin\R.exe CMD INSTALL --merge-multiarch --build --library=aggregateBioVar.buildbin-libdir aggregateBioVar_1.2.0.tar.gz && C:\Users\biocbuild\bbs-3.13-bioc\R\bin\R.exe CMD INSTALL aggregateBioVar_1.2.0.zip && rm aggregateBioVar_1.2.0.tar.gz aggregateBioVar_1.2.0.zip |
| StartedAt: 2021-10-14 08:57:44 -0400 (Thu, 14 Oct 2021) |
| EndedAt: 2021-10-14 08:58:39 -0400 (Thu, 14 Oct 2021) |
| EllapsedTime: 54.7 seconds |
| RetCode: 0 |
| Status: OK |
##############################################################################
##############################################################################
###
### Running command:
###
### C:\cygwin\bin\curl.exe -O http://155.52.207.165/BBS/3.13/bioc/src/contrib/aggregateBioVar_1.2.0.tar.gz && rm -rf aggregateBioVar.buildbin-libdir && mkdir aggregateBioVar.buildbin-libdir && C:\Users\biocbuild\bbs-3.13-bioc\R\bin\R.exe CMD INSTALL --merge-multiarch --build --library=aggregateBioVar.buildbin-libdir aggregateBioVar_1.2.0.tar.gz && C:\Users\biocbuild\bbs-3.13-bioc\R\bin\R.exe CMD INSTALL aggregateBioVar_1.2.0.zip && rm aggregateBioVar_1.2.0.tar.gz aggregateBioVar_1.2.0.zip
###
##############################################################################
##############################################################################
% Total % Received % Xferd Average Speed Time Time Time Current
Dload Upload Total Spent Left Speed
0 0 0 0 0 0 0 0 --:--:-- --:--:-- --:--:-- 0
7 3131k 7 238k 0 0 484k 0 0:00:06 --:--:-- 0:00:06 483k
33 3131k 33 1051k 0 0 642k 0 0:00:04 0:00:01 0:00:03 642k
99 3131k 99 3125k 0 0 1259k 0 0:00:02 0:00:02 --:--:-- 1259k
100 3131k 100 3131k 0 0 1258k 0 0:00:02 0:00:02 --:--:-- 1258k
install for i386
* installing *source* package 'aggregateBioVar' ...
** using staged installation
** R
** data
*** moving datasets to lazyload DB
** byte-compile and prepare package for lazy loading
** help
*** installing help indices
converting help for package 'aggregateBioVar'
finding HTML links ... done
aggregateBioVar html
finding level-2 HTML links ... done
countsByCell html
countsBySubject html
scSubjects html
small_airway html
subjectMetaData html
summarizedCounts html
*** copying figures
** building package indices
** installing vignettes
** testing if installed package can be loaded from temporary location
** testing if installed package can be loaded from final location
** testing if installed package keeps a record of temporary installation path
install for x64
* installing *source* package 'aggregateBioVar' ...
** testing if installed package can be loaded
* MD5 sums
packaged installation of 'aggregateBioVar' as aggregateBioVar_1.2.0.zip
* DONE (aggregateBioVar)
* installing to library 'C:/Users/biocbuild/bbs-3.13-bioc/R/library'
package 'aggregateBioVar' successfully unpacked and MD5 sums checked