| Back to Multiple platform build/check report for BioC 3.13 |
|
This page was generated on 2021-10-15 15:05:56 -0400 (Fri, 15 Oct 2021).
|
To the developers/maintainers of the adductomicsR package: - Please allow up to 24 hours (and sometimes 48 hours) for your latest push to git@git.bioconductor.org:packages/adductomicsR.git to reflect on this report. See How and When does the builder pull? When will my changes propagate? here for more information. - Make sure to use the following settings in order to reproduce any error or warning you see on this page. |
| Package 18/2041 | Hostname | OS / Arch | INSTALL | BUILD | CHECK | BUILD BIN | ||||||||
| adductomicsR 1.8.0 (landing page) Josie Hayes
| nebbiolo1 | Linux (Ubuntu 20.04.2 LTS) / x86_64 | OK | OK | WARNINGS | |||||||||
| tokay2 | Windows Server 2012 R2 Standard / x64 | OK | OK | WARNINGS | OK | |||||||||
| machv2 | macOS 10.14.6 Mojave / x86_64 | OK | OK | WARNINGS | OK | |||||||||
| Package: adductomicsR |
| Version: 1.8.0 |
| Command: rm -rf adductomicsR.buildbin-libdir && mkdir adductomicsR.buildbin-libdir && C:\Users\biocbuild\bbs-3.13-bioc\R\bin\R.exe CMD INSTALL --merge-multiarch --build --library=adductomicsR.buildbin-libdir adductomicsR_1.8.0.tar.gz |
| StartedAt: 2021-10-15 07:54:30 -0400 (Fri, 15 Oct 2021) |
| EndedAt: 2021-10-15 07:55:23 -0400 (Fri, 15 Oct 2021) |
| EllapsedTime: 53.2 seconds |
| RetCode: 0 |
| Status: OK |
| PackageFile: adductomicsR_1.8.0.zip |
| PackageFileSize: 1.272 MiB |
##############################################################################
##############################################################################
###
### Running command:
###
### rm -rf adductomicsR.buildbin-libdir && mkdir adductomicsR.buildbin-libdir && C:\Users\biocbuild\bbs-3.13-bioc\R\bin\R.exe CMD INSTALL --merge-multiarch --build --library=adductomicsR.buildbin-libdir adductomicsR_1.8.0.tar.gz
###
##############################################################################
##############################################################################
install for i386
* installing *source* package 'adductomicsR' ...
** using staged installation
** R
** inst
** byte-compile and prepare package for lazy loading
** help
*** installing help indices
converting help for package 'adductomicsR'
finding HTML links ... done
IsotopicDistributionMod html
adductQuant html
adductQuantif-class html
adductSpec-class html
adductSpecGen html
digestMod html
finding level-2 HTML links ... done
dotProdMatrix html
dotProdSpectra html
dynamicNoiseFilter html
filterAdductTable html
findPeaks html
generateTargTable html
loessWrapperMod html
ms2Group html
nAdjPeaks html
outputPeakTable html
peakIdQuant_newMethod html
peakIntegrate html
peakListId html
peakRangeSum html
probPeaks html
retentionCorr html
rtDevModelSave html
rtDevModelling html
signalGrouping html
specSimPepId html
spectraCreate html
truePeakTrough html
** building package indices
** installing vignettes
** testing if installed package can be loaded from temporary location
** testing if installed package can be loaded from final location
** testing if installed package keeps a record of temporary installation path
install for x64
* installing *source* package 'adductomicsR' ...
** testing if installed package can be loaded
* MD5 sums
packaged installation of 'adductomicsR' as adductomicsR_1.8.0.zip
* DONE (adductomicsR)