Back to Multiple platform build/check report for BioC 3.13 |
|
This page was generated on 2021-10-15 15:05:56 -0400 (Fri, 15 Oct 2021).
To the developers/maintainers of the adSplit package: - Please allow up to 24 hours (and sometimes 48 hours) for your latest push to git@git.bioconductor.org:packages/adSplit.git to reflect on this report. See How and When does the builder pull? When will my changes propagate? here for more information. - Make sure to use the following settings in order to reproduce any error or warning you see on this page. |
Package 20/2041 | Hostname | OS / Arch | INSTALL | BUILD | CHECK | BUILD BIN | ||||||||
adSplit 1.62.0 (landing page) Claudio Lottaz
| nebbiolo1 | Linux (Ubuntu 20.04.2 LTS) / x86_64 | OK | OK | OK | ![]() | ||||||||
tokay2 | Windows Server 2012 R2 Standard / x64 | OK | OK | OK | OK | ![]() | ||||||||
machv2 | macOS 10.14.6 Mojave / x86_64 | OK | OK | OK | OK | ![]() | ||||||||
Package: adSplit |
Version: 1.62.0 |
Command: rm -rf adSplit.buildbin-libdir && mkdir adSplit.buildbin-libdir && C:\Users\biocbuild\bbs-3.13-bioc\R\bin\R.exe CMD INSTALL --merge-multiarch --build --library=adSplit.buildbin-libdir adSplit_1.62.0.tar.gz |
StartedAt: 2021-10-15 07:54:47 -0400 (Fri, 15 Oct 2021) |
EndedAt: 2021-10-15 07:56:11 -0400 (Fri, 15 Oct 2021) |
EllapsedTime: 84.1 seconds |
RetCode: 0 |
Status: OK |
PackageFile: adSplit_1.62.0.zip |
PackageFileSize: 480 KiB |
############################################################################## ############################################################################## ### ### Running command: ### ### rm -rf adSplit.buildbin-libdir && mkdir adSplit.buildbin-libdir && C:\Users\biocbuild\bbs-3.13-bioc\R\bin\R.exe CMD INSTALL --merge-multiarch --build --library=adSplit.buildbin-libdir adSplit_1.62.0.tar.gz ### ############################################################################## ############################################################################## install for i386 * installing *source* package 'adSplit' ... ** using staged installation ** libs "C:/rtools40/mingw32/bin/"g++ -std=gnu++11 -I"C:/Users/BIOCBU~1/BBS-3~1.13-/R/include" -DNDEBUG -I"c:/extsoft/include" -O2 -Wall -mfpmath=sse -msse2 -mstackrealign -c adSplit.cpp -o adSplit.o C:/rtools40/mingw32/bin/g++ -std=gnu++11 -shared -s -static-libgcc -o adSplit.dll tmp.def adSplit.o -Lc:/extsoft/lib/i386 -Lc:/extsoft/lib -LC:/Users/BIOCBU~1/BBS-3~1.13-/R/bin/i386 -lR installing to C:/Users/biocbuild/bbs-3.13-bioc/meat/adSplit.buildbin-libdir/00LOCK-adSplit/00new/adSplit/libs/i386 ** R ** data ** inst ** byte-compile and prepare package for lazy loading ** help *** installing help indices converting help for package 'adSplit' finding HTML links ... done adSplit-internal html adSplit html diana2means html drawRandomPS html golubKEGGSplits html hist.splitSet html image.splitSet html makeEID2PROBESenv html print.split html print.splitSet html randomDiana2means html ** building package indices ** installing vignettes ** testing if installed package can be loaded from temporary location ** testing if installed package can be loaded from final location ** testing if installed package keeps a record of temporary installation path install for x64 * installing *source* package 'adSplit' ... ** libs "C:/rtools40/mingw64/bin/"g++ -std=gnu++11 -I"C:/Users/BIOCBU~1/BBS-3~1.13-/R/include" -DNDEBUG -I"C:/extsoft/include" -O2 -Wall -mfpmath=sse -msse2 -mstackrealign -c adSplit.cpp -o adSplit.o C:/rtools40/mingw64/bin/g++ -std=gnu++11 -shared -s -static-libgcc -o adSplit.dll tmp.def adSplit.o -LC:/extsoft/lib/x64 -LC:/extsoft/lib -LC:/Users/BIOCBU~1/BBS-3~1.13-/R/bin/x64 -lR installing to C:/Users/biocbuild/bbs-3.13-bioc/meat/adSplit.buildbin-libdir/adSplit/libs/x64 ** testing if installed package can be loaded * MD5 sums packaged installation of 'adSplit' as adSplit_1.62.0.zip * DONE (adSplit)