| Back to Multiple platform build/check report for BioC 3.13 |
|
This page was generated on 2021-10-15 15:05:56 -0400 (Fri, 15 Oct 2021).
|
To the developers/maintainers of the a4Base package: - Please allow up to 24 hours (and sometimes 48 hours) for your latest push to git@git.bioconductor.org:packages/a4Base.git to reflect on this report. See How and When does the builder pull? When will my changes propagate? here for more information. - Make sure to use the following settings in order to reproduce any error or warning you see on this page. |
| Package 2/2041 | Hostname | OS / Arch | INSTALL | BUILD | CHECK | BUILD BIN | ||||||||
| a4Base 1.40.0 (landing page) Laure Cougnaud
| nebbiolo1 | Linux (Ubuntu 20.04.2 LTS) / x86_64 | OK | OK | OK | |||||||||
| tokay2 | Windows Server 2012 R2 Standard / x64 | OK | OK | OK | OK | |||||||||
| machv2 | macOS 10.14.6 Mojave / x86_64 | OK | OK | OK | OK | |||||||||
| Package: a4Base |
| Version: 1.40.0 |
| Command: C:\cygwin\bin\curl.exe -O http://155.52.207.165/BBS/3.13/bioc/src/contrib/a4Base_1.40.0.tar.gz && rm -rf a4Base.buildbin-libdir && mkdir a4Base.buildbin-libdir && C:\Users\biocbuild\bbs-3.13-bioc\R\bin\R.exe CMD INSTALL --merge-multiarch --build --library=a4Base.buildbin-libdir a4Base_1.40.0.tar.gz && C:\Users\biocbuild\bbs-3.13-bioc\R\bin\R.exe CMD INSTALL a4Base_1.40.0.zip && rm a4Base_1.40.0.tar.gz a4Base_1.40.0.zip |
| StartedAt: 2021-10-14 09:20:02 -0400 (Thu, 14 Oct 2021) |
| EndedAt: 2021-10-14 09:20:54 -0400 (Thu, 14 Oct 2021) |
| EllapsedTime: 51.7 seconds |
| RetCode: 0 |
| Status: OK |
##############################################################################
##############################################################################
###
### Running command:
###
### C:\cygwin\bin\curl.exe -O http://155.52.207.165/BBS/3.13/bioc/src/contrib/a4Base_1.40.0.tar.gz && rm -rf a4Base.buildbin-libdir && mkdir a4Base.buildbin-libdir && C:\Users\biocbuild\bbs-3.13-bioc\R\bin\R.exe CMD INSTALL --merge-multiarch --build --library=a4Base.buildbin-libdir a4Base_1.40.0.tar.gz && C:\Users\biocbuild\bbs-3.13-bioc\R\bin\R.exe CMD INSTALL a4Base_1.40.0.zip && rm a4Base_1.40.0.tar.gz a4Base_1.40.0.zip
###
##############################################################################
##############################################################################
% Total % Received % Xferd Average Speed Time Time Time Current
Dload Upload Total Spent Left Speed
0 0 0 0 0 0 0 0 --:--:-- --:--:-- --:--:-- 0
100 367k 100 367k 0 0 972k 0 --:--:-- --:--:-- --:--:-- 974k
install for i386
* installing *source* package 'a4Base' ...
** using staged installation
** R
** data
** inst
** byte-compile and prepare package for lazy loading
** help
*** installing help indices
converting help for package 'a4Base'
finding HTML links ... done
ExpressionSetWithComputation-class html
finding level-2 HTML links ... done
a4palette html
addQuantilesColors html
boxPlot html
combineTwoExpressionSet html
computeLogRatio html
createExpressionSet html
filterVarInt html
heatmap.expressionSet html
histPvalue html
histpvalueplotter html
lassoReg html
limmaReg html
limmaTwoLevels html
logReg html
nlcvTT html
oaColors html
oaPalette html
plot1gene html
plotComb2Samples html
plotCombMultSamples html
plotCombination2genes html
plotLogRatio html
probabilitiesPlot html
probe2gene html
profilesPlot html
propDEgenes-methods html
propDEgenes html
propdegenescalculation html
replicates html
spectralMap-methods html
spectralMap html
tTest html
topTable-methods html
volcanoPlot-methods html
volcanoPlot html
volcanoplotter html
** building package indices
** testing if installed package can be loaded from temporary location
** testing if installed package can be loaded from final location
** testing if installed package keeps a record of temporary installation path
install for x64
* installing *source* package 'a4Base' ...
** testing if installed package can be loaded
* MD5 sums
packaged installation of 'a4Base' as a4Base_1.40.0.zip
* DONE (a4Base)
* installing to library 'C:/Users/biocbuild/bbs-3.13-bioc/R/library'
package 'a4Base' successfully unpacked and MD5 sums checked