Back to Multiple platform build/check report for BioC 3.13 |
|
This page was generated on 2021-10-15 15:06:57 -0400 (Fri, 15 Oct 2021).
To the developers/maintainers of the Xeva package: - Please allow up to 24 hours (and sometimes 48 hours) for your latest push to git@git.bioconductor.org:packages/Xeva.git to reflect on this report. See How and When does the builder pull? When will my changes propagate? here for more information. - Make sure to use the following settings in order to reproduce any error or warning you see on this page. |
Package 2029/2041 | Hostname | OS / Arch | INSTALL | BUILD | CHECK | BUILD BIN | ||||||||
Xeva 1.8.0 (landing page) Benjamin Haibe-Kains
| nebbiolo1 | Linux (Ubuntu 20.04.2 LTS) / x86_64 | OK | OK | OK | ![]() | ||||||||
tokay2 | Windows Server 2012 R2 Standard / x64 | OK | OK | ERROR | OK | |||||||||
machv2 | macOS 10.14.6 Mojave / x86_64 | OK | OK | OK | OK | ![]() | ||||||||
Package: Xeva |
Version: 1.8.0 |
Command: /Library/Frameworks/R.framework/Versions/Current/Resources/bin/R CMD check --install=check:Xeva.install-out.txt --library=/Library/Frameworks/R.framework/Versions/Current/Resources/library --no-vignettes --timings Xeva_1.8.0.tar.gz |
StartedAt: 2021-10-15 01:16:14 -0400 (Fri, 15 Oct 2021) |
EndedAt: 2021-10-15 01:21:22 -0400 (Fri, 15 Oct 2021) |
EllapsedTime: 308.2 seconds |
RetCode: 0 |
Status: OK |
CheckDir: Xeva.Rcheck |
Warnings: 0 |
############################################################################## ############################################################################## ### ### Running command: ### ### /Library/Frameworks/R.framework/Versions/Current/Resources/bin/R CMD check --install=check:Xeva.install-out.txt --library=/Library/Frameworks/R.framework/Versions/Current/Resources/library --no-vignettes --timings Xeva_1.8.0.tar.gz ### ############################################################################## ############################################################################## * using log directory ‘/Users/biocbuild/bbs-3.13-bioc/meat/Xeva.Rcheck’ * using R version 4.1.1 (2021-08-10) * using platform: x86_64-apple-darwin17.0 (64-bit) * using session charset: UTF-8 * using option ‘--no-vignettes’ * checking for file ‘Xeva/DESCRIPTION’ ... OK * checking extension type ... Package * this is package ‘Xeva’ version ‘1.8.0’ * package encoding: UTF-8 * checking package namespace information ... OK * checking package dependencies ... OK * checking if this is a source package ... OK * checking if there is a namespace ... OK * checking for hidden files and directories ... NOTE Found the following hidden files and directories: .git_fetch_output.txt .git_merge_output.txt These were most likely included in error. See section ‘Package structure’ in the ‘Writing R Extensions’ manual. * checking for portable file names ... OK * checking for sufficient/correct file permissions ... OK * checking whether package ‘Xeva’ can be installed ... OK * checking installed package size ... OK * checking package directory ... OK * checking ‘build’ directory ... OK * checking DESCRIPTION meta-information ... OK * checking top-level files ... OK * checking for left-over files ... OK * checking index information ... OK * checking package subdirectories ... OK * checking R files for non-ASCII characters ... OK * checking R files for syntax errors ... OK * checking whether the package can be loaded ... OK * checking whether the package can be loaded with stated dependencies ... OK * checking whether the package can be unloaded cleanly ... OK * checking whether the namespace can be loaded with stated dependencies ... OK * checking whether the namespace can be unloaded cleanly ... OK * checking dependencies in R code ... OK * checking S3 generic/method consistency ... OK * checking replacement functions ... OK * checking foreign function calls ... OK * checking R code for possible problems ... OK * checking Rd files ... OK * checking Rd metadata ... OK * checking Rd cross-references ... OK * checking for missing documentation entries ... OK * checking for code/documentation mismatches ... OK * checking Rd \usage sections ... OK * checking Rd contents ... OK * checking for unstated dependencies in examples ... OK * checking contents of ‘data’ directory ... OK * checking data for non-ASCII characters ... NOTE Note: found 31 marked UTF-8 strings * checking data for ASCII and uncompressed saves ... OK * checking sizes of PDF files under ‘inst/doc’ ... OK * checking files in ‘vignettes’ ... OK * checking examples ... OK * checking for unstated dependencies in vignettes ... OK * checking package vignettes in ‘inst/doc’ ... OK * checking running R code from vignettes ... SKIPPED * checking re-building of vignette outputs ... SKIPPED * checking PDF version of manual ... OK * DONE Status: 2 NOTEs See ‘/Users/biocbuild/bbs-3.13-bioc/meat/Xeva.Rcheck/00check.log’ for details.
Xeva.Rcheck/00install.out
############################################################################## ############################################################################## ### ### Running command: ### ### /Library/Frameworks/R.framework/Versions/Current/Resources/bin/R CMD INSTALL Xeva ### ############################################################################## ############################################################################## * installing to library ‘/Library/Frameworks/R.framework/Versions/4.1/Resources/library’ * installing *source* package ‘Xeva’ ... ** using staged installation ** R ** data ** inst ** byte-compile and prepare package for lazy loading ** help *** installing help indices ** building package indices ** installing vignettes ** testing if installed package can be loaded from temporary location ** testing if installed package can be loaded from final location ** testing if installed package keeps a record of temporary installation path * DONE (Xeva)
Xeva.Rcheck/Xeva-Ex.timings
name | user | system | elapsed | |
ABC | 0.005 | 0.001 | 0.006 | |
AUC | 0.026 | 0.004 | 0.031 | |
TGI | 0.001 | 0.000 | 0.001 | |
addExperimentalDesign | 0.149 | 0.006 | 0.156 | |
angle | 0.008 | 0.001 | 0.010 | |
batchInfo | 0.167 | 0.008 | 0.175 | |
createXevaSet | 0.145 | 0.026 | 0.173 | |
dosePlot | 0.418 | 0.013 | 0.432 | |
downloadXevaSet | 0.028 | 0.004 | 0.383 | |
drugInform | 0.175 | 0.003 | 0.179 | |
drugSensitivitySig | 0.511 | 0.017 | 0.529 | |
getExperiment | 0.195 | 0.008 | 0.204 | |
getMolecularProfiles | 0.131 | 0.002 | 0.134 | |
lmm | 0.093 | 0.004 | 0.098 | |
mRECIST | 0.002 | 0.000 | 0.002 | |
modelInfo | 0.133 | 0.002 | 0.136 | |
plotPDX | 1.333 | 0.073 | 1.410 | |
plotmRECIST | 2.932 | 0.047 | 2.982 | |
response | 0.161 | 0.002 | 0.163 | |
selectModelIds | 0.189 | 0.009 | 0.198 | |
sensitivity | 0.120 | 0.006 | 0.127 | |
setResponse | 3.069 | 0.028 | 3.098 | |
slope | 0.010 | 0.001 | 0.012 | |
subsetXeva | 0.320 | 0.002 | 0.323 | |
summarizeMolecularProfiles | 0.155 | 0.002 | 0.156 | |
summarizeResponse | 0.236 | 0.002 | 0.238 | |
waterfall | 1.067 | 0.006 | 1.074 | |