| Back to Multiple platform build/check report for BioC 3.13 |
|
This page was generated on 2021-10-15 15:06:27 -0400 (Fri, 15 Oct 2021).
|
To the developers/maintainers of the XCIR package: - Please allow up to 24 hours (and sometimes 48 hours) for your latest push to git@git.bioconductor.org:packages/XCIR.git to reflect on this report. See How and When does the builder pull? When will my changes propagate? here for more information. - Make sure to use the following settings in order to reproduce any error or warning you see on this page. |
| Package 2026/2041 | Hostname | OS / Arch | INSTALL | BUILD | CHECK | BUILD BIN | ||||||||
| XCIR 1.6.0 (landing page) Renan Sauteraud
| nebbiolo1 | Linux (Ubuntu 20.04.2 LTS) / x86_64 | OK | OK | OK | |||||||||
| tokay2 | Windows Server 2012 R2 Standard / x64 | OK | OK | OK | OK | |||||||||
| machv2 | macOS 10.14.6 Mojave / x86_64 | OK | OK | OK | OK | |||||||||
| Package: XCIR |
| Version: 1.6.0 |
| Command: rm -rf XCIR.buildbin-libdir && mkdir XCIR.buildbin-libdir && C:\Users\biocbuild\bbs-3.13-bioc\R\bin\R.exe CMD INSTALL --merge-multiarch --build --library=XCIR.buildbin-libdir XCIR_1.6.0.tar.gz |
| StartedAt: 2021-10-15 12:25:45 -0400 (Fri, 15 Oct 2021) |
| EndedAt: 2021-10-15 12:27:23 -0400 (Fri, 15 Oct 2021) |
| EllapsedTime: 97.7 seconds |
| RetCode: 0 |
| Status: OK |
| PackageFile: XCIR_1.6.0.zip |
| PackageFileSize: 588.1 KiB |
##############################################################################
##############################################################################
###
### Running command:
###
### rm -rf XCIR.buildbin-libdir && mkdir XCIR.buildbin-libdir && C:\Users\biocbuild\bbs-3.13-bioc\R\bin\R.exe CMD INSTALL --merge-multiarch --build --library=XCIR.buildbin-libdir XCIR_1.6.0.tar.gz
###
##############################################################################
##############################################################################
install for i386
* installing *source* package 'XCIR' ...
** using staged installation
** R
** inst
** byte-compile and prepare package for lazy loading
** help
*** installing help indices
converting help for package 'XCIR'
finding HTML links ... done
BetaConversion html
XCIR-package html
addAnno html
annotateX html
betaBinomXI html
consensusXCI html
getGenicDP html
getXCIstate html
mart_genes html
plotBBCellFrac html
plotQC html
readRNASNPs html
readVCF4 html
readXCI html
sample_clean html
** building package indices
** installing vignettes
** testing if installed package can be loaded from temporary location
** testing if installed package can be loaded from final location
** testing if installed package keeps a record of temporary installation path
install for x64
* installing *source* package 'XCIR' ...
** testing if installed package can be loaded
* MD5 sums
packaged installation of 'XCIR' as XCIR_1.6.0.zip
* DONE (XCIR)