| Back to Multiple platform build/check report for BioC 3.13 |
|
This page was generated on 2021-10-15 15:06:57 -0400 (Fri, 15 Oct 2021).
|
To the developers/maintainers of the VegaMC package: - Please allow up to 24 hours (and sometimes 48 hours) for your latest push to git@git.bioconductor.org:packages/VegaMC.git to reflect on this report. See How and When does the builder pull? When will my changes propagate? here for more information. - Make sure to use the following settings in order to reproduce any error or warning you see on this page. |
| Package 2002/2041 | Hostname | OS / Arch | INSTALL | BUILD | CHECK | BUILD BIN | ||||||||
| VegaMC 3.30.0 (landing page) Sandro Morganella
| nebbiolo1 | Linux (Ubuntu 20.04.2 LTS) / x86_64 | OK | OK | OK | |||||||||
| tokay2 | Windows Server 2012 R2 Standard / x64 | OK | OK | OK | OK | |||||||||
| machv2 | macOS 10.14.6 Mojave / x86_64 | OK | OK | WARNINGS | OK | |||||||||
| Package: VegaMC |
| Version: 3.30.0 |
| Command: /Library/Frameworks/R.framework/Versions/Current/Resources/bin/R CMD INSTALL VegaMC |
| StartedAt: 2021-10-14 08:47:20 -0400 (Thu, 14 Oct 2021) |
| EndedAt: 2021-10-14 08:48:19 -0400 (Thu, 14 Oct 2021) |
| EllapsedTime: 59.4 seconds |
| RetCode: 0 |
| Status: OK |
##############################################################################
##############################################################################
###
### Running command:
###
### /Library/Frameworks/R.framework/Versions/Current/Resources/bin/R CMD INSTALL VegaMC
###
##############################################################################
##############################################################################
* installing to library ‘/Library/Frameworks/R.framework/Versions/4.1/Resources/library’
* installing *source* package ‘VegaMC’ ...
** using staged installation
** libs
clang -mmacosx-version-min=10.13 -I"/Library/Frameworks/R.framework/Resources/include" -DNDEBUG -I/usr/local/include -fPIC -Wall -g -O2 -c run_vegaMC.c -o run_vegaMC.o
run_vegaMC.c:491:27: warning: expression which evaluates to zero treated as a null pointer constant of type 'char *' [-Wnon-literal-null-conversion]
elem = strtok('\0', sep);
^~~~
run_vegaMC.c:526:27: warning: expression which evaluates to zero treated as a null pointer constant of type 'char *' [-Wnon-literal-null-conversion]
elem = strtok('\0', sep);
^~~~
run_vegaMC.c:618:18: warning: unused variable 'brkt' [-Wunused-variable]
char *elem, *brkt;
^
3 warnings generated.
clang -mmacosx-version-min=10.13 -I"/Library/Frameworks/R.framework/Resources/include" -DNDEBUG -I/usr/local/include -fPIC -Wall -g -O2 -c sort_data.c -o sort_data.o
sort_data.c:131:27: warning: expression which evaluates to zero treated as a null pointer constant of type 'char *' [-Wnon-literal-null-conversion]
elem = strtok('\0', sep);
^~~~
sort_data.c:180:27: warning: expression which evaluates to zero treated as a null pointer constant of type 'char *' [-Wnon-literal-null-conversion]
elem = strtok('\0', sep);
^~~~
2 warnings generated.
clang -mmacosx-version-min=10.13 -I"/Library/Frameworks/R.framework/Resources/include" -DNDEBUG -I/usr/local/include -fPIC -Wall -g -O2 -c vegaMC.c -o vegaMC.o
vegaMC.c:458:23: warning: using integer absolute value function 'abs' when argument is of floating point type [-Wabsolute-value]
lambda_gradient = abs(lambda);
^
vegaMC.c:458:23: note: use function 'fabsf' instead
lambda_gradient = abs(lambda);
^~~
fabsf
1 warning generated.
clang -mmacosx-version-min=10.13 -dynamiclib -Wl,-headerpad_max_install_names -undefined dynamic_lookup -single_module -multiply_defined suppress -L/Library/Frameworks/R.framework/Resources/lib -L/usr/local/lib -o VegaMC.so run_vegaMC.o sort_data.o vegaMC.o -F/Library/Frameworks/R.framework/.. -framework R -Wl,-framework -Wl,CoreFoundation
installing to /Library/Frameworks/R.framework/Versions/4.1/Resources/library/00LOCK-VegaMC/00new/VegaMC/libs
** R
** inst
** byte-compile and prepare package for lazy loading
** help
*** installing help indices
** building package indices
** installing vignettes
** testing if installed package can be loaded from temporary location
** checking absolute paths in shared objects and dynamic libraries
** testing if installed package can be loaded from final location
** testing if installed package keeps a record of temporary installation path
* DONE (VegaMC)