| Back to Multiple platform build/check report for BioC 3.13 | 
 | 
This page was generated on 2021-10-15 15:06:27 -0400 (Fri, 15 Oct 2021).
| To the developers/maintainers of the VaSP package: - Please allow up to 24 hours (and sometimes 48 hours) for your latest push to git@git.bioconductor.org:packages/VaSP.git to reflect on this report. See How and When does the builder pull? When will my changes propagate? here for more information. - Make sure to use the following settings in order to reproduce any error or warning you see on this page. | 
| Package 1999/2041 | Hostname | OS / Arch | INSTALL | BUILD | CHECK | BUILD BIN | ||||||||
| VaSP 1.4.0  (landing page) Huihui Yu 
 | nebbiolo1 | Linux (Ubuntu 20.04.2 LTS) / x86_64 | OK | OK | OK |  | ||||||||
| tokay2 | Windows Server 2012 R2 Standard / x64 | OK | OK | OK | OK |  | ||||||||
| machv2 | macOS 10.14.6 Mojave / x86_64 | OK | OK | OK | OK |  | ||||||||
| Package: VaSP | 
| Version: 1.4.0 | 
| Command: C:\cygwin\bin\curl.exe -O http://155.52.207.165/BBS/3.13/bioc/src/contrib/VaSP_1.4.0.tar.gz && rm -rf VaSP.buildbin-libdir && mkdir VaSP.buildbin-libdir && C:\Users\biocbuild\bbs-3.13-bioc\R\bin\R.exe CMD INSTALL --merge-multiarch --build --library=VaSP.buildbin-libdir VaSP_1.4.0.tar.gz && C:\Users\biocbuild\bbs-3.13-bioc\R\bin\R.exe CMD INSTALL VaSP_1.4.0.zip && rm VaSP_1.4.0.tar.gz VaSP_1.4.0.zip | 
| StartedAt: 2021-10-14 10:41:03 -0400 (Thu, 14 Oct 2021) | 
| EndedAt: 2021-10-14 10:42:15 -0400 (Thu, 14 Oct 2021) | 
| EllapsedTime: 72.1 seconds | 
| RetCode: 0 | 
| Status: OK | 
##############################################################################
##############################################################################
###
### Running command:
###
###   C:\cygwin\bin\curl.exe -O http://155.52.207.165/BBS/3.13/bioc/src/contrib/VaSP_1.4.0.tar.gz && rm -rf VaSP.buildbin-libdir && mkdir VaSP.buildbin-libdir && C:\Users\biocbuild\bbs-3.13-bioc\R\bin\R.exe CMD INSTALL --merge-multiarch --build --library=VaSP.buildbin-libdir VaSP_1.4.0.tar.gz && C:\Users\biocbuild\bbs-3.13-bioc\R\bin\R.exe CMD INSTALL VaSP_1.4.0.zip && rm VaSP_1.4.0.tar.gz VaSP_1.4.0.zip
###
##############################################################################
##############################################################################
  % Total    % Received % Xferd  Average Speed   Time    Time     Time  Current
                                 Dload  Upload   Total   Spent    Left  Speed
  0     0    0     0    0     0      0      0 --:--:-- --:--:-- --:--:--     0
 14 6027k   14  863k    0     0  2016k      0  0:00:02 --:--:--  0:00:02 2017k
 82 6027k   82 4946k    0     0  3482k      0  0:00:01  0:00:01 --:--:-- 3483k
100 6027k  100 6027k    0     0  3745k      0  0:00:01  0:00:01 --:--:-- 3746k
install for i386
* installing *source* package 'VaSP' ...
** using staged installation
** R
** data
** inst
** byte-compile and prepare package for lazy loading
** help
*** installing help indices
  converting help for package 'VaSP'
    finding HTML links ... done
    BMfinder                                html  
    getDepth                                html  
    getGeneinfo                             html  
    rice.bg                                 html  
    spliceGene                              html  
    finding level-2 HTML links ... done
    spliceGenome                            html  
    splicePlot                              html  
** building package indices
** installing vignettes
** testing if installed package can be loaded from temporary location
** testing if installed package can be loaded from final location
** testing if installed package keeps a record of temporary installation path
install for x64
* installing *source* package 'VaSP' ...
** testing if installed package can be loaded
* MD5 sums
packaged installation of 'VaSP' as VaSP_1.4.0.zip
* DONE (VaSP)
* installing to library 'C:/Users/biocbuild/bbs-3.13-bioc/R/library'
package 'VaSP' successfully unpacked and MD5 sums checked