| Back to Multiple platform build/check report for BioC 3.13 |
|
This page was generated on 2021-10-15 15:06:26 -0400 (Fri, 15 Oct 2021).
|
To the developers/maintainers of the TreeAndLeaf package: - Please allow up to 24 hours (and sometimes 48 hours) for your latest push to git@git.bioconductor.org:packages/TreeAndLeaf.git to reflect on this report. See How and When does the builder pull? When will my changes propagate? here for more information. - Make sure to use the following settings in order to reproduce any error or warning you see on this page. |
| Package 1955/2041 | Hostname | OS / Arch | INSTALL | BUILD | CHECK | BUILD BIN | ||||||||
| TreeAndLeaf 1.4.2 (landing page) Milena A. Cardoso
| nebbiolo1 | Linux (Ubuntu 20.04.2 LTS) / x86_64 | OK | OK | OK | |||||||||
| tokay2 | Windows Server 2012 R2 Standard / x64 | OK | OK | OK | OK | |||||||||
| machv2 | macOS 10.14.6 Mojave / x86_64 | OK | OK | OK | OK | |||||||||
| Package: TreeAndLeaf |
| Version: 1.4.2 |
| Command: C:\cygwin\bin\curl.exe -O http://155.52.207.165/BBS/3.13/bioc/src/contrib/TreeAndLeaf_1.4.2.tar.gz && rm -rf TreeAndLeaf.buildbin-libdir && mkdir TreeAndLeaf.buildbin-libdir && C:\Users\biocbuild\bbs-3.13-bioc\R\bin\R.exe CMD INSTALL --merge-multiarch --build --library=TreeAndLeaf.buildbin-libdir TreeAndLeaf_1.4.2.tar.gz && C:\Users\biocbuild\bbs-3.13-bioc\R\bin\R.exe CMD INSTALL TreeAndLeaf_1.4.2.zip && rm TreeAndLeaf_1.4.2.tar.gz TreeAndLeaf_1.4.2.zip |
| StartedAt: 2021-10-14 07:25:21 -0400 (Thu, 14 Oct 2021) |
| EndedAt: 2021-10-14 07:26:10 -0400 (Thu, 14 Oct 2021) |
| EllapsedTime: 49.4 seconds |
| RetCode: 0 |
| Status: OK |
##############################################################################
##############################################################################
###
### Running command:
###
### C:\cygwin\bin\curl.exe -O http://155.52.207.165/BBS/3.13/bioc/src/contrib/TreeAndLeaf_1.4.2.tar.gz && rm -rf TreeAndLeaf.buildbin-libdir && mkdir TreeAndLeaf.buildbin-libdir && C:\Users\biocbuild\bbs-3.13-bioc\R\bin\R.exe CMD INSTALL --merge-multiarch --build --library=TreeAndLeaf.buildbin-libdir TreeAndLeaf_1.4.2.tar.gz && C:\Users\biocbuild\bbs-3.13-bioc\R\bin\R.exe CMD INSTALL TreeAndLeaf_1.4.2.zip && rm TreeAndLeaf_1.4.2.tar.gz TreeAndLeaf_1.4.2.zip
###
##############################################################################
##############################################################################
% Total % Received % Xferd Average Speed Time Time Time Current
Dload Upload Total Spent Left Speed
0 0 0 0 0 0 0 0 --:--:-- --:--:-- --:--:-- 0
80 5776k 80 4665k 0 0 5966k 0 --:--:-- --:--:-- --:--:-- 5966k
100 5776k 100 5776k 0 0 6432k 0 --:--:-- --:--:-- --:--:-- 6432k
install for i386
* installing *source* package 'TreeAndLeaf' ...
** using staged installation
** R
** data
** inst
** byte-compile and prepare package for lazy loading
** help
*** installing help indices
converting help for package 'TreeAndLeaf'
finding HTML links ... done
TreeAndLeaf-package html
formatTree html
phylo_species html
phylo_tree html
spdata html
treeAndLeaf html
REDIRECT:topic Previous alias or file overwritten by alias: C:/Users/biocbuild/bbs-3.13-bioc/meat/TreeAndLeaf.buildbin-libdir/00LOCK-TreeAndLeaf/00new/TreeAndLeaf/help/treeAndLeaf.html
** building package indices
** installing vignettes
** testing if installed package can be loaded from temporary location
** testing if installed package can be loaded from final location
** testing if installed package keeps a record of temporary installation path
install for x64
* installing *source* package 'TreeAndLeaf' ...
** testing if installed package can be loaded
* MD5 sums
packaged installation of 'TreeAndLeaf' as TreeAndLeaf_1.4.2.zip
* DONE (TreeAndLeaf)
* installing to library 'C:/Users/biocbuild/bbs-3.13-bioc/R/library'
package 'TreeAndLeaf' successfully unpacked and MD5 sums checked