Back to Multiple platform build/check report for BioC 3.13 |
|
This page was generated on 2021-10-15 15:06:25 -0400 (Fri, 15 Oct 2021).
To the developers/maintainers of the TnT package: - Please allow up to 24 hours (and sometimes 48 hours) for your latest push to git@git.bioconductor.org:packages/TnT.git to reflect on this report. See How and When does the builder pull? When will my changes propagate? here for more information. - Make sure to use the following settings in order to reproduce any error or warning you see on this page. |
Package 1930/2041 | Hostname | OS / Arch | INSTALL | BUILD | CHECK | BUILD BIN | ||||||||
TnT 1.14.0 (landing page) Jialin Ma
| nebbiolo1 | Linux (Ubuntu 20.04.2 LTS) / x86_64 | OK | OK | OK | ![]() | ||||||||
tokay2 | Windows Server 2012 R2 Standard / x64 | OK | OK | OK | OK | ![]() | ||||||||
machv2 | macOS 10.14.6 Mojave / x86_64 | OK | OK | OK | OK | ![]() | ||||||||
Package: TnT |
Version: 1.14.0 |
Command: C:\cygwin\bin\curl.exe -O http://155.52.207.165/BBS/3.13/bioc/src/contrib/TnT_1.14.0.tar.gz && rm -rf TnT.buildbin-libdir && mkdir TnT.buildbin-libdir && C:\Users\biocbuild\bbs-3.13-bioc\R\bin\R.exe CMD INSTALL --merge-multiarch --build --library=TnT.buildbin-libdir TnT_1.14.0.tar.gz && C:\Users\biocbuild\bbs-3.13-bioc\R\bin\R.exe CMD INSTALL TnT_1.14.0.zip && rm TnT_1.14.0.tar.gz TnT_1.14.0.zip |
StartedAt: 2021-10-14 08:36:47 -0400 (Thu, 14 Oct 2021) |
EndedAt: 2021-10-14 08:37:49 -0400 (Thu, 14 Oct 2021) |
EllapsedTime: 62.0 seconds |
RetCode: 0 |
Status: OK |
############################################################################## ############################################################################## ### ### Running command: ### ### C:\cygwin\bin\curl.exe -O http://155.52.207.165/BBS/3.13/bioc/src/contrib/TnT_1.14.0.tar.gz && rm -rf TnT.buildbin-libdir && mkdir TnT.buildbin-libdir && C:\Users\biocbuild\bbs-3.13-bioc\R\bin\R.exe CMD INSTALL --merge-multiarch --build --library=TnT.buildbin-libdir TnT_1.14.0.tar.gz && C:\Users\biocbuild\bbs-3.13-bioc\R\bin\R.exe CMD INSTALL TnT_1.14.0.zip && rm TnT_1.14.0.tar.gz TnT_1.14.0.zip ### ############################################################################## ############################################################################## % Total % Received % Xferd Average Speed Time Time Time Current Dload Upload Total Spent Left Speed 0 0 0 0 0 0 0 0 --:--:-- --:--:-- --:--:-- 0 100 130k 100 130k 0 0 600k 0 --:--:-- --:--:-- --:--:-- 602k install for i386 * installing *source* package 'TnT' ... ** using staged installation ** R ** inst ** byte-compile and prepare package for lazy loading ** help *** installing help indices converting help for package 'TnT' finding HTML links ... done TnT-shiny html composite-track html knit_print.TnTBoard html mapcol html range-TnTBoard-method html range-TnTTrack html saveTnT html seqinfo html strandlabel html tntboard html REDIRECT:topic Previous alias or file overwritten by alias: C:/Users/biocbuild/bbs-3.13-bioc/meat/TnT.buildbin-libdir/00LOCK-TnT/00new/TnT/help/TnTBoard.html REDIRECT:topic Previous alias or file overwritten by alias: C:/Users/biocbuild/bbs-3.13-bioc/meat/TnT.buildbin-libdir/00LOCK-TnT/00new/TnT/help/TnTGenome.html tooltip html track-constructors html trackSpec html trackWidget html trackdata html REDIRECT:topic Previous alias or file overwritten by alias: C:/Users/biocbuild/bbs-3.13-bioc/meat/TnT.buildbin-libdir/00LOCK-TnT/00new/TnT/help/trackData.html tracklist html ** building package indices ** installing vignettes ** testing if installed package can be loaded from temporary location ** testing if installed package can be loaded from final location ** testing if installed package keeps a record of temporary installation path install for x64 * installing *source* package 'TnT' ... ** testing if installed package can be loaded * MD5 sums packaged installation of 'TnT' as TnT_1.14.0.zip * DONE (TnT) * installing to library 'C:/Users/biocbuild/bbs-3.13-bioc/R/library' package 'TnT' successfully unpacked and MD5 sums checked