| Back to Multiple platform build/check report for BioC 3.13 |
|
This page was generated on 2021-10-15 15:05:55 -0400 (Fri, 15 Oct 2021).
|
To the developers/maintainers of the TimiRGeN package: - Please allow up to 24 hours (and sometimes 48 hours) for your latest push to git@git.bioconductor.org:packages/TimiRGeN.git to reflect on this report. See How and When does the builder pull? When will my changes propagate? here for more information. - Make sure to use the following settings in order to reproduce any error or warning you see on this page. |
| Package 1922/2041 | Hostname | OS / Arch | INSTALL | BUILD | CHECK | BUILD BIN | ||||||||
| TimiRGeN 1.2.0 (landing page) Krutik Patel
| nebbiolo1 | Linux (Ubuntu 20.04.2 LTS) / x86_64 | OK | OK | OK | |||||||||
| tokay2 | Windows Server 2012 R2 Standard / x64 | OK | OK | OK | OK | |||||||||
| machv2 | macOS 10.14.6 Mojave / x86_64 | OK | OK | ERROR | OK | |||||||||
| Package: TimiRGeN |
| Version: 1.2.0 |
| Command: /home/biocbuild/bbs-3.13-bioc/R/bin/R CMD check --install=check:TimiRGeN.install-out.txt --library=/home/biocbuild/bbs-3.13-bioc/R/library --no-vignettes --timings TimiRGeN_1.2.0.tar.gz |
| StartedAt: 2021-10-14 11:52:11 -0400 (Thu, 14 Oct 2021) |
| EndedAt: 2021-10-14 11:58:55 -0400 (Thu, 14 Oct 2021) |
| EllapsedTime: 404.1 seconds |
| RetCode: 0 |
| Status: OK |
| CheckDir: TimiRGeN.Rcheck |
| Warnings: 0 |
##############################################################################
##############################################################################
###
### Running command:
###
### /home/biocbuild/bbs-3.13-bioc/R/bin/R CMD check --install=check:TimiRGeN.install-out.txt --library=/home/biocbuild/bbs-3.13-bioc/R/library --no-vignettes --timings TimiRGeN_1.2.0.tar.gz
###
##############################################################################
##############################################################################
* using log directory ‘/home/biocbuild/bbs-3.13-bioc/meat/TimiRGeN.Rcheck’
* using R version 4.1.1 (2021-08-10)
* using platform: x86_64-pc-linux-gnu (64-bit)
* using session charset: UTF-8
* using option ‘--no-vignettes’
* checking for file ‘TimiRGeN/DESCRIPTION’ ... OK
* checking extension type ... Package
* this is package ‘TimiRGeN’ version ‘1.2.0’
* package encoding: UTF-8
* checking package namespace information ... OK
* checking package dependencies ... OK
* checking if this is a source package ... OK
* checking if there is a namespace ... OK
* checking for hidden files and directories ... OK
* checking for portable file names ... OK
* checking for sufficient/correct file permissions ... OK
* checking whether package ‘TimiRGeN’ can be installed ... OK
* checking installed package size ... OK
* checking package directory ... OK
* checking ‘build’ directory ... OK
* checking DESCRIPTION meta-information ... OK
* checking top-level files ... OK
* checking for left-over files ... OK
* checking index information ... OK
* checking package subdirectories ... OK
* checking R files for non-ASCII characters ... OK
* checking R files for syntax errors ... OK
* checking whether the package can be loaded ... OK
* checking whether the package can be loaded with stated dependencies ... OK
* checking whether the package can be unloaded cleanly ... OK
* checking whether the namespace can be loaded with stated dependencies ... OK
* checking whether the namespace can be unloaded cleanly ... OK
* checking dependencies in R code ... OK
* checking S3 generic/method consistency ... OK
* checking replacement functions ... OK
* checking foreign function calls ... OK
* checking R code for possible problems ... OK
* checking Rd files ... OK
* checking Rd metadata ... OK
* checking Rd cross-references ... OK
* checking for missing documentation entries ... OK
* checking for code/documentation mismatches ... OK
* checking Rd \usage sections ... OK
* checking Rd contents ... OK
* checking for unstated dependencies in examples ... OK
* checking contents of ‘data’ directory ... OK
* checking data for non-ASCII characters ... NOTE
Note: found 3 marked UTF-8 strings
* checking LazyData ... OK
* checking data for ASCII and uncompressed saves ... OK
* checking files in ‘vignettes’ ... OK
* checking examples ... OK
Examples with CPU (user + system) or elapsed time > 5s
user system elapsed
wikiMrna 6.743 0.743 10.554
clusterList 5.767 0.753 7.533
quickTCPred 4.733 0.556 6.149
quickHClust 4.512 0.564 6.049
linearRegr 4.535 0.478 5.977
quickPathwayTC 4.238 0.621 5.687
quickReg 4.213 0.596 5.760
quickDendro 4.172 0.591 5.748
quickDMap 4.227 0.513 5.585
addIds 4.207 0.509 6.214
quickTC 4.137 0.566 5.516
multiReg 4.097 0.540 5.491
quickCrossCorr 4.071 0.436 5.435
makeDynamic 3.973 0.522 5.395
makeMapp 3.914 0.414 5.290
diffExpressRes 3.704 0.419 5.135
* checking for unstated dependencies in ‘tests’ ... OK
* checking tests ...
Running ‘testthat.R’
OK
* checking for unstated dependencies in vignettes ... OK
* checking package vignettes in ‘inst/doc’ ... OK
* checking running R code from vignettes ... SKIPPED
* checking re-building of vignette outputs ... SKIPPED
* checking PDF version of manual ... OK
* DONE
Status: 1 NOTE
See
‘/home/biocbuild/bbs-3.13-bioc/meat/TimiRGeN.Rcheck/00check.log’
for details.
TimiRGeN.Rcheck/00install.out
############################################################################## ############################################################################## ### ### Running command: ### ### /home/biocbuild/bbs-3.13-bioc/R/bin/R CMD INSTALL TimiRGeN ### ############################################################################## ############################################################################## * installing to library ‘/home/biocbuild/bbs-3.13-bioc/R/library’ * installing *source* package ‘TimiRGeN’ ... ** using staged installation ** R ** data *** moving datasets to lazyload DB ** inst ** byte-compile and prepare package for lazy loading ** help *** installing help indices ** building package indices ** installing vignettes ** testing if installed package can be loaded from temporary location ** testing if installed package can be loaded from final location ** testing if installed package keeps a record of temporary installation path * DONE (TimiRGeN)
TimiRGeN.Rcheck/tests/testthat.Rout
R version 4.1.1 (2021-08-10) -- "Kick Things"
Copyright (C) 2021 The R Foundation for Statistical Computing
Platform: x86_64-pc-linux-gnu (64-bit)
R is free software and comes with ABSOLUTELY NO WARRANTY.
You are welcome to redistribute it under certain conditions.
Type 'license()' or 'licence()' for distribution details.
R is a collaborative project with many contributors.
Type 'contributors()' for more information and
'citation()' on how to cite R or R packages in publications.
Type 'demo()' for some demos, 'help()' for on-line help, or
'help.start()' for an HTML browser interface to help.
Type 'q()' to quit R.
> #unit test check
> library(testthat)
> library(TimiRGeN)
Loading required package: Mfuzz
Loading required package: Biobase
Loading required package: BiocGenerics
Loading required package: parallel
Attaching package: 'BiocGenerics'
The following objects are masked from 'package:parallel':
clusterApply, clusterApplyLB, clusterCall, clusterEvalQ,
clusterExport, clusterMap, parApply, parCapply, parLapply,
parLapplyLB, parRapply, parSapply, parSapplyLB
The following objects are masked from 'package:stats':
IQR, mad, sd, var, xtabs
The following objects are masked from 'package:base':
Filter, Find, Map, Position, Reduce, anyDuplicated, append,
as.data.frame, basename, cbind, colnames, dirname, do.call,
duplicated, eval, evalq, get, grep, grepl, intersect, is.unsorted,
lapply, mapply, match, mget, order, paste, pmax, pmax.int, pmin,
pmin.int, rank, rbind, rownames, sapply, setdiff, sort, table,
tapply, union, unique, unsplit, which.max, which.min
Welcome to Bioconductor
Vignettes contain introductory material; view with
'browseVignettes()'. To cite Bioconductor, see
'citation("Biobase")', and for packages 'citation("pkgname")'.
Loading required package: e1071
Attaching package: 'DynDoc'
The following object is masked from 'package:BiocGenerics':
path
Loading required package: MultiAssayExperiment
Loading required package: SummarizedExperiment
Loading required package: MatrixGenerics
Loading required package: matrixStats
Attaching package: 'matrixStats'
The following objects are masked from 'package:Biobase':
anyMissing, rowMedians
Attaching package: 'MatrixGenerics'
The following objects are masked from 'package:matrixStats':
colAlls, colAnyNAs, colAnys, colAvgsPerRowSet, colCollapse,
colCounts, colCummaxs, colCummins, colCumprods, colCumsums,
colDiffs, colIQRDiffs, colIQRs, colLogSumExps, colMadDiffs,
colMads, colMaxs, colMeans2, colMedians, colMins, colOrderStats,
colProds, colQuantiles, colRanges, colRanks, colSdDiffs, colSds,
colSums2, colTabulates, colVarDiffs, colVars, colWeightedMads,
colWeightedMeans, colWeightedMedians, colWeightedSds,
colWeightedVars, rowAlls, rowAnyNAs, rowAnys, rowAvgsPerColSet,
rowCollapse, rowCounts, rowCummaxs, rowCummins, rowCumprods,
rowCumsums, rowDiffs, rowIQRDiffs, rowIQRs, rowLogSumExps,
rowMadDiffs, rowMads, rowMaxs, rowMeans2, rowMedians, rowMins,
rowOrderStats, rowProds, rowQuantiles, rowRanges, rowRanks,
rowSdDiffs, rowSds, rowSums2, rowTabulates, rowVarDiffs, rowVars,
rowWeightedMads, rowWeightedMeans, rowWeightedMedians,
rowWeightedSds, rowWeightedVars
The following object is masked from 'package:Biobase':
rowMedians
Loading required package: GenomicRanges
Loading required package: stats4
Loading required package: S4Vectors
Attaching package: 'S4Vectors'
The following objects are masked from 'package:base':
I, expand.grid, unname
Loading required package: IRanges
Loading required package: GenomeInfoDb
> test_check(package = "TimiRGeN")
[ FAIL 0 | WARN 139 | SKIP 0 | PASS 125 ]
>
> proc.time()
user system elapsed
28.485 2.123 32.577
TimiRGeN.Rcheck/TimiRGeN-Ex.timings
| name | user | system | elapsed | |
| UUO_data | 0.006 | 0.000 | 0.007 | |
| addIds | 4.207 | 0.509 | 6.214 | |
| addPrefix | 0.510 | 0.061 | 0.560 | |
| clusterCheck | 0.808 | 0.204 | 1.623 | |
| clusterList | 5.767 | 0.753 | 7.533 | |
| combineGenes | 0.390 | 0.035 | 0.417 | |
| createClusters | 0.747 | 0.159 | 1.315 | |
| createClusters2 | 0.673 | 0.123 | 0.775 | |
| cytoMake | 0.001 | 0.000 | 0.000 | |
| diffExpressRes | 3.704 | 0.419 | 5.135 | |
| dloadGmt | 1.229 | 0.172 | 2.506 | |
| dloadMirdb | 0.001 | 0.000 | 0.000 | |
| dloadMirtarbase | 0.300 | 0.024 | 0.320 | |
| dloadTargetscan | 0.000 | 0.000 | 0.001 | |
| eNames | 3.653 | 0.365 | 4.908 | |
| e_list_mouse | 0.000 | 0.002 | 0.002 | |
| enrichWiki | 2.690 | 0.384 | 3.489 | |
| genesList | 0.725 | 0.079 | 0.789 | |
| getIdsMir | 0.822 | 0.080 | 0.892 | |
| getIdsMrna | 3.008 | 0.342 | 4.294 | |
| gmtEnsembl | 1.387 | 0.173 | 1.951 | |
| hs_mRNA | 0.002 | 0.000 | 0.002 | |
| hs_miR | 0.001 | 0.000 | 0.001 | |
| hs_probes | 0.000 | 0.001 | 0.001 | |
| linearRegr | 4.535 | 0.478 | 5.977 | |
| long_data | 0.005 | 0.000 | 0.005 | |
| makeDynamic | 3.973 | 0.522 | 5.395 | |
| makeMapp | 3.914 | 0.414 | 5.290 | |
| makeNet | 0.072 | 0.003 | 0.075 | |
| matrixFilter | 0.212 | 0.049 | 0.258 | |
| miRTarBase | 0.000 | 0.002 | 0.002 | |
| mirMrnaInt | 0.245 | 0.046 | 0.287 | |
| mm_mRNA | 0.002 | 0.000 | 0.002 | |
| mm_miR | 0.002 | 0.000 | 0.002 | |
| multiReg | 4.097 | 0.540 | 5.491 | |
| quickBar | 1.854 | 0.230 | 2.501 | |
| quickCrossCorr | 4.071 | 0.436 | 5.435 | |
| quickDMap | 4.227 | 0.513 | 5.585 | |
| quickDendro | 4.172 | 0.591 | 5.748 | |
| quickFuzz | 0.872 | 0.091 | 1.283 | |
| quickHClust | 4.512 | 0.564 | 6.049 | |
| quickMap | 0.264 | 0.052 | 0.312 | |
| quickNet | 0.121 | 0.024 | 0.143 | |
| quickPathwayTC | 4.238 | 0.621 | 5.687 | |
| quickReg | 4.213 | 0.596 | 5.760 | |
| quickTC | 4.137 | 0.566 | 5.516 | |
| quickTCPred | 4.733 | 0.556 | 6.149 | |
| reduceWiki | 0.845 | 0.109 | 1.017 | |
| returnCluster | 1.846 | 0.186 | 3.684 | |
| significantVals | 0.793 | 0.138 | 1.842 | |
| startObject | 0.280 | 0.016 | 0.553 | |
| turnPercent | 0.905 | 0.096 | 1.726 | |
| w_list_mouse | 0.003 | 0.000 | 0.003 | |
| wikiMatrix | 0.540 | 0.106 | 1.272 | |
| wikiMrna | 6.743 | 0.743 | 10.554 | |