| Back to Multiple platform build/check report for BioC 3.13 | 
 | 
This page was generated on 2021-10-15 15:06:25 -0400 (Fri, 15 Oct 2021).
| To the developers/maintainers of the TNBC.CMS package: - Please allow up to 24 hours (and sometimes 48 hours) for your latest push to git@git.bioconductor.org:packages/TNBC.CMS.git to reflect on this report. See How and When does the builder pull? When will my changes propagate? here for more information. - Make sure to use the following settings in order to reproduce any error or warning you see on this page. | 
| Package 1929/2041 | Hostname | OS / Arch | INSTALL | BUILD | CHECK | BUILD BIN | ||||||||
| TNBC.CMS 1.8.0  (landing page) Doyeong Yu 
 | nebbiolo1 | Linux (Ubuntu 20.04.2 LTS) / x86_64 | OK | OK | OK |  | ||||||||
| tokay2 | Windows Server 2012 R2 Standard / x64 | OK | OK | OK | OK |  | ||||||||
| machv2 | macOS 10.14.6 Mojave / x86_64 | OK | OK | OK | OK |  | ||||||||
| Package: TNBC.CMS | 
| Version: 1.8.0 | 
| Command: rm -rf TNBC.CMS.buildbin-libdir && mkdir TNBC.CMS.buildbin-libdir && C:\Users\biocbuild\bbs-3.13-bioc\R\bin\R.exe CMD INSTALL --merge-multiarch --build --library=TNBC.CMS.buildbin-libdir TNBC.CMS_1.8.0.tar.gz | 
| StartedAt: 2021-10-15 12:12:58 -0400 (Fri, 15 Oct 2021) | 
| EndedAt: 2021-10-15 12:14:30 -0400 (Fri, 15 Oct 2021) | 
| EllapsedTime: 92.0 seconds | 
| RetCode: 0 | 
| Status: OK | 
| PackageFile: TNBC.CMS_1.8.0.zip | 
| PackageFileSize: 3.117 MiB | 
##############################################################################
##############################################################################
###
### Running command:
###
###   rm -rf TNBC.CMS.buildbin-libdir && mkdir TNBC.CMS.buildbin-libdir && C:\Users\biocbuild\bbs-3.13-bioc\R\bin\R.exe CMD INSTALL --merge-multiarch --build --library=TNBC.CMS.buildbin-libdir TNBC.CMS_1.8.0.tar.gz
###
##############################################################################
##############################################################################
install for i386
* installing *source* package 'TNBC.CMS' ...
** using staged installation
** R
** data
** inst
** byte-compile and prepare package for lazy loading
** help
*** installing help indices
  converting help for package 'TNBC.CMS'
    finding HTML links ... done
    GSE25055                                html  
    computeDS                               html  
    computeESTIMATEscore                    html  
    computeGES                              html  
    computexCellScore                       html  
    performGSVA                             html  
    plotHR                                  html  
    plotKM                                  html  
    predictCMS                              html  
** building package indices
** installing vignettes
** testing if installed package can be loaded from temporary location
** testing if installed package can be loaded from final location
** testing if installed package keeps a record of temporary installation path
install for x64
* installing *source* package 'TNBC.CMS' ...
** testing if installed package can be loaded
* MD5 sums
packaged installation of 'TNBC.CMS' as TNBC.CMS_1.8.0.zip
* DONE (TNBC.CMS)