| Back to Multiple platform build/check report for BioC 3.13 |
|
This page was generated on 2021-10-15 15:06:56 -0400 (Fri, 15 Oct 2021).
|
To the developers/maintainers of the TIN package: - Please allow up to 24 hours (and sometimes 48 hours) for your latest push to git@git.bioconductor.org:packages/TIN.git to reflect on this report. See How and When does the builder pull? When will my changes propagate? here for more information. - Make sure to use the following settings in order to reproduce any error or warning you see on this page. |
| Package 1923/2041 | Hostname | OS / Arch | INSTALL | BUILD | CHECK | BUILD BIN | ||||||||
| TIN 1.24.0 (landing page) Bjarne Johannessen
| nebbiolo1 | Linux (Ubuntu 20.04.2 LTS) / x86_64 | OK | OK | OK | |||||||||
| tokay2 | Windows Server 2012 R2 Standard / x64 | OK | OK | OK | OK | |||||||||
| machv2 | macOS 10.14.6 Mojave / x86_64 | OK | OK | OK | OK | |||||||||
| Package: TIN |
| Version: 1.24.0 |
| Command: /Library/Frameworks/R.framework/Versions/Current/Resources/bin/R CMD INSTALL TIN |
| StartedAt: 2021-10-14 09:20:56 -0400 (Thu, 14 Oct 2021) |
| EndedAt: 2021-10-14 09:21:36 -0400 (Thu, 14 Oct 2021) |
| EllapsedTime: 40.4 seconds |
| RetCode: 0 |
| Status: OK |
##############################################################################
##############################################################################
###
### Running command:
###
### /Library/Frameworks/R.framework/Versions/Current/Resources/bin/R CMD INSTALL TIN
###
##############################################################################
##############################################################################
* installing to library ‘/Library/Frameworks/R.framework/Versions/4.1/Resources/library’
* installing *source* package ‘TIN’ ...
** using staged installation
** R
** data
** inst
** byte-compile and prepare package for lazy loading
The following object is masked _by_ package:aroma.affymetrix:
writeCdf
The following object is masked from package:R.utils:
findFiles
** help
*** installing help indices
** building package indices
** installing vignettes
** testing if installed package can be loaded from temporary location
The following object is masked _by_ package:aroma.affymetrix:
writeCdf
The following object is masked from package:R.utils:
findFiles
** testing if installed package can be loaded from final location
The following object is masked _by_ package:aroma.affymetrix:
writeCdf
The following object is masked from package:R.utils:
findFiles
** testing if installed package keeps a record of temporary installation path
* DONE (TIN)