| Back to Multiple platform build/check report for BioC 3.13 |
|
This page was generated on 2021-10-15 15:06:25 -0400 (Fri, 15 Oct 2021).
|
To the developers/maintainers of the TFARM package: - Please allow up to 24 hours (and sometimes 48 hours) for your latest push to git@git.bioconductor.org:packages/TFARM.git to reflect on this report. See How and When does the builder pull? When will my changes propagate? here for more information. - Make sure to use the following settings in order to reproduce any error or warning you see on this page. |
| Package 1907/2041 | Hostname | OS / Arch | INSTALL | BUILD | CHECK | BUILD BIN | ||||||||
| TFARM 1.14.0 (landing page) Liuba Nausicaa Martino
| nebbiolo1 | Linux (Ubuntu 20.04.2 LTS) / x86_64 | OK | OK | OK | |||||||||
| tokay2 | Windows Server 2012 R2 Standard / x64 | OK | OK | OK | OK | |||||||||
| machv2 | macOS 10.14.6 Mojave / x86_64 | OK | OK | OK | OK | |||||||||
| Package: TFARM |
| Version: 1.14.0 |
| Command: rm -rf TFARM.buildbin-libdir && mkdir TFARM.buildbin-libdir && C:\Users\biocbuild\bbs-3.13-bioc\R\bin\R.exe CMD INSTALL --merge-multiarch --build --library=TFARM.buildbin-libdir TFARM_1.14.0.tar.gz |
| StartedAt: 2021-10-15 12:09:50 -0400 (Fri, 15 Oct 2021) |
| EndedAt: 2021-10-15 12:11:36 -0400 (Fri, 15 Oct 2021) |
| EllapsedTime: 105.6 seconds |
| RetCode: 0 |
| Status: OK |
| PackageFile: TFARM_1.14.0.zip |
| PackageFileSize: 527.2 KiB |
##############################################################################
##############################################################################
###
### Running command:
###
### rm -rf TFARM.buildbin-libdir && mkdir TFARM.buildbin-libdir && C:\Users\biocbuild\bbs-3.13-bioc\R\bin\R.exe CMD INSTALL --merge-multiarch --build --library=TFARM.buildbin-libdir TFARM_1.14.0.tar.gz
###
##############################################################################
##############################################################################
install for i386
* installing *source* package 'TFARM' ...
** using staged installation
** R
** data
*** moving datasets to lazyload DB
** inst
** byte-compile and prepare package for lazy loading
** help
*** installing help indices
converting help for package 'TFARM'
finding HTML links ... done
DELTA html
IComp html
IMP html
IMP_Z html
IPCA html
I_c_2 html
MCF7_chr1 html
TF_Imp html
distribViz html
heatI html
imp_FOSL2 html
items html
itemset html
p_TFs html
presAbs html
r_FOSL2 html
r_TEAD4 html
r_noFOSL2 html
rulesGen html
rulesTF html
rulesTF0 html
search_rule html
** building package indices
** installing vignettes
** testing if installed package can be loaded from temporary location
** testing if installed package can be loaded from final location
** testing if installed package keeps a record of temporary installation path
install for x64
* installing *source* package 'TFARM' ...
** testing if installed package can be loaded
* MD5 sums
packaged installation of 'TFARM' as TFARM_1.14.0.zip
* DONE (TFARM)