| Back to Multiple platform build/check report for BioC 3.13 |
|
This page was generated on 2021-10-15 15:06:25 -0400 (Fri, 15 Oct 2021).
|
To the developers/maintainers of the TEQC package: - Please allow up to 24 hours (and sometimes 48 hours) for your latest push to git@git.bioconductor.org:packages/TEQC.git to reflect on this report. See How and When does the builder pull? When will my changes propagate? here for more information. - Make sure to use the following settings in order to reproduce any error or warning you see on this page. |
| Package 1905/2041 | Hostname | OS / Arch | INSTALL | BUILD | CHECK | BUILD BIN | ||||||||
| TEQC 4.14.0 (landing page) Sarah Bonnin
| nebbiolo1 | Linux (Ubuntu 20.04.2 LTS) / x86_64 | OK | OK | WARNINGS | |||||||||
| tokay2 | Windows Server 2012 R2 Standard / x64 | OK | OK | WARNINGS | OK | |||||||||
| machv2 | macOS 10.14.6 Mojave / x86_64 | OK | OK | WARNINGS | OK | |||||||||
| Package: TEQC |
| Version: 4.14.0 |
| Command: rm -rf TEQC.buildbin-libdir && mkdir TEQC.buildbin-libdir && C:\Users\biocbuild\bbs-3.13-bioc\R\bin\R.exe CMD INSTALL --merge-multiarch --build --library=TEQC.buildbin-libdir TEQC_4.14.0.tar.gz |
| StartedAt: 2021-10-15 12:09:34 -0400 (Fri, 15 Oct 2021) |
| EndedAt: 2021-10-15 12:11:20 -0400 (Fri, 15 Oct 2021) |
| EllapsedTime: 105.7 seconds |
| RetCode: 0 |
| Status: OK |
| PackageFile: TEQC_4.14.0.zip |
| PackageFileSize: 759.7 KiB |
##############################################################################
##############################################################################
###
### Running command:
###
### rm -rf TEQC.buildbin-libdir && mkdir TEQC.buildbin-libdir && C:\Users\biocbuild\bbs-3.13-bioc\R\bin\R.exe CMD INSTALL --merge-multiarch --build --library=TEQC.buildbin-libdir TEQC_4.14.0.tar.gz
###
##############################################################################
##############################################################################
install for i386
* installing *source* package 'TEQC' ...
** using staged installation
** R
** inst
** byte-compile and prepare package for lazy loading
** help
*** installing help indices
converting help for package 'TEQC'
finding HTML links ... done
TEQCreport html
chrom.barplot html
coverage.GC html
coverage.correlation html
coverage.density html
coverage.hist html
coverage.plot html
coverage.target html
coverage.targetlength.plot html
coverage.uniformity html
covered.k html
duplicates.barplot html
fraction.reads.target html
fraction.target html
get.baits html
get.reads html
get.targets html
insert.size.hist html
make.wigfiles html
multiTEQCreport html
reads2pairs html
readsPerTarget html
** building package indices
** installing vignettes
** testing if installed package can be loaded from temporary location
** testing if installed package can be loaded from final location
** testing if installed package keeps a record of temporary installation path
install for x64
* installing *source* package 'TEQC' ...
** testing if installed package can be loaded
* MD5 sums
packaged installation of 'TEQC' as TEQC_4.14.0.zip
* DONE (TEQC)