| Back to Multiple platform build/check report for BioC 3.13 | 
 | 
This page was generated on 2021-10-15 15:06:25 -0400 (Fri, 15 Oct 2021).
| To the developers/maintainers of the TCC package: - Please allow up to 24 hours (and sometimes 48 hours) for your latest push to git@git.bioconductor.org:packages/TCC.git to reflect on this report. See How and When does the builder pull? When will my changes propagate? here for more information. - Make sure to use the following settings in order to reproduce any error or warning you see on this page. | 
| Package 1898/2041 | Hostname | OS / Arch | INSTALL | BUILD | CHECK | BUILD BIN | ||||||||
| TCC 1.32.0  (landing page) Jianqiang Sun 
 | nebbiolo1 | Linux (Ubuntu 20.04.2 LTS) / x86_64 | OK | OK | OK |  | ||||||||
| tokay2 | Windows Server 2012 R2 Standard / x64 | OK | OK | OK | OK |  | ||||||||
| machv2 | macOS 10.14.6 Mojave / x86_64 | OK | OK | OK | OK |  | ||||||||
| Package: TCC | 
| Version: 1.32.0 | 
| Command: rm -rf TCC.buildbin-libdir && mkdir TCC.buildbin-libdir && C:\Users\biocbuild\bbs-3.13-bioc\R\bin\R.exe CMD INSTALL --merge-multiarch --build --library=TCC.buildbin-libdir TCC_1.32.0.tar.gz | 
| StartedAt: 2021-10-15 12:08:34 -0400 (Fri, 15 Oct 2021) | 
| EndedAt: 2021-10-15 12:10:07 -0400 (Fri, 15 Oct 2021) | 
| EllapsedTime: 93.0 seconds | 
| RetCode: 0 | 
| Status: OK | 
| PackageFile: TCC_1.32.0.zip | 
| PackageFileSize: 1.869 MiB | 
##############################################################################
##############################################################################
###
### Running command:
###
###   rm -rf TCC.buildbin-libdir && mkdir TCC.buildbin-libdir && C:\Users\biocbuild\bbs-3.13-bioc\R\bin\R.exe CMD INSTALL --merge-multiarch --build --library=TCC.buildbin-libdir TCC_1.32.0.tar.gz
###
##############################################################################
##############################################################################
install for i386
* installing *source* package 'TCC' ...
** using staged installation
** R
** data
** inst
** byte-compile and prepare package for lazy loading
Creating a new generic function for 'calcNormFactors' in package 'TCC'
** help
*** installing help indices
  converting help for package 'TCC'
    finding HTML links ... done
    ROKU                                    html  
    TCC-class                               html  
    TCC                                     html  
    WAD                                     html  
    arab                                    html  
    calcAUCValue                            html  
    calcNormFactors                         html  
    clusterSample                           html  
    estimateDE                              html  
    filterLowCountGenes                     html  
    getNormalizedData                       html  
    getResult                               html  
    hypoData                                html  
    hypoData_mg                             html  
    hypoData_ts                             html  
    makeFCMatrix                            html  
    nakai                                   html  
    plot.TCC                                html  
    plotFCPseudocolor                       html  
    simulateReadCounts                      html  
** building package indices
** installing vignettes
** testing if installed package can be loaded from temporary location
** testing if installed package can be loaded from final location
** testing if installed package keeps a record of temporary installation path
install for x64
* installing *source* package 'TCC' ...
** testing if installed package can be loaded
* MD5 sums
packaged installation of 'TCC' as TCC_1.32.0.zip
* DONE (TCC)