Back to Multiple platform build/check report for BioC 3.13 |
|
This page was generated on 2021-10-15 15:06:25 -0400 (Fri, 15 Oct 2021).
To the developers/maintainers of the TAPseq package: - Please allow up to 24 hours (and sometimes 48 hours) for your latest push to git@git.bioconductor.org:packages/TAPseq.git to reflect on this report. See How and When does the builder pull? When will my changes propagate? here for more information. - Make sure to use the following settings in order to reproduce any error or warning you see on this page. |
Package 1892/2041 | Hostname | OS / Arch | INSTALL | BUILD | CHECK | BUILD BIN | ||||||||
TAPseq 1.4.0 (landing page) Andreas Gschwind
| nebbiolo1 | Linux (Ubuntu 20.04.2 LTS) / x86_64 | OK | OK | WARNINGS | ![]() | ||||||||
tokay2 | Windows Server 2012 R2 Standard / x64 | OK | OK | WARNINGS | OK | ![]() | ||||||||
machv2 | macOS 10.14.6 Mojave / x86_64 | OK | OK | WARNINGS | OK | ![]() | ||||||||
Package: TAPseq |
Version: 1.4.0 |
Command: rm -rf TAPseq.buildbin-libdir && mkdir TAPseq.buildbin-libdir && C:\Users\biocbuild\bbs-3.13-bioc\R\bin\R.exe CMD INSTALL --merge-multiarch --build --library=TAPseq.buildbin-libdir TAPseq_1.4.0.tar.gz |
StartedAt: 2021-10-15 12:07:45 -0400 (Fri, 15 Oct 2021) |
EndedAt: 2021-10-15 12:09:17 -0400 (Fri, 15 Oct 2021) |
EllapsedTime: 92.2 seconds |
RetCode: 0 |
Status: OK |
PackageFile: TAPseq_1.4.0.zip |
PackageFileSize: 2.611 MiB |
############################################################################## ############################################################################## ### ### Running command: ### ### rm -rf TAPseq.buildbin-libdir && mkdir TAPseq.buildbin-libdir && C:\Users\biocbuild\bbs-3.13-bioc\R\bin\R.exe CMD INSTALL --merge-multiarch --build --library=TAPseq.buildbin-libdir TAPseq_1.4.0.tar.gz ### ############################################################################## ############################################################################## install for i386 * installing *source* package 'TAPseq' ... ** using staged installation ** R ** data ** inst ** byte-compile and prepare package for lazy loading ** help *** installing help indices converting help for package 'TAPseq' finding HTML links ... done TAPseq html TAPseqInput html TsIO-class html TsIOList-class html accessors html bone_marrow_genex html checkPrimers html check_tool_installation html chr11_genes html chr11_polyA_sites html chr11_primers html chr11_truncated_txs html chr11_truncated_txs_seq html createIORecord html designPrimers html estimateOffTargets html exportPrimers html getTxsSeq html get_gt_sequences html inferPolyASites html parsePrimer3Output html pickPrimers html selectTargetGenes html truncateTxsPolyA html ** building package indices ** installing vignettes ** testing if installed package can be loaded from temporary location Warning: Following software required by TAPseq is not installed or not in PATH: primer3_core makeblastdb blastn Please install these tools before trying to use this package! ** testing if installed package can be loaded from final location Warning: Following software required by TAPseq is not installed or not in PATH: primer3_core makeblastdb blastn Please install these tools before trying to use this package! ** testing if installed package keeps a record of temporary installation path install for x64 * installing *source* package 'TAPseq' ... ** testing if installed package can be loaded Warning: Following software required by TAPseq is not installed or not in PATH: primer3_core makeblastdb blastn Please install these tools before trying to use this package! * MD5 sums packaged installation of 'TAPseq' as TAPseq_1.4.0.zip * DONE (TAPseq)